Workbook

Sheet annual site EUI clean
A1: Status | B1: Evanston Building ID | C1: CBL Address Line 1 | D1: National Median Site EUI (kBtu/ft²) | E1: Site EUI (kBtu/ft²) | F1: Weather Normalized Site EUI (kBtu/ft²) | G1: Direct GHG Emissions (Metric Tons CO2e) | H1: Total (Location-Based) GHG Emissions (Metric Tons CO2e) | I1: Total GHG Emissions | J1: Total GHG Emissions Intensity | K1: Property GFA - Calculated (Buildings and Parking) (ft²) | L1: Property GFA - Calculated (Buildings) (ft²) | M1: Property GFA - Self-Reported (ft²) | N1: Building Size GFA | O1: Electricity Use - Grid Purchase and Generated from Onsite Renewable Systems (kWh) | P1: Natural Gas Use (kBtu) | Q1: Natural Gas Use (therms) | R1: Electricity Use - Grid Purchase and Generated from Onsite Renewable Systems (kBtu) | S1: Largest Property Use Type | T1: National Median Reference Property Type | U1: Building Type | V1: Year Built | W1: Year | X1: Property Type Selected | Y1: Suggested ESPM Broad Category | Z1: Site EUI Final for Analysis | AA1: Site EUI Imputation Method | AB1: Site EUI Median from Other Available Years | AC1: Site EUI Average from Other Available Years | AD1: Years Used for Other-Year Imputation | AE1: q1 | AF1: q3 | AG1: interquartile | AH1: lower site EUI outlier threshold | AI1: upper site EUI outlier threshold | AJ1: is site EUI outlier
A2: In Compliance | B2: 108094 | D2: 88.4 | E2: 81 | K2: 55000 | L2: 55000 | M2: 55000 | O2: 115812.4 | Q2: 40593.32 | S2: Multifamily Housing | T2: Fannie Mae Industry Survey - Multifamily | U2: Type 2 | V2: 1913 | W2: 2021 | X2: Multifamily Housing | Y2: Lodging/residential | Z2: 81 | AA2: Original Site EUI available | AE2: 54.4 | AF2: 85.35 | AG2: 30.95 | AH2: 7.97 | AI2: 131.78 | AJ2: FALSE
A3: In Compliance | B3: 103799 | D3: 77.6 | E3: 99.1 | F3: 111.6 | K3: 82248 | L3: 82248 | M3: 82248 | O3: 248332 | Q3: 73058.4 | S3: K-12 School | T3: CBECS - Elementary/Middle & High School | U3: Type 2 | V3: 1922 | W3: 2021 | X3: K-12 School | Y3: Education | Z3: 99.1 | AA3: Original Site EUI available | AE3: 49.2 | AF3: 68.45 | AG3: 19.25 | AH3: 20.33 | AI3: 97.32 | AJ3: TRUE
A4: In Compliance | B4: 100707 | D4: 297.4 | E4: 298 | F4: 308.8 | K4: 103131 | L4: 53471 | M4: 53471 | O4: 2411725 | Q4: 77041.68 | S4: Supermarket/Grocery Store | T4: CBECS - Grocery Store/Food Market | U4: Type 2 | V4: 2015 | W4: 2021 | X4: Supermarket/Grocery Store | Y4: Food sales and service | Z4: 298 | AA4: Original Site EUI available | AE4: 211.25 | AF4: 320.4 | AG4: 109.15 | AH4: 47.53 | AI4: 484.12 | AJ4: FALSE
A5: In Compliance | B5: 106516 | D5: 421.6 | E5: 435.2 | F5: 450.1 | K5: 60139 | L5: 32014 | M5: 32014 | O5: 2111508 | Q5: 67274.53 | S5: Supermarket/Grocery Store | T5: CBECS - Grocery Store/Food Market | U5: Type 3 | V5: 1997 | W5: 2021 | X5: Supermarket/Grocery Store | Y5: Food sales and service | Z5: 435.2 | AA5: Original Site EUI available | AE5: 211.25 | AF5: 320.4 | AG5: 109.15 | AH5: 47.53 | AI5: 484.12 | AJ5: FALSE
A6: In Compliance | B6: 100191 | D6: 85.5 | E6: 67 | F6: 71.8 | K6: 537173 | L6: 359252 | M6: 359252 | O6: 2276498 | Q6: 163036.77 | S6: Multifamily Housing | T6: Fannie Mae Industry Survey - Multifamily | U6: Type 1 | V6: 2003 | W6: 2021 | X6: Multifamily Housing | Y6: Lodging/residential | Z6: 67 | AA6: Original Site EUI available | AE6: 54.4 | AF6: 85.35 | AG6: 30.95 | AH6: 7.97 | AI6: 131.78 | AJ6: FALSE
A7: In Compliance | B7: 100855 | D7: 69.9 | E7: 93.9 | F7: 95.4 | K7: 204068 | L7: 179233 | M7: 179233 | O7: 2033141 | Q7: 98963.35 | S7: Multifamily Housing | T7: Fannie Mae Industry Survey - Multifamily | U7: Type 1 | V7: 2012 | W7: 2021 | X7: Multifamily Housing | Y7: Lodging/residential | Z7: 93.9 | AA7: Original Site EUI available | AE7: 54.4 | AF7: 85.35 | AG7: 30.95 | AH7: 7.97 | AI7: 131.78 | AJ7: FALSE
A8: In Compliance | B8: 100274 | D8: 70.5 | E8: 89.7 | F8: 93.5 | K8: 397247 | L8: 317683 | M8: 317683 | O8: 4142410 | Q8: 143598.09 | S8: Multifamily Housing | T8: Fannie Mae Industry Survey - Multifamily | U8: Type 1 | V8: 2009 | W8: 2021 | X8: Multifamily Housing | Y8: Lodging/residential | Z8: 89.7 | AA8: Original Site EUI available | AE8: 54.4 | AF8: 85.35 | AG8: 30.95 | AH8: 7.97 | AI8: 131.78 | AJ8: FALSE
A9: In Compliance | B9: 108012 | D9: 85.2 | E9: 89.5 | K9: 42925 | L9: 42925 | M9: 42925 | O9: 86351.8 | Q9: 35464 | S9: Multifamily Housing | T9: Fannie Mae Industry Survey - Multifamily | U9: Type 3 | V9: 1920 | W9: 2021 | X9: Multifamily Housing | Y9: Lodging/residential | Z9: 89.5 | AA9: Original Site EUI available | AE9: 54.4 | AF9: 85.35 | AG9: 30.95 | AH9: 7.97 | AI9: 131.78 | AJ9: FALSE
A10: In Compliance | B10: 106267 | D10: 82.9 | E10: 52.9 | F10: 56.4 | K10: 33202 | L10: 28388 | M10: 28388 | O10: 94149.3 | Q10: 11802.55 | S10: Multifamily Housing | T10: Fannie Mae Industry Survey - Multifamily | U10: Type 3 | V10: 1964 | W10: 2021 | X10: Multifamily Housing | Y10: Lodging/residential | Z10: 52.9 | AA10: Original Site EUI available | AE10: 54.4 | AF10: 85.35 | AG10: 30.95 | AH10: 7.97 | AI10: 131.78 | AJ10: FALSE
A11: In Compliance | B11: 100623 | D11: 81 | E11: 161.6 | F11: 171.3 | K11: 36996 | L11: 36996 | M11: 36996 | O11: 657891 | Q11: 37331.99 | S11: Outpatient Rehabilitation/Physical Therapy | T11: CBECS - Outpatient Healthcare | U11: Type 3 | V11: 1962 | W11: 2021 | X11: Outpatient Rehabilitation/Physical Therapy | Y11: Healthcare | Z11: 161.6 | AA11: Original Site EUI available | AE11: 156.05 | AF11: 159.75 | AG11: 3.7 | AH11: 150.5 | AI11: 165.3 | AJ11: FALSE
A12: In Compliance | B12: 101619 | D12: 82.3 | E12: 89.1 | K12: 37120 | L12: 34000 | M12: 34000 | O12: 123640.7 | Q12: 26089 | S12: Multifamily Housing | T12: Fannie Mae Industry Survey - Multifamily | U12: Type 3 | V12: 1969 | W12: 2021 | X12: Multifamily Housing | Y12: Lodging/residential | Z12: 89.1 | AA12: Original Site EUI available | AE12: 54.4 | AF12: 85.35 | AG12: 30.95 | AH12: 7.97 | AI12: 131.78 | AJ12: FALSE
A13: In Compliance | B13: 107927 | D13: 91.8 | E13: 80.7 | K13: 24200 | L13: 22400 | M13: 22400 | O13: 71750.2 | Q13: 15627.99 | S13: Multifamily Housing | T13: Fannie Mae Industry Survey - Multifamily | U13: Type 3 | V13: 1929 | W13: 2021 | X13: Multifamily Housing | Y13: Lodging/residential | Z13: 80.7 | AA13: Original Site EUI available | AE13: 54.4 | AF13: 85.35 | AG13: 30.95 | AH13: 7.97 | AI13: 131.78 | AJ13: FALSE
A14: In Compliance | B14: 103196 | D14: 63.8 | E14: 92.4 | K14: 26000 | L14: 26000 | M14: 26000 | O14: 480472.3 | Q14: 7626 | S14: Office | T14: CBECS - Office & Bank/Financial | U14: Type 3 | V14: 1910 | W14: 2021 | X14: Office | Y14: Office | Z14: 92.4 | AA14: Original Site EUI available | AE14: 58.88 | AF14: 118.35 | AG14: 59.47 | AH14: -30.34 | AI14: 207.56 | AJ14: FALSE
A15: In Compliance | B15: 104424 | D15: 78.3 | E15: 99.4 | F15: 110.1 | K15: 234760 | L15: 173560 | M15: 173560 | O15: 1324537 | Q15: 127389.54 | S15: Multifamily Housing | T15: Fannie Mae Industry Survey - Multifamily | U15: Type 1 | V15: 2002 | W15: 2021 | X15: Multifamily Housing | Y15: Lodging/residential | Z15: 99.4 | AA15: Original Site EUI available | AE15: 54.4 | AF15: 85.35 | AG15: 30.95 | AH15: 7.97 | AI15: 131.78 | AJ15: FALSE
A16: In Compliance | B16: 105522 | D16: 75 | E16: 49.5 | K16: 55580 | L16: 55580 | M16: 55580 | O16: 169012 | Q16: 21720 | S16: Multifamily Housing | T16: Fannie Mae Industry Survey - Multifamily | U16: Type 2 | V16: 1934 | W16: 2021 | X16: Multifamily Housing | Y16: Lodging/residential | Z16: 49.5 | AA16: Original Site EUI available | AE16: 54.4 | AF16: 85.35 | AG16: 30.95 | AH16: 7.97 | AI16: 131.78 | AJ16: FALSE
A17: In Compliance | B17: 107762 | D17: 55.8 | E17: 42.9 | F17: 41.8 | K17: 55216 | L17: 55216 | M17: 55216 | O17: 409417 | Q17: 9724.88 | S17: Multifamily Housing | T17: Fannie Mae Industry Survey - Multifamily | U17: Type 2 | V17: 1990 | W17: 2021 | X17: Multifamily Housing | Y17: Lodging/residential | Z17: 42.9 | AA17: Original Site EUI available | AE17: 54.4 | AF17: 85.35 | AG17: 30.95 | AH17: 7.97 | AI17: 131.78 | AJ17: FALSE
A18: In Compliance | B18: 106599 | D18: 75.7 | E18: 55.2 | F18: 55.2 | K18: 32604 | L18: 32604 | M18: 32604 | O18: 130239 | Q18: 13566 | S18: Multifamily Housing | T18: Fannie Mae Industry Survey - Multifamily | U18: Type 3 | V18: 1930 | W18: 2021 | X18: Multifamily Housing | Y18: Lodging/residential | Z18: 55.2 | AA18: Original Site EUI available | AE18: 54.4 | AF18: 85.35 | AG18: 30.95 | AH18: 7.97 | AI18: 131.78 | AJ18: FALSE
A19: In Compliance | B19: 109173 | D19: 97.7 | E19: 55.4 | K19: 67500 | L19: 66000 | M19: 66000 | O19: 89698.3 | Q19: 33471 | S19: Multifamily Housing | T19: Fannie Mae Industry Survey - Multifamily | U19: Type 2 | V19: 1930 | W19: 2021 | X19: Multifamily Housing | Y19: Lodging/residential | Z19: 55.4 | AA19: Original Site EUI available | AE19: 54.4 | AF19: 85.35 | AG19: 30.95 | AH19: 7.97 | AI19: 131.78 | AJ19: FALSE
A20: In Compliance | B20: 104194 | D20: 254.5 | E20: 315.5 | F20: 332.5 | K20: 37001 | L20: 37001 | M20: 37001 | O20: 1807286 | Q20: 55083 | S20: Supermarket/Grocery Store | T20: CBECS - Grocery Store/Food Market | U20: Type 3 | V20: 1984 | W20: 2021 | X20: Supermarket/Grocery Store | Y20: Food sales and service | Z20: 315.5 | AA20: Original Site EUI available | AE20: 211.25 | AF20: 320.4 | AG20: 109.15 | AH20: 47.53 | AI20: 484.12 | AJ20: FALSE
A21: In Compliance | B21: 108823 | D21: 142 | E21: 155.2 | F21: 167.5 | K21: 13814 | L21: 13814 | M21: 16382 | O21: 18196.7 | Q21: 20822.11 | S21: Office | T21: CBECS - Office & Bank/Financial | U21: Type 2 | V21: 1923 | W21: 2021 | X21: Office | Y21: Office | Z21: 155.2 | AA21: Original Site EUI available | AE21: 58.88 | AF21: 118.35 | AG21: 59.47 | AH21: -30.34 | AI21: 207.56 | AJ21: FALSE
A22: In Compliance | B22: 101207 | D22: 130.8 | E22: 146.8 | K22: 32291 | L22: 26522 | M22: 26522 | O22: 415688 | Q22: 24764 | S22: Financial Office | T22: CBECS - Office & Bank/Financial | U22: Type 3 | V22: 1929 | W22: 2021 | X22: Financial Office | Y22: Banking/financial services | Z22: 146.8 | AA22: Original Site EUI available | AE22: 135.35 | AF22: 147.95 | AG22: 12.6 | AH22: 116.45 | AI22: 166.85 | AJ22: FALSE
A23: In Compliance | B23: 100377 | D23: 60.7 | E23: 67.4 | K23: 28555 | L23: 28555 | M23: 28555 | O23: 135445 | Q23: 14637 | S23: Office | T23: CBECS - Other | U23: Type 3 | V23: 1919 | W23: 2021 | X23: Office | Y23: Office | Z23: 67.4 | AA23: Original Site EUI available | AE23: 58.88 | AF23: 118.35 | AG23: 59.47 | AH23: -30.34 | AI23: 207.56 | AJ23: FALSE
A24: In Compliance | B24: 105769 | D24: 92.6 | E24: 59.8 | K24: 31464 | L24: 31464 | M24: 31464 | O24: 71056 | Q24: 16380 | S24: Multifamily Housing | T24: Fannie Mae Industry Survey - Multifamily | U24: Type 3 | V24: 1920 | W24: 2021 | X24: Multifamily Housing | Y24: Lodging/residential | Z24: 59.8 | AA24: Original Site EUI available | AE24: 54.4 | AF24: 85.35 | AG24: 30.95 | AH24: 7.97 | AI24: 131.78 | AJ24: FALSE
A25: In Compliance | B25: 108176 | D25: 85.3 | E25: 36.9 | K25: 28896 | L25: 28896 | M25: 28896 | O25: 59831 | Q25: 8612.25 | S25: Multifamily Housing | T25: Fannie Mae Industry Survey - Multifamily | U25: Type 3 | V25: 1920 | W25: 2021 | X25: Multifamily Housing | Y25: Lodging/residential | Z25: 36.9 | AA25: Original Site EUI available | AE25: 54.4 | AF25: 85.35 | AG25: 30.95 | AH25: 7.97 | AI25: 131.78 | AJ25: FALSE
A26: In Compliance | B26: 102700 | D26: 90.5 | E26: 74.7 | K26: 50283 | L26: 49000 | M26: 49000 | O26: 99244 | Q26: 33239 | S26: Multifamily Housing | T26: Fannie Mae Industry Survey - Multifamily | U26: Type 3 | V26: 1929 | W26: 2021 | X26: Multifamily Housing | Y26: Lodging/residential | Z26: 74.7 | AA26: Original Site EUI available | AE26: 54.4 | AF26: 85.35 | AG26: 30.95 | AH26: 7.97 | AI26: 131.78 | AJ26: FALSE
A27: In Compliance | B27: 109338 | D27: 80.5 | E27: 35.8 | K27: 37068 | L27: 37068 | M27: 37068 | O27: 89294 | Q27: 10224 | S27: Multifamily Housing | T27: Fannie Mae Industry Survey - Multifamily | U27: Type 3 | V27: 1920 | W27: 2021 | X27: Multifamily Housing | Y27: Lodging/residential | Z27: 35.8 | AA27: Original Site EUI available | AE27: 54.4 | AF27: 85.35 | AG27: 30.95 | AH27: 7.97 | AI27: 131.78 | AJ27: FALSE
A28: In Compliance | B28: 106767 | D28: 111.1 | E28: 113.5 | F28: 113.5 | K28: 31438 | L28: 28738 | M28: 28738 | O28: 53693.5 | Q28: 30795.66 | S28: Multifamily Housing | T28: Fannie Mae Industry Survey - Multifamily | U28: Type 3 | V28: 1922 | W28: 2021 | X28: Multifamily Housing | Y28: Lodging/residential | Z28: 113.5 | AA28: Original Site EUI available | AE28: 54.4 | AF28: 85.35 | AG28: 30.95 | AH28: 7.97 | AI28: 131.78 | AJ28: FALSE
A29: In Compliance | B29: 109008 | D29: 87.3 | E29: 90 | F29: 101 | K29: 25000 | L29: 25000 | M29: 25000 | O29: 72197 | Q29: 20036.58 | S29: Multifamily Housing | T29: Fannie Mae Industry Survey - Multifamily | U29: Type 3 | V29: 1930 | W29: 2021 | X29: Multifamily Housing | Y29: Lodging/residential | Z29: 90 | AA29: Original Site EUI available | AE29: 54.4 | AF29: 85.35 | AG29: 30.95 | AH29: 7.97 | AI29: 131.78 | AJ29: FALSE
A30: In Compliance | B30: 102117 | D30: 94.5 | E30: 103.2 | F30: 114.4 | K30: 26825 | L30: 26825 | M30: 26825 | O30: 92612.2 | Q30: 24531 | S30: Multifamily Housing | T30: Fannie Mae Industry Survey - Multifamily | U30: Type 3 | V30: 1910 | W30: 2021 | X30: Multifamily Housing | Y30: Lodging/residential | Z30: 103.2 | AA30: Original Site EUI available | AE30: 54.4 | AF30: 85.35 | AG30: 30.95 | AH30: 7.97 | AI30: 131.78 | AJ30: FALSE
A31: Received but not in compliance: Error | B31: 101703 | D31: 147.7 | E31: 100 | F31: 100 | K31: 94962 | L31: 94962 | M31: 94962 | O31: 274878.8 | Q31: 85569.63 | S31: College/University | T31: CBECS - College/University | U31: Type 2 | V31: 1941 | W31: 2021 | X31: College/University | Y31: Education | Z31: 100 | AA31: Original Site EUI available | AE31: 102.25 | AF31: 158.77 | AG31: 56.52 | AH31: 17.46 | AI31: 243.56 | AJ31: FALSE
A32: In Compliance | B32: 102947 | D32: 62.1 | E32: 64.7 | F32: 70.8 | K32: 52167 | L32: 35367 | M32: 35367 | O32: 219391.2 | Q32: 15395.25 | S32: K-12 School | T32: CBECS - Elementary/Middle & High School | U32: Type 3 | V32: 1959 | W32: 2021 | X32: K-12 School | Y32: Education | Z32: 64.7 | AA32: Original Site EUI available | AE32: 49.2 | AF32: 68.45 | AG32: 19.25 | AH32: 20.33 | AI32: 97.32 | AJ32: FALSE
A33: In Compliance | B33: 106831 | D33: 69.1 | E33: 69.7 | F33: 77 | K33: 168073 | L33: 112898 | M33: 112898 | O33: 630579.4 | Q33: 57221.55 | S33: K-12 School | T33: CBECS - Elementary/Middle & High School | U33: Type 1 | V33: 1966 | W33: 2021 | X33: K-12 School | Y33: Education | Z33: 69.7 | AA33: Original Site EUI available | AE33: 49.2 | AF33: 68.45 | AG33: 19.25 | AH33: 20.33 | AI33: 97.32 | AJ33: FALSE
A34: In Compliance | B34: 108591 | D34: 102 | E34: 115.8 | F34: 128.3 | K34: 25000 | L34: 25000 | M34: 25000 | O34: 97192 | Q34: 25635.61 | S34: Multifamily Housing | T34: Fannie Mae Industry Survey - Multifamily | U34: Type 3 | V34: 1930 | W34: 2021 | X34: Multifamily Housing | Y34: Lodging/residential | Z34: 115.8 | AA34: Original Site EUI available | AE34: 54.4 | AF34: 85.35 | AG34: 30.95 | AH34: 7.97 | AI34: 131.78 | AJ34: FALSE
A35: In Compliance | B35: 105604 | D35: 52.8 | E35: 57 | F35: 59.9 | K35: 91600 | L35: 91600 | M35: 91600 | O35: 1046661 | Q35: 16534 | S35: Multifamily Housing | T35: Fannie Mae Industry Survey - Multifamily | U35: Type 2 | V35: 1922 | W35: 2021 | X35: Multifamily Housing | Y35: Lodging/residential | Z35: 57 | AA35: Original Site EUI available | AE35: 54.4 | AF35: 85.35 | AG35: 30.95 | AH35: 7.97 | AI35: 131.78 | AJ35: FALSE
A36: In Compliance | B36: 107264 | D36: 66.7 | E36: 63.8 | F36: 71.1 | K36: 74100 | L36: 57700 | M36: 57700 | O36: 247615.3 | Q36: 28381.8 | S36: K-12 School | T36: CBECS - Elementary/Middle & High School | U36: Type 2 | V36: 1954 | W36: 2021 | X36: K-12 School | Y36: Education | Z36: 63.8 | AA36: Original Site EUI available | AE36: 49.2 | AF36: 68.45 | AG36: 19.25 | AH36: 20.33 | AI36: 97.32 | AJ36: FALSE
A37: In Compliance | B37: 105521 | D37: 84.2 | E37: 80.6 | F37: 87.6 | K37: 61600 | L37: 61600 | M37: 61600 | O37: 274490.4 | Q37: 40277 | S37: Multifamily Housing | T37: Fannie Mae Industry Survey - Multifamily | U37: Type 2 | V37: 1958 | W37: 2021 | X37: Multifamily Housing | Y37: Lodging/residential | Z37: 80.6 | AA37: Original Site EUI available | AE37: 54.4 | AF37: 85.35 | AG37: 30.95 | AH37: 7.97 | AI37: 131.78 | AJ37: FALSE
A38: In Compliance | B38: 104028 | D38: 81.6 | E38: 64.5 | F38: 70.2 | K38: 53500 | L38: 53500 | M38: 53500 | O38: 109781 | Q38: 30777 | S38: Multifamily Housing | T38: Fannie Mae Industry Survey - Multifamily | U38: Type 2 | V38: 1977 | W38: 2021 | X38: Multifamily Housing | Y38: Lodging/residential | Z38: 64.5 | AA38: Original Site EUI available | AE38: 54.4 | AF38: 85.35 | AG38: 30.95 | AH38: 7.97 | AI38: 131.78 | AJ38: FALSE
A39: In Compliance | B39: 106519 | D39: 97.6 | E39: 89.5 | K39: 22716 | L39: 21416 | M39: 21416 | O39: 51430 | Q39: 17402 | S39: Multifamily Housing | T39: Fannie Mae Industry Survey - Multifamily | U39: Type 3 | V39: 1920 | W39: 2021 | X39: Multifamily Housing | Y39: Lodging/residential | Z39: 89.5 | AA39: Original Site EUI available | AE39: 54.4 | AF39: 85.35 | AG39: 30.95 | AH39: 7.97 | AI39: 131.78 | AJ39: FALSE
A40: In Compliance | B40: 104193 | D40: 62.3 | E40: 65.9 | F40: 72.6 | K40: 65170 | L40: 65170 | M40: 65170 | O40: 344726.9 | Q40: 31198.36 | S40: K-12 School | T40: CBECS - Elementary/Middle & High School | U40: Type 2 | V40: 1940 | W40: 2021 | X40: K-12 School | Y40: Education | Z40: 65.9 | AA40: Original Site EUI available | AE40: 49.2 | AF40: 68.45 | AG40: 19.25 | AH40: 20.33 | AI40: 97.32 | AJ40: FALSE
A41: In Compliance | B41: 109339 | D41: 73.5 | E41: 44.3 | F41: 48.6 | K41: 140972 | L41: 140972 | M41: 140972 | O41: 275168.8 | Q41: 53052.41 | S41: Multifamily Housing | T41: Fannie Mae Industry Survey - Multifamily | U41: Type 1 | V41: 1916 | W41: 2021 | X41: Multifamily Housing | Y41: Lodging/residential | Z41: 44.3 | AA41: Original Site EUI available | AE41: 54.4 | AF41: 85.35 | AG41: 30.95 | AH41: 7.97 | AI41: 131.78 | AJ41: FALSE
A42: In Compliance | B42: 107515 | D42: 99.6 | E42: 71.8 | F42: 79.1 | K42: 25000 | L42: 25000 | M42: 25000 | O42: 40962 | Q42: 16547.94 | S42: Multifamily Housing | T42: Fannie Mae Industry Survey - Multifamily | U42: Type 3 | V42: 1930 | W42: 2021 | X42: Multifamily Housing | Y42: Lodging/residential | Z42: 71.8 | AA42: Original Site EUI available | AE42: 54.4 | AF42: 85.35 | AG42: 30.95 | AH42: 7.97 | AI42: 131.78 | AJ42: FALSE
A43: In Compliance | B43: 101953 | D43: 88.8 | E43: 72 | K43: 48600 | L43: 48600 | M43: 48600 | O43: 89491.7 | Q43: 31929.84 | S43: Multifamily Housing | T43: Fannie Mae Industry Survey - Multifamily | U43: Type 3 | V43: 1920 | W43: 2021 | X43: Multifamily Housing | Y43: Lodging/residential | Z43: 72 | AA43: Original Site EUI available | AE43: 54.4 | AF43: 85.35 | AG43: 30.95 | AH43: 7.97 | AI43: 131.78 | AJ43: FALSE
A44: In Compliance | B44: 107764 | D44: 97.8 | E44: 54.3 | F44: 60.1 | K44: 28000 | L44: 28000 | M44: 28000 | O44: 40181 | Q44: 13822.94 | S44: Multifamily Housing | T44: Fannie Mae Industry Survey - Multifamily | U44: Type 3 | V44: 1930 | W44: 2021 | X44: Multifamily Housing | Y44: Lodging/residential | Z44: 54.3 | AA44: Original Site EUI available | AE44: 54.4 | AF44: 85.35 | AG44: 30.95 | AH44: 7.97 | AI44: 131.78 | AJ44: FALSE
A45: In Compliance | B45: 104276 | D45: 60.5 | E45: 34.1 | F45: 35.2 | K45: 97750 | L45: 79000 | M45: 79000 | O45: 375223.8 | Q45: 14153.55 | S45: Multifamily Housing | T45: Fannie Mae Industry Survey - Multifamily | U45: Type 2 | V45: 1980 | W45: 2021 | X45: Multifamily Housing | Y45: Lodging/residential | Z45: 34.1 | AA45: Original Site EUI available | AE45: 54.4 | AF45: 85.35 | AG45: 30.95 | AH45: 7.97 | AI45: 131.78 | AJ45: FALSE
A46: In Compliance | B46: 105337 | D46: 62.2 | E46: 48.2 | F46: 53 | K46: 178814 | L46: 142114 | M46: 142114 | O46: 669149.7 | Q46: 45599.84 | S46: K-12 School | T46: CBECS - Elementary/Middle & High School | U46: Type 1 | V46: 1926 | W46: 2021 | X46: K-12 School | Y46: Education | Z46: 48.2 | AA46: Original Site EUI available | AE46: 49.2 | AF46: 68.45 | AG46: 19.25 | AH46: 20.33 | AI46: 97.32 | AJ46: FALSE
A47: In Compliance | B47: 105938 | D47: 97 | E47: 82.4 | K47: 21568 | L47: 20268 | M47: 20268 | O47: 46755.3 | Q47: 15113 | S47: Multifamily Housing | T47: Fannie Mae Industry Survey - Multifamily | U47: Type 3 | V47: 1920 | W47: 2021 | X47: Multifamily Housing | Y47: Lodging/residential | Z47: 82.4 | AA47: Original Site EUI available | AE47: 54.4 | AF47: 85.35 | AG47: 30.95 | AH47: 7.97 | AI47: 131.78 | AJ47: FALSE
A48: In Compliance | B48: 104856 | D48: 50.1 | E48: 40.8 | F48: 44.1 | K48: 34758 | L48: 34758 | M48: 34758 | O48: 234483 | Q48: 6197 | S48: Multifamily Housing | T48: Fannie Mae Industry Survey - Multifamily | U48: Type 3 | V48: 1917 | W48: 2021 | X48: Multifamily Housing | Y48: Lodging/residential | Z48: 40.8 | AA48: Original Site EUI available | AE48: 54.4 | AF48: 85.35 | AG48: 30.95 | AH48: 7.97 | AI48: 131.78 | AJ48: FALSE
A49: In Compliance | B49: 108325 | D49: 54.8 | E49: 49.4 | F49: 54.1 | K49: 105095 | L49: 95470 | M49: 95470 | O49: 462506.1 | Q49: 31423.48 | S49: K-12 School | T49: CBECS - Elementary/Middle & High School | U49: Type 2 | V49: 1914 | W49: 2021 | X49: K-12 School | Y49: Education | Z49: 49.4 | AA49: Original Site EUI available | AE49: 49.2 | AF49: 68.45 | AG49: 19.25 | AH49: 20.33 | AI49: 97.32 | AJ49: FALSE
A50: In Compliance | B50: 100294 | D50: 91.2 | E50: 111.5 | F50: 122.8 | K50: 25631 | L50: 25631 | M50: 25631 | O50: 102269.6 | Q50: 25101 | S50: Multifamily Housing | T50: Fannie Mae Industry Survey - Multifamily | U50: Type 3 | V50: 1916 | W50: 2021 | X50: Multifamily Housing | Y50: Lodging/residential | Z50: 111.5 | AA50: Original Site EUI available | AE50: 54.4 | AF50: 85.35 | AG50: 30.95 | AH50: 7.97 | AI50: 131.78 | AJ50: FALSE
A51: In Compliance | B51: 106350 | D51: 80.2 | E51: 91.2 | F51: 101.5 | K51: 25000 | L51: 25000 | M51: 25000 | O51: 55668 | Q51: 20899.26 | S51: Multifamily Housing | T51: Fannie Mae Industry Survey - Multifamily | U51: Type 3 | V51: 1930 | W51: 2021 | X51: Multifamily Housing | Y51: Lodging/residential | Z51: 91.2 | AA51: Original Site EUI available | AE51: 54.4 | AF51: 85.35 | AG51: 30.95 | AH51: 7.97 | AI51: 131.78 | AJ51: FALSE
A52: In Compliance | B52: 101786 | D52: 61 | E52: 59.2 | F52: 64.9 | K52: 81837 | L52: 73437 | M52: 73437 | O52: 410601.6 | Q52: 29438.77 | S52: K-12 School | T52: CBECS - Elementary/Middle & High School | U52: Type 2 | V52: 1953 | W52: 2021 | X52: K-12 School | Y52: Education | Z52: 59.2 | AA52: Original Site EUI available | AE52: 49.2 | AF52: 68.45 | AG52: 19.25 | AH52: 20.33 | AI52: 97.32 | AJ52: FALSE
A53: In Compliance | B53: 105190 | D53: 101.5 | E53: 114.8 | F53: 125.2 | K53: 38313 | L53: 38313 | M53: 38313 | O53: 203280.3 | Q53: 37034 | S53: Multifamily Housing | T53: Fannie Mae Industry Survey - Multifamily | U53: Type 3 | V53: 1968 | W53: 2021 | X53: Multifamily Housing | Y53: Lodging/residential | Z53: 114.8 | AA53: Original Site EUI available | AE53: 54.4 | AF53: 85.35 | AG53: 30.95 | AH53: 7.97 | AI53: 131.78 | AJ53: FALSE
A54: In Compliance | B54: 107016 | D54: 84 | E54: 83.1 | F54: 91.5 | K54: 38000 | L54: 38000 | M54: 38000 | O54: 80175 | Q54: 28827.35 | S54: Multifamily Housing | T54: Fannie Mae Industry Survey - Multifamily | U54: Type 3 | V54: 1930 | W54: 2021 | X54: Multifamily Housing | Y54: Lodging/residential | Z54: 83.1 | AA54: Original Site EUI available | AE54: 54.4 | AF54: 85.35 | AG54: 30.95 | AH54: 7.97 | AI54: 131.78 | AJ54: FALSE
A55: In Compliance | B55: 105022 | D55: 73.4 | E55: 63.5 | K55: 33032 | L55: 31432 | M55: 31432 | O55: 172108.7 | Q55: 14081 | S55: Multifamily Housing | T55: Fannie Mae Industry Survey - Multifamily | U55: Type 3 | V55: 1920 | W55: 2021 | X55: Multifamily Housing | Y55: Lodging/residential | Z55: 63.5 | AA55: Original Site EUI available | AE55: 54.4 | AF55: 85.35 | AG55: 30.95 | AH55: 7.97 | AI55: 131.78 | AJ55: FALSE
A56: In Compliance | B56: 108408 | D56: 61.6 | E56: 48.4 | F56: 53.1 | K56: 124138 | L56: 97888 | M56: 97888 | O56: 479234.9 | Q56: 31064.5 | S56: K-12 School | T56: CBECS - Elementary/Middle & High School | U56: Type 2 | V56: 1928 | W56: 2021 | X56: K-12 School | Y56: Education | Z56: 48.4 | AA56: Original Site EUI available | AE56: 49.2 | AF56: 68.45 | AG56: 19.25 | AH56: 20.33 | AI56: 97.32 | AJ56: FALSE
A57: In Compliance | B57: 103612 | D57: 73.8 | E57: 77.6 | F57: 85.7 | K57: 58508 | L57: 58508 | M57: 58508 | O57: 167620.7 | Q57: 39683 | S57: Multifamily Housing | T57: Fannie Mae Industry Survey - Multifamily | U57: Type 2 | V57: 1925 | W57: 2021 | X57: Multifamily Housing | Y57: Lodging/residential | Z57: 77.6 | AA57: Original Site EUI available | AE57: 54.4 | AF57: 85.35 | AG57: 30.95 | AH57: 7.97 | AI57: 131.78 | AJ57: FALSE
A58: In Compliance | B58: 107265 | D58: 65 | E58: 55.4 | F58: 59.6 | K58: 76223 | L58: 63223 | M58: 63223 | O58: 241821 | Q58: 26786 | S58: Multifamily Housing | T58: Fannie Mae Industry Survey - Multifamily | U58: Type 2 | V58: 2010 | W58: 2021 | X58: Multifamily Housing | Y58: Lodging/residential | Z58: 55.4 | AA58: Original Site EUI available | AE58: 54.4 | AF58: 85.35 | AG58: 30.95 | AH58: 7.97 | AI58: 131.78 | AJ58: FALSE
A59: In Compliance | B59: 105438 | D59: 63.6 | E59: 69.3 | F59: 76.8 | K59: 62635 | L59: 62635 | M59: 62635 | O59: 295934.8 | Q59: 33300.77 | S59: K-12 School | T59: CBECS - Elementary/Middle & High School | U59: Type 2 | V59: 1922 | W59: 2021 | X59: K-12 School | Y59: Education | Z59: 69.3 | AA59: Original Site EUI available | AE59: 49.2 | AF59: 68.45 | AG59: 19.25 | AH59: 20.33 | AI59: 97.32 | AJ59: FALSE
A60: In Compliance | B60: 104775 | D60: 81.2 | E60: 86.5 | F60: 95.2 | K60: 41541 | L60: 41541 | M60: 41541 | O60: 179713.8 | Q60: 29819 | S60: Multifamily Housing | T60: Fannie Mae Industry Survey - Multifamily | U60: Type 3 | V60: 1961 | W60: 2021 | X60: Multifamily Housing | Y60: Lodging/residential | Z60: 86.5 | AA60: Original Site EUI available | AE60: 54.4 | AF60: 85.35 | AG60: 30.95 | AH60: 7.97 | AI60: 131.78 | AJ60: FALSE
A61: In Compliance | B61: 104358 | D61: 63 | E61: 34 | F61: 37 | K61: 33254 | L61: 33254 | M61: 33254 | O61: 156125 | Q61: 5980 | S61: Multifamily Housing | T61: Fannie Mae Industry Survey - Multifamily | U61: Type 3 | V61: 1923 | W61: 2021 | X61: Multifamily Housing | Y61: Lodging/residential | Z61: 34 | AA61: Original Site EUI available | AE61: 54.4 | AF61: 85.35 | AG61: 30.95 | AH61: 7.97 | AI61: 131.78 | AJ61: FALSE
A62: In Compliance | B62: 101353 | D62: 85.4 | E62: 75.8 | K62: 520638 | L62: 370638 | M62: 370638 | O62: 2546716 | Q62: 193999.98 | S62: Multifamily Housing | T62: Fannie Mae Industry Survey - Multifamily | U62: Type 1 | V62: 2002 | W62: 2021 | X62: Multifamily Housing | Y62: Lodging/residential | Z62: 75.8 | AA62: Original Site EUI available | AE62: 54.4 | AF62: 85.35 | AG62: 30.95 | AH62: 7.97 | AI62: 131.78 | AJ62: FALSE
A63: In Compliance | B63: 107412 | D63: 66.1 | E63: 67.1 | F63: 74.6 | K63: 142172 | L63: 100022 | M63: 100022 | O63: 589692.9 | Q63: 46987.24 | S63: K-12 School | T63: CBECS - Elementary/Middle & High School | U63: Type 1 | V63: 1956 | W63: 2021 | X63: K-12 School | Y63: Education | Z63: 67.1 | AA63: Original Site EUI available | AE63: 49.2 | AF63: 68.45 | AG63: 19.25 | AH63: 20.33 | AI63: 97.32 | AJ63: FALSE
A64: In Compliance | B64: 101121 | D64: 85.5 | E64: 63.3 | K64: 53161 | L64: 50661 | M64: 50661 | O64: 78587.9 | Q64: 29400 | S64: Multifamily Housing | T64: Fannie Mae Industry Survey - Multifamily | U64: Type 2 | V64: 1920 | W64: 2021 | X64: Multifamily Housing | Y64: Lodging/residential | Z64: 63.3 | AA64: Original Site EUI available | AE64: 54.4 | AF64: 85.35 | AG64: 30.95 | AH64: 7.97 | AI64: 131.78 | AJ64: FALSE
A65: In Compliance | B65: 103115 | D65: 86.2 | E65: 53.4 | K65: 57336 | L65: 50169 | M65: 50169 | O65: 257405.6 | Q65: 18000 | S65: Multifamily Housing | T65: Fannie Mae Industry Survey - Multifamily | U65: Type 2 | V65: 1964 | W65: 2021 | X65: Multifamily Housing | Y65: Lodging/residential | Z65: 53.4 | AA65: Original Site EUI available | AE65: 54.4 | AF65: 85.35 | AG65: 30.95 | AH65: 7.97 | AI65: 131.78 | AJ65: FALSE
A66: In Compliance | B66: 109007 | D66: 56.3 | E66: 50.2 | F66: 54.4 | K66: 79227 | L66: 53427 | M66: 53427 | O66: 332379.7 | Q66: 15458.77 | S66: K-12 School | T66: CBECS - Elementary/Middle & High School | U66: Type 2 | V66: 1967 | W66: 2021 | X66: K-12 School | Y66: Education | Z66: 50.2 | AA66: Original Site EUI available | AE66: 49.2 | AF66: 68.45 | AG66: 19.25 | AH66: 20.33 | AI66: 97.32 | AJ66: FALSE
A67: In Compliance | B67: 103199 | D67: 91 | E67: 112.9 | F67: 123.4 | K67: 26661 | L67: 26661 | M67: 26661 | O67: 112923.2 | Q67: 26245 | S67: Multifamily Housing | T67: Fannie Mae Industry Survey - Multifamily | U67: Type 3 | V67: 1927 | W67: 2021 | X67: Multifamily Housing | Y67: Lodging/residential | Z67: 112.9 | AA67: Original Site EUI available | AE67: 54.4 | AF67: 85.35 | AG67: 30.95 | AH67: 7.97 | AI67: 131.78 | AJ67: FALSE
A68: In Compliance | B68: 105023 | D68: 87.6 | E68: 59.3 | K68: 73974 | L68: 55974 | M68: 55974 | O68: 154635.5 | Q68: 27942.34 | S68: Multifamily Housing | T68: Fannie Mae Industry Survey - Multifamily | U68: Type 2 | V68: 1999 | W68: 2021 | X68: Multifamily Housing | Y68: Lodging/residential | Z68: 59.3 | AA68: Original Site EUI available | AE68: 54.4 | AF68: 85.35 | AG68: 30.95 | AH68: 7.97 | AI68: 131.78 | AJ68: FALSE
A69: In Compliance | B69: 106001 | D69: 71.5 | E69: 55.5 | F69: 61.2 | K69: 176845 | L69: 148845 | M69: 148845 | O69: 435845.1 | Q69: 67789.45 | S69: Multifamily Housing | T69: Fannie Mae Industry Survey - Multifamily | U69: Type 1 | V69: 1922 | W69: 2021 | X69: Multifamily Housing | Y69: Lodging/residential | Z69: 55.5 | AA69: Original Site EUI available | AE69: 54.4 | AF69: 85.35 | AG69: 30.95 | AH69: 7.97 | AI69: 131.78 | AJ69: FALSE
A70: In Compliance | B70: 101288 | D70: 63.4 | E70: 81 | F70: 90 | K70: 95948 | L70: 76798 | M70: 76798 | O70: 444414.5 | Q70: 47034.62 | S70: K-12 School | T70: CBECS - Elementary/Middle & High School | U70: Type 2 | V70: 1901 | W70: 2021 | X70: K-12 School | Y70: Education | Z70: 81 | AA70: Original Site EUI available | AE70: 49.2 | AF70: 68.45 | AG70: 19.25 | AH70: 20.33 | AI70: 97.32 | AJ70: FALSE
A71: In Compliance | B71: 105088 | D71: 52.4 | E71: 43.1 | F71: 46.9 | K71: 101200 | L71: 101200 | M71: 101200 | O71: 583263 | Q71: 23666.74 | S71: Vehicle Repair Services | T71: CBECS - Service | U71: Type 1 | V71: 1961 | W71: 2021 | X71: Vehicle Repair Services | Y71: Services | Z71: 43.1 | AA71: Original Site EUI available | AE71: 42.75 | AF71: 79.05 | AG71: 36.3 | AH71: -11.7 | AI71: 133.5 | AJ71: FALSE
A72: In Compliance | B72: 102617 | D72: 106 | E72: 98.3 | F72: 109.2 | K72: 54238 | L72: 41238 | M72: 41238 | O72: 90219.2 | Q72: 37443.93 | S72: Multifamily Housing | T72: Fannie Mae Industry Survey - Multifamily | U72: Type 3 | V72: 1964 | W72: 2021 | X72: Multifamily Housing | Y72: Lodging/residential | Z72: 98.3 | AA72: Original Site EUI available | AE72: 54.4 | AF72: 85.35 | AG72: 30.95 | AH72: 7.97 | AI72: 131.78 | AJ72: FALSE
A73: In Compliance | B73: 100706 | D73: 108.1 | E73: 93.2 | F73: 104.1 | K73: 36640 | L73: 34400 | M73: 34400 | O73: 143327.3 | Q73: 27158.51 | S73: Multifamily Housing | T73: Fannie Mae Industry Survey - Multifamily | U73: Type 3 | V73: 1960 | W73: 2021 | X73: Multifamily Housing | Y73: Lodging/residential | Z73: 93.2 | AA73: Original Site EUI available | AE73: 54.4 | AF73: 85.35 | AG73: 30.95 | AH73: 7.97 | AI73: 131.78 | AJ73: FALSE
A74: In Compliance | B74: 105853 | D74: 62.3 | E74: 49 | F74: 55.1 | K74: 74039 | L74: 61039 | M74: 61039 | O74: 217930.2 | Q74: 22445.56 | S74: K-12 School | T74: CBECS - Elementary/Middle & High School | U74: Type 2 | V74: 1949 | W74: 2021 | X74: K-12 School | Y74: Education | Z74: 49 | AA74: Original Site EUI available | AE74: 49.2 | AF74: 68.45 | AG74: 19.25 | AH74: 20.33 | AI74: 97.32 | AJ74: FALSE
A75: In Compliance | B75: 106932 | D75: 64.4 | E75: 34.8 | F75: 33.8 | K75: 52227 | L75: 52227 | M75: 52227 | O75: 215773 | Q75: 10819.17 | S75: Multifamily Housing | T75: Fannie Mae Industry Survey - Multifamily | U75: Type 2 | V75: 1920 | W75: 2021 | X75: Multifamily Housing | Y75: Lodging/residential | Z75: 34.8 | AA75: Original Site EUI available | AE75: 54.4 | AF75: 85.35 | AG75: 30.95 | AH75: 7.97 | AI75: 131.78 | AJ75: FALSE
A76: In Compliance | B76: 103428 | D76: 79.4 | E76: 78.8 | F76: 83.3 | K76: 238203 | L76: 238203 | M76: 238203 | O76: 1810884 | Q76: 126027.21 | S76: Multifamily Housing | T76: Fannie Mae Industry Survey - Multifamily | U76: Type 1 | V76: 1919 | W76: 2021 | X76: Multifamily Housing | Y76: Lodging/residential | Z76: 78.8 | AA76: Original Site EUI available | AE76: 54.4 | AF76: 85.35 | AG76: 30.95 | AH76: 7.97 | AI76: 131.78 | AJ76: FALSE
A77: In Compliance | B77: 108425 | D77: 81.9 | E77: 92.1 | F77: 101.5 | K77: 39400 | L77: 39400 | M77: 39400 | O77: 238611.3 | Q77: 28148.23 | S77: Multifamily Housing | T77: Fannie Mae Industry Survey - Multifamily | U77: Type 3 | V77: 1900 | W77: 2021 | X77: Multifamily Housing | Y77: Lodging/residential | Z77: 92.1 | AA77: Original Site EUI available | AE77: 54.4 | AF77: 85.35 | AG77: 30.95 | AH77: 7.97 | AI77: 131.78 | AJ77: FALSE
A78: In Compliance | B78: 103281 | D78: 61.1 | E78: 56.5 | F78: 62.2 | K78: 46933 | L78: 46933 | M78: 46933 | O78: 226687.8 | Q78: 18788.4 | S78: K-12 School | T78: CBECS - Elementary/Middle & High School | U78: Type 3 | V78: 1911 | W78: 2021 | X78: K-12 School | Y78: Education | Z78: 56.5 | AA78: Original Site EUI available | AE78: 49.2 | AF78: 68.45 | AG78: 19.25 | AH78: 20.33 | AI78: 97.32 | AJ78: FALSE
A79: In Compliance | B79: 104940 | D79: 96.1 | E79: 59.7 | K79: 69855 | L79: 59955 | M79: 59955 | O79: 194833 | Q79: 29116 | S79: Multifamily Housing | T79: Fannie Mae Industry Survey - Multifamily | U79: Type 2 | V79: 1963 | W79: 2021 | X79: Multifamily Housing | Y79: Lodging/residential | Z79: 59.7 | AA79: Original Site EUI available | AE79: 54.4 | AF79: 85.35 | AG79: 30.95 | AH79: 7.97 | AI79: 131.78 | AJ79: FALSE
A80: In Compliance | B80: 104590 | D80: 74.1 | E80: 56.7 | K80: 152240 | L80: 137016 | M80: 137016 | O80: 811453 | Q80: 50000 | S80: Multifamily Housing | T80: Fannie Mae Industry Survey - Multifamily | U80: Type 1 | V80: 2000 | W80: 2021 | X80: Multifamily Housing | Y80: Lodging/residential | Z80: 56.7 | AA80: Original Site EUI available | AE80: 54.4 | AF80: 85.35 | AG80: 30.95 | AH80: 7.97 | AI80: 131.78 | AJ80: FALSE
A81: In Compliance | B81: 100789 | D81: 96.8 | E81: 64.1 | F81: 70.1 | K81: 47200 | L81: 37600 | M81: 37600 | O81: 114893.6 | Q81: 20197.09 | S81: Multifamily Housing | T81: Fannie Mae Industry Survey - Multifamily | U81: Type 3 | V81: 1960 | W81: 2021 | X81: Multifamily Housing | Y81: Lodging/residential | Z81: 64.1 | AA81: Original Site EUI available | AE81: 54.4 | AF81: 85.35 | AG81: 30.95 | AH81: 7.97 | AI81: 131.78 | AJ81: FALSE
A82: In Compliance | B82: 102450 | D82: 89.8 | E82: 112.8 | F82: 110.7 | K82: 71010 | L82: 71010 | M82: 71010 | O82: 929714.3 | Q82: 48399.35 | S82: Office | T82: CBECS - Office & Bank/Financial | U82: Type 2 | V82: 2000 | W82: 2021 | X82: Office | Y82: Office | Z82: 112.8 | AA82: Original Site EUI available | AE82: 58.88 | AF82: 118.35 | AG82: 59.47 | AH82: -30.34 | AI82: 207.56 | AJ82: FALSE
A83: In Compliance | B83: 101537 | D83: 82.3 | E83: 71 | F83: 74.4 | K83: 245710 | L83: 194641 | M83: 194641 | O83: 1512409 | Q83: 86557.46 | S83: Multifamily Housing | T83: Fannie Mae Industry Survey - Multifamily | U83: Type 1 | V83: 2003 | W83: 2021 | X83: Multifamily Housing | Y83: Lodging/residential | Z83: 71 | AA83: Original Site EUI available | AE83: 54.4 | AF83: 85.35 | AG83: 30.95 | AH83: 7.97 | AI83: 131.78 | AJ83: FALSE
A84: In Compliance | B84: 103345 | D84: 79.8 | E84: 62 | K84: 186234 | L84: 119368 | M84: 119368 | O84: 965816.1 | Q84: 41000.01 | S84: Multifamily Housing | T84: Fannie Mae Industry Survey - Multifamily | U84: Type 2 | V84: 2005 | W84: 2021 | X84: Multifamily Housing | Y84: Lodging/residential | Z84: 62 | AA84: Original Site EUI available | AE84: 54.4 | AF84: 85.35 | AG84: 30.95 | AH84: 7.97 | AI84: 131.78 | AJ84: FALSE
A85: In Compliance | B85: 109653 | D85: 90 | E85: 79.5 | F85: 85.4 | K85: 92045 | L85: 75045 | M85: 75045 | O85: 488552.6 | Q85: 43014 | S85: Multifamily Housing | T85: Fannie Mae Industry Survey - Multifamily | U85: Type 2 | V85: 1984 | W85: 2021 | X85: Multifamily Housing | Y85: Lodging/residential | Z85: 79.5 | AA85: Original Site EUI available | AE85: 54.4 | AF85: 85.35 | AG85: 30.95 | AH85: 7.97 | AI85: 131.78 | AJ85: FALSE
A86: In Compliance | B86: 106269 | D86: 48.3 | E86: 81 | F86: 91 | K86: 44000 | L86: 44000 | M86: 44000 | O86: 152904.1 | Q86: 30405.42 | S86: Non-Refrigerated Warehouse | T86: CBECS - Non-Refrigerated Warehouse | U86: Type 3 | V86: 2001 | W86: 2021 | X86: Non-Refrigerated Warehouse | Y86: Warehouse/storage | Z86: 81 | AA86: Original Site EUI available | AE86: 73.8 | AF86: 86.35 | AG86: 12.55 | AH86: 54.98 | AI86: 105.17 | AJ86: FALSE
A87: In Compliance | B87: 102615 | D87: 98.3 | E87: 54.6 | K87: 28275 | L87: 28275 | M87: 28275 | O87: 34501 | Q87: 14267 | S87: Office | T87: CBECS - Office & Bank/Financial | U87: Type 3 | V87: 1926 | W87: 2021 | X87: Social/Meeting Hall | Y87: Office | Z87: 54.6 | AA87: Original Site EUI available | AE87: 57.08 | AF87: 62.97 | AG87: 5.9 | AH87: 48.23 | AI87: 71.82 | AJ87: FALSE
A88: In Compliance | B88: 108260 | D88: 59.3 | E88: 53.3 | F88: 55 | K88: 201253 | L88: 165253 | M88: 165253 | O88: 1612296 | Q88: 33008.53 | S88: Multifamily Housing | T88: Fannie Mae Industry Survey - Multifamily | U88: Type 1 | V88: 2016 | W88: 2021 | X88: Multifamily Housing | Y88: Lodging/residential | Z88: 53.3 | AA88: Original Site EUI available | AE88: 54.4 | AF88: 85.35 | AG88: 30.95 | AH88: 7.97 | AI88: 131.78 | AJ88: FALSE
A89: In Compliance | B89: 107163 | D89: 85.2 | E89: 109 | F89: 116.8 | K89: 88545 | L89: 75045 | M89: 75045 | O89: 802161.7 | Q89: 54446 | S89: Multifamily Housing | T89: Fannie Mae Industry Survey - Multifamily | U89: Type 2 | V89: 1978 | W89: 2021 | X89: Multifamily Housing | Y89: Lodging/residential | Z89: 109 | AA89: Original Site EUI available | AE89: 54.4 | AF89: 85.35 | AG89: 30.95 | AH89: 7.97 | AI89: 131.78 | AJ89: FALSE
A90: In Compliance | B90: 103677 | D90: 115 | E90: 132.8 | F90: 141 | K90: 469013 | L90: 135424 | M90: 135424 | O90: 2688687 | Q90: 88108.73 | S90: Wholesale Club/Supercenter | T90: CBECS - Retail Store | U90: Type 1 | V90: 1993 | W90: 2021 | X90: Wholesale Club/Supercenter | Y90: Retail | Z90: 132.8 | AA90: Original Site EUI available | AE90: 125.75 | AF90: 135.5 | AG90: 9.75 | AH90: 111.12 | AI90: 150.12 | AJ90: FALSE
A91: In Compliance | B91: 109919 | D91: 70.3 | E91: 56.7 | F91: 62.6 | K91: 45800 | L91: 45000 | M91: 45000 | O91: 55960 | Q91: 23625.7 | S91: Multifamily Housing | T91: Fannie Mae Industry Survey - Multifamily | U91: Type 3 | V91: 1920 | W91: 2021 | X91: Multifamily Housing | Y91: Lodging/residential | Z91: 56.7 | AA91: Original Site EUI available | AE91: 54.4 | AF91: 85.35 | AG91: 30.95 | AH91: 7.97 | AI91: 131.78 | AJ91: FALSE
A92: In Compliance | B92: 106351 | D92: 76.6 | E92: 60.5 | K92: 65080 | L92: 59580 | M92: 59580 | O92: 136951.1 | Q92: 31400 | S92: Multifamily Housing | T92: Fannie Mae Industry Survey - Multifamily | U92: Type 2 | V92: 1920 | W92: 2021 | X92: Multifamily Housing | Y92: Lodging/residential | Z92: 60.5 | AA92: Original Site EUI available | AE92: 54.4 | AF92: 85.35 | AG92: 30.95 | AH92: 7.97 | AI92: 131.78 | AJ92: FALSE
A93: In Compliance | B93: 100541 | D93: 85.5 | E93: 93.8 | F93: 102.3 | K93: 78000 | L93: 78000 | M93: 78000 | O93: 387358.5 | Q93: 59957.39 | S93: Multifamily Housing | T93: Fannie Mae Industry Survey - Multifamily | U93: Type 2 | V93: 1961 | W93: 2021 | X93: Multifamily Housing | Y93: Lodging/residential | Z93: 93.8 | AA93: Original Site EUI available | AE93: 54.4 | AF93: 85.35 | AG93: 30.95 | AH93: 7.97 | AI93: 131.78 | AJ93: FALSE
A94: In Compliance | B94: 105586 | D94: 115.8 | E94: 75.1 | F94: 80.5 | K94: 414319 | L94: 132223 | M94: 132223 | O94: 1307834 | Q94: 54631 | S94: Retail Store | T94: CBECS - Retail Store | U94: Type 1 | V94: 1994 | W94: 2021 | X94: Retail Store | Y94: Retail | Z94: 75.1 | AA94: Original Site EUI available | AE94: 71.8 | AF94: 88.9 | AG94: 17.1 | AH94: 46.15 | AI94: 114.55 | AJ94: FALSE
A95: In Compliance | B95: 107595 | D95: 105.7 | E95: 109.2 | K95: 24626 | L95: 23826 | M95: 23826 | O95: 45316 | Q95: 24469.6 | S95: Multifamily Housing | T95: Fannie Mae Industry Survey - Multifamily | U95: Type 3 | V95: 1920 | W95: 2021 | X95: Multifamily Housing | Y95: Lodging/residential | Z95: 109.2 | AA95: Original Site EUI available | AE95: 54.4 | AF95: 85.35 | AG95: 30.95 | AH95: 7.97 | AI95: 131.78 | AJ95: FALSE
A96: In Compliance | B96: 108509 | D96: 75.4 | E96: 61.5 | K96: 61300 | L96: 61300 | M96: 61300 | O96: 109543.5 | Q96: 33959.53 | S96: Multifamily Housing | T96: Fannie Mae Industry Survey - Multifamily | U96: Type 2 | V96: 1920 | W96: 2021 | X96: Multifamily Housing | Y96: Lodging/residential | Z96: 61.5 | AA96: Original Site EUI available | AE96: 54.4 | AF96: 85.35 | AG96: 30.95 | AH96: 7.97 | AI96: 131.78 | AJ96: FALSE
A97: In Compliance | B97: 100458 | D97: 102.2 | E97: 89.5 | F97: 96.9 | K97: 70000 | L97: 70000 | M97: 70000 | O97: 353442.1 | Q97: 50585.91 | S97: Multifamily Housing | T97: Fannie Mae Industry Survey - Multifamily | U97: Type 2 | V97: 1952 | W97: 2021 | X97: Multifamily Housing | Y97: Lodging/residential | Z97: 89.5 | AA97: Original Site EUI available | AE97: 54.4 | AF97: 85.35 | AG97: 30.95 | AH97: 7.97 | AI97: 131.78 | AJ97: FALSE
A98: In Compliance | B98: 102266 | D98: 51.5 | E98: 79.4 | F98: 86.5 | K98: 360000 | L98: 210000 | M98: 210000 | O98: 1911602 | Q98: 101447.21 | S98: Other | T98: CBECS - Other | U98: Type 1 | V98: 1948 | W98: 2021 | X98: Mixed Use | Y98: Other | Z98: 79.4 | AA98: Original Site EUI available | AE98: 78.75 | AF98: 108.4 | AG98: 29.65 | AH98: 34.27 | AI98: 152.88 | AJ98: FALSE
A99: In Compliance | B99: 106435 | D99: 92.7 | E99: 74.7 | K99: 43600 | L99: 43600 | M99: 43600 | O99: 121785 | Q99: 28398 | S99: Multifamily Housing | T99: Fannie Mae Industry Survey - Multifamily | U99: Type 3 | V99: 1909 | W99: 2021 | X99: Multifamily Housing | Y99: Lodging/residential | Z99: 74.7 | AA99: Original Site EUI available | AE99: 54.4 | AF99: 85.35 | AG99: 30.95 | AH99: 7.97 | AI99: 131.78 | AJ99: FALSE
A100: In Compliance | B100: 105355 | D100: 74.2 | E100: 50.4 | K100: 60000 | L100: 60000 | M100: 60000 | O100: 123183.3 | Q100: 26009.73 | S100: Multifamily Housing | T100: Fannie Mae Industry Survey - Multifamily | U100: Type 2 | V100: 1925 | W100: 2021 | X100: Multifamily Housing | Y100: Lodging/residential | Z100: 50.4 | AA100: Original Site EUI available | AE100: 54.4 | AF100: 85.35 | AG100: 30.95 | AH100: 7.97 | AI100: 131.78 | AJ100: FALSE
...

Sheet flagged site EUI outliers
A1: Status | B1: Evanston Building ID | C1: CBL Address Line 1 | D1: National Median Site EUI (kBtu/ft²) | E1: Site EUI (kBtu/ft²) | F1: Weather Normalized Site EUI (kBtu/ft²) | G1: Direct GHG Emissions (Metric Tons CO2e) | H1: Total (Location-Based) GHG Emissions (Metric Tons CO2e) | I1: Total GHG Emissions | J1: Total GHG Emissions Intensity | K1: Property GFA - Calculated (Buildings and Parking) (ft²) | L1: Property GFA - Calculated (Buildings) (ft²) | M1: Property GFA - Self-Reported (ft²) | N1: Building Size GFA | O1: Electricity Use - Grid Purchase and Generated from Onsite Renewable Systems (kWh) | P1: Natural Gas Use (kBtu) | Q1: Natural Gas Use (therms) | R1: Electricity Use - Grid Purchase and Generated from Onsite Renewable Systems (kBtu) | S1: Largest Property Use Type | T1: National Median Reference Property Type | U1: Building Type | V1: Year Built | W1: Year | X1: Property Type Selected | Y1: Suggested ESPM Broad Category | Z1: Site EUI Final for Analysis | AA1: Site EUI Imputation Method | AB1: Site EUI Median from Other Available Years | AC1: Site EUI Average from Other Available Years | AD1: Years Used for Other-Year Imputation | AE1: q1 | AF1: q3 | AG1: interquartile | AH1: lower site EUI outlier threshold | AI1: upper site EUI outlier threshold | AJ1: is site EUI outlier
A2: In Compliance | B2: 108989 | D2: 142.7 | E2: 730.3 | F2: 730.3 | K2: 91087 | L2: 91087 | M2: 91087 | O2: 2407208 | Q2: 583116.49 | S2: College/University | T2: CBECS - College/University | U2: Type 2 | V2: 1970 | W2: 2021 | X2: College/University | Y2: Education | Z2: 730.3 | AA2: Original Site EUI available | AE2: 102.25 | AF2: 158.77 | AG2: 56.52 | AH2: 17.46 | AI2: 243.56 | AJ2: TRUE
A3: In Compliance | B3: 108989 | C3: 2205 TECH DR | D3: 139.9 | E3: 638.2 | F3: 638.2 | G3: 2663.01 | K3: 91087 | L3: 91087 | M3: 91087 | O3: 2342443 | P3: 50137173 | Q3: 501371.7 | R3: 7992415.5 | S3: College/University | T3: CBECS - College/University | U3: Type 2 | V3: 1970 | W3: 2024 | X3: College/University | Y3: Education | Z3: 638.2 | AA3: Original Site EUI available | AE3: 102.25 | AF3: 158.77 | AG3: 56.52 | AH3: 17.46 | AI3: 243.56 | AJ3: TRUE
A4: In Compliance | B4: 108989 | D4: 140.4 | E4: 631.3 | F4: 631.3 | K4: 91087 | L4: 91087 | M4: 91087 | O4: 2272844 | Q4: 497503.3 | S4: College/University | T4: CBECS - College/University | U4: Type 2 | V4: 1970 | W4: 2022 | X4: College/University | Y4: Education | Z4: 631.3 | AA4: Original Site EUI available | AE4: 102.25 | AF4: 158.77 | AG4: 56.52 | AH4: 17.46 | AI4: 243.56 | AJ4: TRUE
A5: In Compliance | B5: 108989 | C5: 2205 TECH DR | D5: 137.5 | E5: 594.2 | F5: 594.2 | G5: 2442 | H5: 3581.4 | K5: 91087 | L5: 91087 | M5: 91087 | O5: 2386641 | Q5: 459764.5 | S5: College/University | T5: CBECS - College/University | U5: Type 2 | V5: 1970 | W5: 2023 | X5: College/University | Y5: Education | Z5: 594.2 | AA5: Original Site EUI available | AE5: 102.25 | AF5: 158.77 | AG5: 56.52 | AH5: 17.46 | AI5: 243.56 | AJ5: TRUE
A6: In Compliance | B6: 102600 | C6: 2020 RIDGE AVENUE | D6: 125.5 | E6: 414.6 | F6: 422.4 | G6: 263.3 | K6: 112496 | L6: 112496 | M6: 112496 | O6: 12217340 | P6: 4957301.7 | Q6: 49573 | R6: 41685564 | S6: College/University | T6: CBECS - College/University | U6: Type 1 | V6: 1926 | W6: 2024 | X6: College/University | Y6: Education | Z6: 414.6 | AA6: Original Site EUI available | AE6: 102.25 | AF6: 158.77 | AG6: 56.52 | AH6: 17.46 | AI6: 243.56 | AJ6: TRUE
A7: In Compliance | B7: 102283 | C7: 1881 SHERIDAN ROAD | D7: 149.4 | E7: 280.4 | F7: 280.4 | G7: 498.1 | H7: 629 | K7: 36782 | L7: 36782 | M7: 36782 | O7: 274317.3 | Q7: 93769.9 | S7: College/University | T7: CBECS - College/University | U7: Type 3 | V7: 1915 | W7: 2023 | X7: College/University | Y7: Education | Z7: 280.4 | AA7: Original Site EUI available | AE7: 102.25 | AF7: 158.77 | AG7: 56.52 | AH7: 17.46 | AI7: 243.56 | AJ7: TRUE
A8: In Compliance | B8: 102283 | D8: 149.1 | E8: 277.9 | F8: 277.9 | K8: 36782 | L8: 36782 | M8: 36782 | O8: 276109.1 | Q8: 92812 | S8: College/University | T8: CBECS - College/University | U8: Type 3 | V8: 1915 | W8: 2022 | X8: College/University | Y8: Education | Z8: 277.9 | AA8: Original Site EUI available | AE8: 102.25 | AF8: 158.77 | AG8: 56.52 | AH8: 17.46 | AI8: 243.56 | AJ8: TRUE
A9: In Compliance | B9: 101372 | D9: 130.9 | E9: 250.1 | F9: 250.1 | K9: 49498 | L9: 49498 | M9: 49498 | O9: 684551 | Q9: 100432.34 | S9: College/University | T9: CBECS - College/University | U9: Type 3 | V9: 2001 | W9: 2021 | X9: College/University | Y9: Education | Z9: 250.1 | AA9: Original Site EUI available | AE9: 102.25 | AF9: 158.77 | AG9: 56.52 | AH9: 17.46 | AI9: 243.56 | AJ9: TRUE
A10: In Compliance | B10: 101372 | D10: 131.4 | E10: 246.6 | F10: 246.6 | K10: 49498 | L10: 49498 | M10: 49498 | O10: 663492.3 | Q10: 99426.4 | S10: College/University | T10: CBECS - College/University | U10: Type 3 | V10: 2001 | W10: 2022 | X10: College/University | Y10: Education | Z10: 246.6 | AA10: Original Site EUI available | AE10: 102.25 | AF10: 158.77 | AG10: 56.52 | AH10: 17.46 | AI10: 243.56 | AJ10: TRUE
A11: In Compliance | B11: 101453 | C11: 630 LINCOLN STREET | D11: 172 | E11: 0.1 | F11: 0.1 | G11: 0.06 | K11: 14389 | L11: 14389 | M11: 14389 | O11: 95542.2 | P11: 1200 | Q11: 12 | R11: 325990 | S11: College/University | T11: CBECS - College/University | U11: Type 2 | V11: 1969 | W11: 2024 | X11: College/University | Y11: Education | Z11: 0.1 | AA11: Original Site EUI available | AE11: 102.25 | AF11: 158.77 | AG11: 56.52 | AH11: 17.46 | AI11: 243.56 | AJ11: TRUE
A12: In Compliance | B12: 107246 | C12: 1105 CENTRAL STREET | D12: 84.6 | E12: 218.3 | F12: 231.1 | G12: 94.08 | K12: 10728 | L12: 10728 | M12: 10728 | O12: 167354.5 | P12: 1771346 | Q12: 17713.5 | R12: 571013.6 | S12: Fire Station | T12: CBECS - Fire Station/Police Station | U12: City Building | V12: 2002 | W12: 2024 | X12: Fire Station | Y12: Public services | Z12: 218.3 | AA12: Original Site EUI available | AE12: 92.15 | AF12: 136.2 | AG12: 44.05 | AH12: 26.08 | AI12: 202.27 | AJ12: TRUE
A13: In Compliance | B13: 103799 | D13: 77.6 | E13: 99.1 | F13: 111.6 | K13: 82248 | L13: 82248 | M13: 82248 | O13: 248332 | Q13: 73058.4 | S13: K-12 School | T13: CBECS - Elementary/Middle & High School | U13: Type 2 | V13: 1922 | W13: 2021 | X13: K-12 School | Y13: Education | Z13: 99.1 | AA13: Original Site EUI available | AE13: 49.2 | AF13: 68.45 | AG13: 19.25 | AH13: 20.33 | AI13: 97.32 | AJ13: TRUE
A14: In Compliance | B14: 101768 | D14: 118.1 | E14: 205.9 | F14: 216.5 | K14: 210241 | L14: 173919 | M14: 173919 | O14: 1158984 | Q14: 318510.66 | S14: Multifamily Housing | T14: Fannie Mae Industry Survey - Multifamily | U14: Type 1 | V14: 1947 | W14: 2021 | X14: Multifamily Housing | Y14: Lodging/residential | Z14: 205.9 | AA14: Original Site EUI available | AE14: 54.4 | AF14: 85.35 | AG14: 30.95 | AH14: 7.97 | AI14: 131.78 | AJ14: TRUE
A15: In Compliance | B15: 104275 | C15: 126 MAIN STREET | D15: 103.5 | E15: 177.3 | G15: 178.56 | K15: 20000 | L15: 20000 | M15: 20000 | O15: 54200.5 | P15: 3361700 | Q15: 33617 | R15: 184932.1 | S15: Multifamily Housing | T15: Fannie Mae Industry Survey - Multifamily | U15: Type 3 | V15: 1935 | W15: 2024 | X15: Multifamily Housing | Y15: Lodging/residential | Z15: 177.3 | AA15: Original Site EUI available | AE15: 54.4 | AF15: 85.35 | AG15: 30.95 | AH15: 7.97 | AI15: 131.78 | AJ15: TRUE
A16: In Compliance | B16: 104275 | D16: 106.3 | E16: 174.2 | K16: 20000 | L16: 20000 | M16: 20000 | O16: 35618.7 | Q16: 33617.66 | S16: Multifamily Housing | T16: Fannie Mae Industry Survey - Multifamily | U16: Type 3 | V16: 1935 | W16: 2021 | X16: Multifamily Housing | Y16: Lodging/residential | Z16: 174.2 | AA16: Original Site EUI available | AE16: 54.4 | AF16: 85.35 | AG16: 30.95 | AH16: 7.97 | AI16: 131.78 | AJ16: TRUE
A17: In Compliance | B17: 109238 | D17: 123 | E17: 167.9 | F17: 188.8 | K17: 31923 | L17: 29123 | M17: 29123 | O17: 47918 | Q17: 47270 | S17: Multifamily Housing | T17: Fannie Mae Industry Survey - Multifamily | U17: Type 3 | V17: 1922 | W17: 2021 | X17: Multifamily Housing | Y17: Lodging/residential | Z17: 167.9 | AA17: Original Site EUI available | AE17: 54.4 | AF17: 85.35 | AG17: 30.95 | AH17: 7.97 | AI17: 131.78 | AJ17: TRUE
A18: Received but not in compliance: Error | B18: 109238 | D18: 59.6 | K18: 24645 | L18: 24645 | M18: 24645 | S18: Multifamily Housing | T18: Fannie Mae Industry Survey - Multifamily | U18: Type 3 | V18: 1925 | W18: 2022 | X18: Multifamily Housing | Y18: Lodging/residential | Z18: 162.9 | AA18: Imputed using median Site EUI from same building in other available years | AB18: 162.9 | AC18: 140.83 | AD18: 2021, 2023, 2024 | AE18: 54.4 | AF18: 85.35 | AG18: 30.95 | AH18: 7.97 | AI18: 131.78 | AJ18: TRUE
A19: In Compliance | B19: 109238 | C19: 2121 RIDGE AVENUE | D19: 122.7 | E19: 162.9 | F19: 163.3 | G19: 205.4 | H19: 226.3 | K19: 24645 | L19: 24645 | M19: 24645 | O19: 43764.2 | Q19: 38664 | S19: Multifamily Housing | T19: Fannie Mae Industry Survey - Multifamily | U19: Type 3 | V19: 1925 | W19: 2023 | X19: Multifamily Housing | Y19: Lodging/residential | Z19: 162.9 | AA19: Original Site EUI available | AE19: 54.4 | AF19: 85.35 | AG19: 30.95 | AH19: 7.97 | AI19: 131.78 | AJ19: TRUE
A20: In Compliance | B20: 101768 | C20: 1725 ORRINGTON AVENUE | D20: 111.7 | E20: 162 | F20: 180.8 | G20: 1312.9 | H20: 1797.7 | K20: 210241 | L20: 173919 | M20: 173919 | O20: 1015537 | Q20: 247176.2 | S20: Multifamily Housing | T20: Fannie Mae Industry Survey - Multifamily | U20: Type 1 | V20: 1947 | W20: 2023 | X20: Multifamily Housing | Y20: Lodging/residential | Z20: 162 | AA20: Original Site EUI available | AE20: 54.4 | AF20: 85.35 | AG20: 30.95 | AH20: 7.97 | AI20: 131.78 | AJ20: TRUE
A21: In Compliance | B21: 107100 | C21: 1007 DAVIS STREET | D21: 83.3 | E21: 147.1 | F21: 146.6 | G21: 160.2 | H21: 218.1 | K21: 23320 | L21: 23320 | M21: 23320 | O21: 121235.4 | Q21: 30156 | S21: Multifamily Housing | T21: Fannie Mae Industry Survey - Multifamily | U21: Type 3 | V21: 1925 | W21: 2023 | X21: Multifamily Housing | Y21: Lodging/residential | Z21: 147.1 | AA21: Original Site EUI available | AE21: 54.4 | AF21: 85.35 | AG21: 30.95 | AH21: 7.97 | AI21: 131.78 | AJ21: TRUE
A22: In Compliance | B22: 107100 | C22: 1007 DAVIS STREET | D22: 78.5 | E22: 140.1 | F22: 138.9 | G22: 148 | K22: 23320 | L22: 23320 | M22: 23320 | O22: 140950.8 | P22: 2786400.1 | Q22: 27864 | R22: 480924.1 | S22: Multifamily Housing | T22: Fannie Mae Industry Survey - Multifamily | U22: Type 3 | V22: 1925 | W22: 2024 | X22: Multifamily Housing | Y22: Lodging/residential | Z22: 140.1 | AA22: Original Site EUI available | AE22: 54.4 | AF22: 85.35 | AG22: 30.95 | AH22: 7.97 | AI22: 131.78 | AJ22: TRUE
A23: In Compliance | B23: 101768 | C23: 1725 ORRINGTON AVENUE | D23: 104.4 | E23: 132.6 | F23: 145.4 | G23: 1028.65 | K23: 210241 | L23: 173919 | M23: 173919 | O23: 1083065 | P23: 19366633 | Q23: 193666.3 | R23: 3695417.8 | S23: Multifamily Housing | T23: Fannie Mae Industry Survey - Multifamily | U23: Type 1 | V23: 1947 | W23: 2024 | X23: Multifamily Housing | Y23: Lodging/residential | Z23: 132.6 | AA23: Original Site EUI available | AE23: 54.4 | AF23: 85.35 | AG23: 30.95 | AH23: 7.97 | AI23: 131.78 | AJ23: TRUE
A24: In Compliance | B24: 107679 | C24: 548 MICHIGAN AVENUE | D24: 36.1 | E24: 6.7 | G24: 3.79 | K24: 58512 | L24: 58512 | M24: 58512 | O24: 94226.5 | P24: 71300 | Q24: 713 | R24: 321500.8 | S24: Multifamily Housing | T24: Fannie Mae Industry Survey - Multifamily | U24: Type 2 | V24: 1923 | W24: 2024 | X24: Multifamily Housing | Y24: Lodging/residential | Z24: 6.7 | AA24: Original Site EUI available | AE24: 54.4 | AF24: 85.35 | AG24: 30.95 | AH24: 7.97 | AI24: 131.78 | AJ24: TRUE
A25: In Compliance | B25: 108364 | D25: 116.6 | E25: 413 | F25: 413 | K25: 92531 | L25: 74011 | M25: 74011 | O25: 3529274 | Q25: 185230.42 | S25: Office | T25: CBECS - Office & Bank/Financial | U25: Type 2 | V25: 1965 | W25: 2021 | X25: Office | Y25: Office | Z25: 413 | AA25: Original Site EUI available | AE25: 58.88 | AF25: 118.35 | AG25: 59.47 | AH25: -30.34 | AI25: 207.56 | AJ25: TRUE
A26: In Compliance | B26: 102699 | C26: 1301 CENTRAL STREET | D26: 131.7 | E26: 348.5 | F26: 375.7 | G26: 457.07 | K26: 68896 | L26: 66396 | M26: 66396 | O26: 4259743 | P26: 8605300.3 | Q26: 86053 | R26: 14534243 | S26: Office | T26: CBECS - Office & Bank/Financial | U26: Type 2 | V26: 1957 | W26: 2024 | X26: Office | Y26: Office | Z26: 348.5 | AA26: Original Site EUI available | AE26: 58.88 | AF26: 118.35 | AG26: 59.47 | AH26: -30.34 | AI26: 207.56 | AJ26: TRUE
A27: In Compliance | B27: 108364 | C27: 633 CLARK ST | D27: 158.2 | E27: 236.8 | F27: 236.8 | G27: 819.3 | K27: 92531 | L27: 74011 | M27: 74011 | O27: 616564.7 | P27: 15425162 | Q27: 154251.6 | R27: 2103718.8 | S27: Office | T27: CBECS - Office & Bank/Financial | U27: Type 2 | V27: 1965 | W27: 2024 | X27: Office | Y27: Office | Z27: 236.8 | AA27: Original Site EUI available | AE27: 58.88 | AF27: 118.35 | AG27: 59.47 | AH27: -30.34 | AI27: 207.56 | AJ27: TRUE
A28: In Compliance | B28: 108364 | C28: 633 CLARK ST | D28: 158.3 | E28: 236.5 | F28: 236.5 | G28: 813.4 | H28: 1119.3 | K28: 92531 | L28: 74011 | M28: 74011 | O28: 640759.4 | Q28: 153137.4 | S28: Office | T28: CBECS - Office & Bank/Financial | U28: Type 2 | V28: 1965 | W28: 2023 | X28: Office | Y28: Office | Z28: 236.5 | AA28: Original Site EUI available | AE28: 58.88 | AF28: 118.35 | AG28: 59.47 | AH28: -30.34 | AI28: 207.56 | AJ28: TRUE
A29: In Compliance | B29: 105254 | C29: 2315 CAMPUS DR | E29: 233.2 | F29: 235.3 | G29: 1022.65 | K29: 587908 | L29: 103220 | M29: 103220 | O29: 1411712 | P29: 19253739 | Q29: 192537.4 | R29: 4816761.3 | S29: Parking | U29: Type 1 | V29: 2013 | W29: 2024 | X29: Parking | Y29: Parking | Z29: 233.2 | AA29: Original Site EUI available | AE29: 17.7 | AF29: 98.95 | AG29: 81.25 | AH29: -104.18 | AI29: 220.82 | AJ29: TRUE
A30: In Compliance | B30: 104278 | C30: 655 UNIVERSITY PL | D30: 149.9 | E30: 640.2 | F30: 626.6 | G30: 748.74 | K30: 22881 | L30: 22881 | M30: 22881 | O30: 161961 | P30: 14096793 | Q30: 140967.9 | R30: 552610.9 | S30: Residence Hall/Dormitory | T30: Industry Survey | U30: Type 3 | V30: 1981 | W30: 2024 | X30: Residence Hall/Dormitory | Y30: Lodging/residential | Z30: 640.2 | AA30: Original Site EUI available | AE30: 58.88 | AF30: 200.2 | AG30: 141.32 | AH30: -153.11 | AI30: 412.19 | AJ30: TRUE
A31: In Compliance | B31: 102865 | C31: 2024 N. MCCORMICK BLVD | D31: 80.6 | E31: 45.7 | F31: 57.6 | G31: 13.79 | K31: 6900 | L31: 6900 | M31: 6900 | O31: 16322.8 | P31: 259547.4 | Q31: 2595.5 | R31: 55693.5 | S31: Social/Meeting Hall | T31: CBECS - Social/Meeting | U31: City Building | V31: 1974 | W31: 2024 | X31: Social/Meeting Hall | Y31: Entertainment/public assembly | Z31: 45.7 | AA31: Original Site EUI available | AE31: 57.08 | AF31: 62.97 | AG31: 5.9 | AH31: 48.23 | AI31: 71.82 | AJ31: TRUE
A32: In Compliance | B32: 105107 | C32: 1948 RIDGE AVE | D32: 36 | E32: 397.8 | F32: 414.3 | G32: 52.6 | H32: 2188.4 | K32: 40865 | L32: 40865 | M32: 40865 | O32: 4473753 | Q32: 9900.1 | S32: Vehicle Repair Services | T32: CBECS - Service | U32: Type 3 | V32: 1995 | W32: 2023 | X32: Vehicle Repair Services | Y32: Services | Z32: 397.8 | AA32: Original Site EUI available | AE32: 42.75 | AF32: 79.05 | AG32: 36.3 | AH32: -11.7 | AI32: 133.5 | AJ32: TRUE
A33: In Compliance | B33: 105088 | C33: 222 HARTREY AVENUE | D33: 77 | E33: 152.6 | G33: 722.78 | K33: 101200 | L33: 101200 | M33: 101200 | O33: 538380.5 | P33: 13608001 | Q33: 136080 | R33: 1836954.3 | S33: Vehicle Repair Services | T33: CBECS - Service | U33: Type 1 | V33: 1961 | W33: 2024 | X33: Vehicle Repair Services | Y33: Services | Z33: 152.6 | AA33: Original Site EUI available | AE33: 42.75 | AF33: 79.05 | AG33: 36.3 | AH33: -11.7 | AI33: 133.5 | AJ33: TRUE

Sheet building level site EUI
A1: Evanston Building ID | B1: Property Type Selected | C1: years used | D1: annual record count | E1: median site EUI | F1: mean site EUI | G1: min site EUI | H1: max site EUI
A2: 100772 | B2: College/University | C2: 2021, 2022, 2023, 2024 | D2: 4 | E2: 104.8 | F2: 106.12 | G2: 99.6 | H2: 115.3
A3: 101187 | B3: College/University | C3: 2021, 2022, 2023, 2024 | D3: 4 | E3: 181.45 | F3: 176.68 | G3: 159 | H3: 184.8
A4: 101372 | B4: College/University | C4: 2021, 2022, 2023, 2024 | D4: 4 | E4: 238.35 | F4: 236.78 | G4: 220.3 | H4: 250.1
A5: 101373 | B5: College/University | C5: 2021, 2022, 2023, 2024 | D5: 4 | E5: 201.7 | F5: 202.45 | G5: 196.4 | H5: 210
A6: 101453 | B6: College/University | C6: 2024 | D6: 1 | E6: 0.1 | F6: 0.1 | G6: 0.1 | H6: 0.1
A7: 101703 | B7: College/University | C7: 2021, 2022, 2023, 2024 | D7: 4 | E7: 103.95 | F7: 103.28 | G7: 95.9 | H7: 109.3
A8: 101705 | B8: College/University | C8: 2021, 2022, 2023, 2024 | D8: 4 | E8: 88 | F8: 88.6 | G8: 82.3 | H8: 96.1
A9: 101788 | B9: College/University | C9: 2021, 2022, 2023, 2024 | D9: 4 | E9: 137 | F9: 135 | G9: 128.1 | H9: 137.9
A10: 101840 | B10: College/University | C10: 2024 | D10: 1 | E10: 114.2 | F10: 114.2 | G10: 114.2 | H10: 114.2
A11: 102035 | B11: College/University | C11: 2021, 2022, 2023, 2024 | D11: 4 | E11: 90.4 | F11: 90.1 | G11: 86 | H11: 93.6
A12: 102283 | B12: College/University | C12: 2021, 2022, 2023, 2024 | D12: 4 | E12: 224.55 | F12: 223.4 | G12: 164.1 | H12: 280.4
A13: 102533 | B13: College/University | C13: 2021, 2022, 2023, 2024 | D13: 4 | E13: 108.85 | F13: 111 | G13: 104 | H13: 122.3
... A407: 109838 | B407: Worship Facility | C407: 2023 | D407: 1 | E407: 43.9 | F407: 43.9 | G407: 43.9 | H407: 43.9

Sheet stats with outliers
A1: Property Type Selected | B1: unique building count | C1: annual record count | D1: median site EUI | E1: mean site EUI | F1: min site EUI | G1: max site EUI
A2: College/University | B2: 31 | C2: 116 | D2: 137.55 | E2: 152.67 | F2: 0.1 | G2: 730.3
A3: Distribution Center | B3: 1 | C3: 3 | D3: 39.1 | E3: 38.97 | F3: 37.7 | G3: 40.1
A4: Drinking Water Treatment & Distribution | B4: 1 | C4: 1 | D4: 465.5 | E4: 465.5 | F4: 465.5 | G4: 465.5
A5: Financial Office | B5: 1 | C5: 4 | D5: 141.1 | E5: 142.2 | F5: 135.2 | G5: 151.4
A6: Fire Station | B6: 5 | C6: 10 | D6: 105.75 | E6: 124.47 | F6: 87.4 | G6: 218.3
A7: Hospital (General Medical & Surgical) | B7: 2 | C7: 7 | D7: 208.7 | E7: 222.19 | F7: 188.9 | G7: 263.6
A8: Hotel | B8: 4 | C8: 12 | D8: 80.5 | E8: 81.32 | F8: 46.1 | G8: 122.2
A9: K-12 School | B9: 19 | C9: 67 | D9: 56.8 | E9: 59.18 | F9: 37.5 | G9: 99.1
A10: Laboratory | B10: 8 | C10: 29 | D10: 333.7 | E10: 377.32 | F10: 196.2 | G10: 598.4
A11: Library | B11: 4 | C11: 14 | D11: 88.8 | E11: 102.86 | F11: 50.7 | G11: 169.5
A12: Manufacturing/Industrial Plant | B12: 1 | C12: 2 | D12: 134.9 | E12: 134.9 | F12: 118.5 | G12: 151.3
A13: Medical Office | B13: 4 | C13: 9 | D13: 148.8 | E13: 159.68 | F13: 127 | G13: 195.4
... A38: Worship Facility | B38: 12 | C38: 19 | D38: 56.7 | E38: 70.61 | F38: 15.9 | G38: 148.3

Sheet stats without outliers
A1: Property Type Selected | B1: unique building count | C1: annual record count | D1: median site EUI | E1: mean site EUI | F1: min site EUI | G1: max site EUI
A2: College/University | B2: 29 | C2: 106 | D2: 134.1 | E2: 128.73 | F2: 49.9 | G2: 230.1
A3: Distribution Center | B3: 1 | C3: 3 | D3: 39.1 | E3: 38.97 | F3: 37.7 | G3: 40.1
A4: Drinking Water Treatment & Distribution | B4: 1 | C4: 1 | D4: 465.5 | E4: 465.5 | F4: 465.5 | G4: 465.5
A5: Financial Office | B5: 1 | C5: 4 | D5: 141.1 | E5: 142.2 | F5: 135.2 | G5: 151.4
A6: Fire Station | B6: 5 | C6: 9 | D6: 99.5 | E6: 114.04 | F6: 87.4 | G6: 186.1
A7: Hospital (General Medical & Surgical) | B7: 2 | C7: 7 | D7: 208.7 | E7: 222.19 | F7: 188.9 | G7: 263.6
A8: Hotel | B8: 4 | C8: 12 | D8: 80.5 | E8: 81.32 | F8: 46.1 | G8: 122.2
A9: K-12 School | B9: 18 | C9: 66 | D9: 56.65 | E9: 58.57 | F9: 37.5 | G9: 88.4
A10: Laboratory | B10: 8 | C10: 29 | D10: 333.7 | E10: 377.32 | F10: 196.2 | G10: 598.4
A11: Library | B11: 4 | C11: 14 | D11: 88.8 | E11: 102.86 | F11: 50.7 | G11: 169.5
A12: Manufacturing/Industrial Plant | B12: 1 | C12: 2 | D12: 134.9 | E12: 134.9 | F12: 118.5 | G12: 151.3
A13: Medical Office | B13: 4 | C13: 9 | D13: 148.8 | E13: 159.68 | F13: 127 | G13: 195.4
... A38: Worship Facility | B38: 12 | C38: 19 | D38: 56.7 | E38: 70.61 | F38: 15.9 | G38: 148.3

Sheet baseline values
A1: analysis sample | B1: Property Type Selected | C1: unique building count | D1: annual record count | E1: Evanston median site EUI | F1: Evanston mean site EUI | G1: CZ 5A 25th percentile site EUI | H1: CZ 5A median site EUI | I1: CZ 5A 75th percentile site EUI | J1: ESPM property type | K1: ESPM property count | L1: match status | M1: calculator lookup key
A2: All covered buildings | B2: College/University | C2: 31 | D2: 116 | E2: 137.55 | F2: 152.67 | G2: 59.8 | H2: 92.1 | I2: 146 | J2: College/University | K2: 500-999 | L2: Exact match | M2: All covered buildings|College/University
A3: All covered buildings | B3: Distribution Center | C3: 1 | D3: 3 | E3: 39.1 | F3: 38.97 | G3: 22.7 | H3: 36.1 | I3: 54.6 | J3: Distribution Center | K3: 100-249 | L3: Exact match | M3: All covered buildings|Distribution Center
A4: All covered buildings | B4: Drinking Water Treatment & Distribution | C4: 1 | D4: 1 | E4: 465.5 | F4: 465.5 | G4: 90.7 | H4: 259.8 | I4: 478.8 | J4: Drinking Water Treatment & Distribution | K4: 30-49 | L4: Exact match | M4: All covered buildings|Drinking Water Treatment & Distribution
A5: All covered buildings | B5: Financial Office | C5: 1 | D5: 4 | E5: 141.1 | F5: 142.2 | G5: 48.5 | H5: 66.9 | I5: 98.1 | J5: Financial Office | K5: 50-99 | L5: Exact match | M5: All covered buildings|Financial Office
A6: All covered buildings | B6: Fire Station | C6: 5 | D6: 10 | E6: 105.75 | F6: 124.47 | G6: 58.5 | H6: 83.3 | I6: 108.4 | J6: Fire Station | K6: 250-500 | L6: Exact match | M6: All covered buildings|Fire Station
A7: All covered buildings | B7: Hospital (General Medical & Surgical) | C7: 2 | D7: 7 | E7: 208.7 | F7: 222.19 | G7: 191.7 | H7: 224.6 | I7: 260.5 | J7: Hospital (General Medical & Surgical) | K7: 250-500 | L7: Exact match | M7: All covered buildings|Hospital (General Medical & Surgical)
A8: All covered buildings | B8: Hotel | C8: 4 | D8: 12 | E8: 80.5 | F8: 81.32 | G8: 61.8 | H8: 79.5 | I8: 104 | J8: Hotel | K8: 500-999 | L8: Exact match | M8: All covered buildings|Hotel
A9: All covered buildings | B9: K-12 School | C9: 19 | D9: 67 | E9: 56.8 | F9: 59.18 | G9: 43.3 | H9: 55.3 | I9: 68.8 | J9: K-12 School | K9: 1,000-2,499 | L9: Exact match | M9: All covered buildings|K-12 School
A10: All covered buildings | B10: Laboratory | C10: 8 | D10: 29 | E10: 333.7 | F10: 377.32 | G10: 132.2 | H10: 228.4 | I10: 317.3 | J10: Laboratory | K10: 100-249 | L10: Exact match | M10: All covered buildings|Laboratory
A11: All covered buildings | B11: Library | C11: 4 | D11: 14 | E11: 88.8 | F11: 102.86 | G11: 45.5 | H11: 69.9 | I11: 93.3 | J11: Library | K11: 100-249 | L11: Exact match | M11: All covered buildings|Library
A12: All covered buildings | B12: Manufacturing/Industrial Plant | C12: 1 | D12: 2 | E12: 134.9 | F12: 134.9 | G12: 40.5 | H12: 80.3 | I12: 202.8 | J12: Manufacturing/Industrial Plant | K12: 250-500 | L12: Exact match | M12: All covered buildings|Manufacturing/Industrial Plant
A13: All covered buildings | B13: Medical Office | C13: 4 | D13: 9 | E13: 148.8 | F13: 159.68 | G13: 52.3 | H13: 75.4 | I13: 112.4 | J13: Medical Office | K13: 500-999 | L13: Exact match | M13: All covered buildings|Medical Office
... A74: Without NU | B74: Worship Facility | C74: 11 | D74: 15 | E74: 53.1 | F74: 51.25 | G74: 33.8 | H74: 46.3 | I74: 61.9 | J74: Worship Facility | K74: 100-249 | L74: Exact match | M74: Without NU|Worship Facility

Sheet Site EUI calculator
A1: Property Type Selected | B1: unique building count | C1: annual record count | D1: baseline used | E1: baseline value | F1: 2030 reduction % | G1: calculated 2030 target site EUI | H1: 2030 buildings above target | I1: % of buildings that need to improve | J1: 2035 reduction % | K1: calculated 2035 target site EUI | L1: 2035 buildings above target | M1: % of buildings that need to improve | N1: 2040 reduction % | O1: calculated 2040 target site EUI | P1: 2040 buildings above target | Q1: % of buildings that need to improve | R1: 2045 reduction % | S1: calculated 2045 target site EUI | T1: 2045 buildings above target | U1: % of buildings that need to improve | V1: 2050 reduction % | W1: calculated 2050 target site EUI | X1: 2050 buildings above target | Y1: % of buildings that need to improve | Z1: Total site EUI reduction %
A2: College/University | B2: =IF($A2="","",_xlfn.XLOOKUP("All covered buildings|"&$A2,'baseline values'!$M:$M,'baseline values'!$C:$C,"")) -> 31 | C2: =IF($A2="","",_xlfn.XLOOKUP("All covered buildings|"&$A2,'baseline values'!$M:$M,'baseline values'!$D:$D,"")) -> 116 | D2: Evanston median site EUI | E2: =IF($D2="CZ 5A median site EUI",_xlfn.XLOOKUP("All covered buildings|"&$A2,'baseline values'!$M:$M,'baseline values'!$H:$H,""),IF($D2="CZ 5A 25th percentile site EUI",_xlfn.XLOOKUP("All covered buildings|"&$A2,'baseline values'!$M:$M,'baseline values'!$G:$G,""),IF($D2="CZ 5A 75th percentile site EUI",_xlfn.XLOOKUP("All covered buildings|"&$A2,'baseline values'!$M:$M,'baseline values'!$I:$I,""),IF($D2="Evanston median site EUI",_xlfn.XLOOKUP("All covered buildings|"&$A2,'baseline values'!$M:$M,'baseline values'!$E:$E,""),IF($D2="Evanston mean site EUI",_xlfn.XLOOKUP("All covered buildings|"&$A2,'baseline values'!$M:$M,'baseline values'!$F:$F,""),""))))) -> 137.55 | F2: 0 | G2: =IF(OR($E2="",F2=""),"",MAX(0,$E2*(1-SUM(F2)))) -> 137.55 | H2: =IF(G2="","",COUNTIFS('building level site EUI'!$B:$B,$A2,'building level site EUI'!$E:$E,">"&G2)) -> 13 | I2: =IF(OR(H2="",$B2="", $B2=0),"",H2/$B2) -> 0.41935484 | J2: 0.1 | K2: =IF(OR($E2="",F2="",J2=""),"",MAX(0,$E2*(1-SUM(F2,J2)))) -> 123.795 | L2: =IF(K2="","",COUNTIFS('building level site EUI'!$B:$B,$A2,'building level site EUI'!$E:$E,">"&K2)) -> 17 | M2: =IF(OR(L2="",$B2="", $B2=0),"",L2/$B2) -> 0.5483871 | N2: 0.1 | O2: =IF(OR($E2="",F2="",J2="",N2=""),"",MAX(0,$E2*(1-SUM(F2,J2,N2)))) -> 110.04 | P2: =IF(O2="","",COUNTIFS('building level site EUI'!$B:$B,$A2,'building level site EUI'!$E:$E,">"&O2)) -> 20 | Q2: =IF(OR(P2="",$B2="", $B2=0),"",P2/$B2) -> 0.64516129 | R2: 0.1 | S2: =IF(OR($E2="",F2="",J2="",N2="",R2=""),"",MAX(0,$E2*(1-SUM(F2,J2,N2,R2)))) -> 96.285 | T2: =IF(S2="","",COUNTIFS('building level site EUI'!$B:$B,$A2,'building level site EUI'!$E:$E,">"&S2)) -> 24 | U2: =IF(OR(T2="",$B2="", $B2=0),"",T2/$B2) -> 0.77419355 | V2: 0.1 | W2: =IF(OR($E2="",F2="",J2="",N2="",R2="",V2=""),"",MAX(0,$E2*(1-SUM(F2,J2,N2,R2,V2)))) -> 82.53 | X2: =IF(W2="","",COUNTIFS('building level site EUI'!$B:$B,$A2,'building level site EUI'!$E:$E,">"&W2)) -> 26 | Y2: =IF(OR(X2="",$B2="", $B2=0),"",X2/$B2) -> 0.83870968 | Z2: =IF(OR($E2="",W2="", $E2=0),"",($E2-W2)/$E2) -> 0.4
A3: Distribution Center | B3: =IF($A3="","",_xlfn.XLOOKUP("All covered buildings|"&$A3,'baseline values'!$M:$M,'baseline values'!$C:$C,"")) -> 1 | C3: =IF($A3="","",_xlfn.XLOOKUP("All covered buildings|"&$A3,'baseline values'!$M:$M,'baseline values'!$D:$D,"")) -> 3 | D3: Evanston median site EUI | E3: =IF($D3="CZ 5A median site EUI",_xlfn.XLOOKUP("All covered buildings|"&$A3,'baseline values'!$M:$M,'baseline values'!$H:$H,""),IF($D3="CZ 5A 25th percentile site EUI",_xlfn.XLOOKUP("All covered buildings|"&$A3,'baseline values'!$M:$M,'baseline values'!$G:$G,""),IF($D3="CZ 5A 75th percentile site EUI",_xlfn.XLOOKUP("All covered buildings|"&$A3,'baseline values'!$M:$M,'baseline values'!$I:$I,""),IF($D3="Evanston median site EUI",_xlfn.XLOOKUP("All covered buildings|"&$A3,'baseline values'!$M:$M,'baseline values'!$E:$E,""),IF($D3="Evanston mean site EUI",_xlfn.XLOOKUP("All covered buildings|"&$A3,'baseline values'!$M:$M,'baseline values'!$F:$F,""),""))))) -> 39.1 | F3: 0 | G3: =IF(OR($E3="",F3=""),"",MAX(0,$E3*(1-SUM(F3)))) -> 39.1 | H3: =IF(G3="","",COUNTIFS('building level site EUI'!$B:$B,$A3,'building level site EUI'!$E:$E,">"&G3)) -> 0 | I3: =IF(OR(H3="",$B3="", $B3=0),"",H3/$B3) -> 0 | K3: =IF(OR($E3="",F3="",J3=""),"",MAX(0,$E3*(1-SUM(F3,J3)))) | L3: =IF(K3="","",COUNTIFS('building level site EUI'!$B:$B,$A3,'building level site EUI'!$E:$E,">"&K3)) | M3: =IF(OR(L3="",$B3="", $B3=0),"",L3/$B3) | N3: 0 | O3: =IF(OR($E3="",F3="",J3="",N3=""),"",MAX(0,$E3*(1-SUM(F3,J3,N3)))) | P3: =IF(O3="","",COUNTIFS('building level site EUI'!$B:$B,$A3,'building level site EUI'!$E:$E,">"&O3)) | Q3: =IF(OR(P3="",$B3="", $B3=0),"",P3/$B3) | S3: =IF(OR($E3="",F3="",J3="",N3="",R3=""),"",MAX(0,$E3*(1-SUM(F3,J3,N3,R3)))) | T3: =IF(S3="","",COUNTIFS('building level site EUI'!$B:$B,$A3,'building level site EUI'!$E:$E,">"&S3)) | U3: =IF(OR(T3="",$B3="", $B3=0),"",T3/$B3) | W3: =IF(OR($E3="",F3="",J3="",N3="",R3="",V3=""),"",MAX(0,$E3*(1-SUM(F3,J3,N3,R3,V3)))) | X3: =IF(W3="","",COUNTIFS('building level site EUI'!$B:$B,$A3,'building level site EUI'!$E:$E,">"&W3)) | Y3: =IF(OR(X3="",$B3="", $B3=0),"",X3/$B3) | Z3: =IF(OR($E3="",W3="", $E3=0),"",($E3-W3)/$E3)
A4: Drinking Water Treatment & Distribution | B4: =IF($A4="","",_xlfn.XLOOKUP("All covered buildings|"&$A4,'baseline values'!$M:$M,'baseline values'!$C:$C,"")) -> 1 | C4: =IF($A4="","",_xlfn.XLOOKUP("All covered buildings|"&$A4,'baseline values'!$M:$M,'baseline values'!$D:$D,"")) -> 1 | D4: Evanston median site EUI | E4: =IF($D4="CZ 5A median site EUI",_xlfn.XLOOKUP("All covered buildings|"&$A4,'baseline values'!$M:$M,'baseline values'!$H:$H,""),IF($D4="CZ 5A 25th percentile site EUI",_xlfn.XLOOKUP("All covered buildings|"&$A4,'baseline values'!$M:$M,'baseline values'!$G:$G,""),IF($D4="CZ 5A 75th percentile site EUI",_xlfn.XLOOKUP("All covered buildings|"&$A4,'baseline values'!$M:$M,'baseline values'!$I:$I,""),IF($D4="Evanston median site EUI",_xlfn.XLOOKUP("All covered buildings|"&$A4,'baseline values'!$M:$M,'baseline values'!$E:$E,""),IF($D4="Evanston mean site EUI",_xlfn.XLOOKUP("All covered buildings|"&$A4,'baseline values'!$M:$M,'baseline values'!$F:$F,""),""))))) -> 465.5 | F4: 0 | G4: =IF(OR($E4="",F4=""),"",MAX(0,$E4*(1-SUM(F4)))) -> 465.5 | H4: =IF(G4="","",COUNTIFS('building level site EUI'!$B:$B,$A4,'building level site EUI'!$E:$E,">"&G4)) -> 0 | I4: =IF(OR(H4="",$B4="", $B4=0),"",H4/$B4) -> 0 | K4: =IF(OR($E4="",F4="",J4=""),"",MAX(0,$E4*(1-SUM(F4,J4)))) | L4: =IF(K4="","",COUNTIFS('building level site EUI'!$B:$B,$A4,'building level site EUI'!$E:$E,">"&K4)) | M4: =IF(OR(L4="",$B4="", $B4=0),"",L4/$B4) | N4: 0 | O4: =IF(OR($E4="",F4="",J4="",N4=""),"",MAX(0,$E4*(1-SUM(F4,J4,N4)))) | P4: =IF(O4="","",COUNTIFS('building level site EUI'!$B:$B,$A4,'building level site EUI'!$E:$E,">"&O4)) | Q4: =IF(OR(P4="",$B4="", $B4=0),"",P4/$B4) | S4: =IF(OR($E4="",F4="",J4="",N4="",R4=""),"",MAX(0,$E4*(1-SUM(F4,J4,N4,R4)))) | T4: =IF(S4="","",COUNTIFS('building level site EUI'!$B:$B,$A4,'building level site EUI'!$E:$E,">"&S4)) | U4: =IF(OR(T4="",$B4="", $B4=0),"",T4/$B4) | W4: =IF(OR($E4="",F4="",J4="",N4="",R4="",V4=""),"",MAX(0,$E4*(1-SUM(F4,J4,N4,R4,V4)))) | X4: =IF(W4="","",COUNTIFS('building level site EUI'!$B:$B,$A4,'building level site EUI'!$E:$E,">"&W4)) | Y4: =IF(OR(X4="",$B4="", $B4=0),"",X4/$B4) | Z4: =IF(OR($E4="",W4="", $E4=0),"",($E4-W4)/$E4)
A5: Financial Office | B5: =IF($A5="","",_xlfn.XLOOKUP("All covered buildings|"&$A5,'baseline values'!$M:$M,'baseline values'!$C:$C,"")) -> 1 | C5: =IF($A5="","",_xlfn.XLOOKUP("All covered buildings|"&$A5,'baseline values'!$M:$M,'baseline values'!$D:$D,"")) -> 4 | D5: Evanston median site EUI | E5: =IF($D5="CZ 5A median site EUI",_xlfn.XLOOKUP("All covered buildings|"&$A5,'baseline values'!$M:$M,'baseline values'!$H:$H,""),IF($D5="CZ 5A 25th percentile site EUI",_xlfn.XLOOKUP("All covered buildings|"&$A5,'baseline values'!$M:$M,'baseline values'!$G:$G,""),IF($D5="CZ 5A 75th percentile site EUI",_xlfn.XLOOKUP("All covered buildings|"&$A5,'baseline values'!$M:$M,'baseline values'!$I:$I,""),IF($D5="Evanston median site EUI",_xlfn.XLOOKUP("All covered buildings|"&$A5,'baseline values'!$M:$M,'baseline values'!$E:$E,""),IF($D5="Evanston mean site EUI",_xlfn.XLOOKUP("All covered buildings|"&$A5,'baseline values'!$M:$M,'baseline values'!$F:$F,""),""))))) -> 141.1 | F5: 0 | G5: =IF(OR($E5="",F5=""),"",MAX(0,$E5*(1-SUM(F5)))) -> 141.1 | H5: =IF(G5="","",COUNTIFS('building level site EUI'!$B:$B,$A5,'building level site EUI'!$E:$E,">"&G5)) -> 0 | I5: =IF(OR(H5="",$B5="", $B5=0),"",H5/$B5) -> 0 | K5: =IF(OR($E5="",F5="",J5=""),"",MAX(0,$E5*(1-SUM(F5,J5)))) | L5: =IF(K5="","",COUNTIFS('building level site EUI'!$B:$B,$A5,'building level site EUI'!$E:$E,">"&K5)) | M5: =IF(OR(L5="",$B5="", $B5=0),"",L5/$B5) | N5: 0 | O5: =IF(OR($E5="",F5="",J5="",N5=""),"",MAX(0,$E5*(1-SUM(F5,J5,N5)))) | P5: =IF(O5="","",COUNTIFS('building level site EUI'!$B:$B,$A5,'building level site EUI'!$E:$E,">"&O5)) | Q5: =IF(OR(P5="",$B5="", $B5=0),"",P5/$B5) | S5: =IF(OR($E5="",F5="",J5="",N5="",R5=""),"",MAX(0,$E5*(1-SUM(F5,J5,N5,R5)))) | T5: =IF(S5="","",COUNTIFS('building level site EUI'!$B:$B,$A5,'building level site EUI'!$E:$E,">"&S5)) | U5: =IF(OR(T5="",$B5="", $B5=0),"",T5/$B5) | W5: =IF(OR($E5="",F5="",J5="",N5="",R5="",V5=""),"",MAX(0,$E5*(1-SUM(F5,J5,N5,R5,V5)))) | X5: =IF(W5="","",COUNTIFS('building level site EUI'!$B:$B,$A5,'building level site EUI'!$E:$E,">"&W5)) | Y5: =IF(OR(X5="",$B5="", $B5=0),"",X5/$B5) | Z5: =IF(OR($E5="",W5="", $E5=0),"",($E5-W5)/$E5)
A6: Fire Station | B6: =IF($A6="","",_xlfn.XLOOKUP("All covered buildings|"&$A6,'baseline values'!$M:$M,'baseline values'!$C:$C,"")) -> 5 | C6: =IF($A6="","",_xlfn.XLOOKUP("All covered buildings|"&$A6,'baseline values'!$M:$M,'baseline values'!$D:$D,"")) -> 10 | D6: CZ 5A median site EUI | E6: =IF($D6="CZ 5A median site EUI",_xlfn.XLOOKUP("All covered buildings|"&$A6,'baseline values'!$M:$M,'baseline values'!$H:$H,""),IF($D6="CZ 5A 25th percentile site EUI",_xlfn.XLOOKUP("All covered buildings|"&$A6,'baseline values'!$M:$M,'baseline values'!$G:$G,""),IF($D6="CZ 5A 75th percentile site EUI",_xlfn.XLOOKUP("All covered buildings|"&$A6,'baseline values'!$M:$M,'baseline values'!$I:$I,""),IF($D6="Evanston median site EUI",_xlfn.XLOOKUP("All covered buildings|"&$A6,'baseline values'!$M:$M,'baseline values'!$E:$E,""),IF($D6="Evanston mean site EUI",_xlfn.XLOOKUP("All covered buildings|"&$A6,'baseline values'!$M:$M,'baseline values'!$F:$F,""),""))))) -> 83.3 | G6: =IF(OR($E6="",F6=""),"",MAX(0,$E6*(1-SUM(F6)))) | H6: =IF(G6="","",COUNTIFS('building level site EUI'!$B:$B,$A6,'building level site EUI'!$E:$E,">"&G6)) | I6: =IF(OR(H6="",$B6="", $B6=0),"",H6/$B6) | K6: =IF(OR($E6="",F6="",J6=""),"",MAX(0,$E6*(1-SUM(F6,J6)))) | L6: =IF(K6="","",COUNTIFS('building level site EUI'!$B:$B,$A6,'building level site EUI'!$E:$E,">"&K6)) | M6: =IF(OR(L6="",$B6="", $B6=0),"",L6/$B6) | N6: 0 | O6: =IF(OR($E6="",F6="",J6="",N6=""),"",MAX(0,$E6*(1-SUM(F6,J6,N6)))) | P6: =IF(O6="","",COUNTIFS('building level site EUI'!$B:$B,$A6,'building level site EUI'!$E:$E,">"&O6)) | Q6: =IF(OR(P6="",$B6="", $B6=0),"",P6/$B6) | S6: =IF(OR($E6="",F6="",J6="",N6="",R6=""),"",MAX(0,$E6*(1-SUM(F6,J6,N6,R6)))) | T6: =IF(S6="","",COUNTIFS('building level site EUI'!$B:$B,$A6,'building level site EUI'!$E:$E,">"&S6)) | U6: =IF(OR(T6="",$B6="", $B6=0),"",T6/$B6) | W6: =IF(OR($E6="",F6="",J6="",N6="",R6="",V6=""),"",MAX(0,$E6*(1-SUM(F6,J6,N6,R6,V6)))) | X6: =IF(W6="","",COUNTIFS('building level site EUI'!$B:$B,$A6,'building level site EUI'!$E:$E,">"&W6)) | Y6: =IF(OR(X6="",$B6="", $B6=0),"",X6/$B6) | Z6: =IF(OR($E6="",W6="", $E6=0),"",($E6-W6)/$E6)
A7: Hospital (General Medical & Surgical) | B7: =IF($A7="","",_xlfn.XLOOKUP("All covered buildings|"&$A7,'baseline values'!$M:$M,'baseline values'!$C:$C,"")) -> 2 | C7: =IF($A7="","",_xlfn.XLOOKUP("All covered buildings|"&$A7,'baseline values'!$M:$M,'baseline values'!$D:$D,"")) -> 7 | D7: CZ 5A median site EUI | E7: =IF($D7="CZ 5A median site EUI",_xlfn.XLOOKUP("All covered buildings|"&$A7,'baseline values'!$M:$M,'baseline values'!$H:$H,""),IF($D7="CZ 5A 25th percentile site EUI",_xlfn.XLOOKUP("All covered buildings|"&$A7,'baseline values'!$M:$M,'baseline values'!$G:$G,""),IF($D7="CZ 5A 75th percentile site EUI",_xlfn.XLOOKUP("All covered buildings|"&$A7,'baseline values'!$M:$M,'baseline values'!$I:$I,""),IF($D7="Evanston median site EUI",_xlfn.XLOOKUP("All covered buildings|"&$A7,'baseline values'!$M:$M,'baseline values'!$E:$E,""),IF($D7="Evanston mean site EUI",_xlfn.XLOOKUP("All covered buildings|"&$A7,'baseline values'!$M:$M,'baseline values'!$F:$F,""),""))))) -> 224.6 | G7: =IF(OR($E7="",F7=""),"",MAX(0,$E7*(1-SUM(F7)))) | H7: =IF(G7="","",COUNTIFS('building level site EUI'!$B:$B,$A7,'building level site EUI'!$E:$E,">"&G7)) | I7: =IF(OR(H7="",$B7="", $B7=0),"",H7/$B7) | K7: =IF(OR($E7="",F7="",J7=""),"",MAX(0,$E7*(1-SUM(F7,J7)))) | L7: =IF(K7="","",COUNTIFS('building level site EUI'!$B:$B,$A7,'building level site EUI'!$E:$E,">"&K7)) | M7: =IF(OR(L7="",$B7="", $B7=0),"",L7/$B7) | N7: 0 | O7: =IF(OR($E7="",F7="",J7="",N7=""),"",MAX(0,$E7*(1-SUM(F7,J7,N7)))) | P7: =IF(O7="","",COUNTIFS('building level site EUI'!$B:$B,$A7,'building level site EUI'!$E:$E,">"&O7)) | Q7: =IF(OR(P7="",$B7="", $B7=0),"",P7/$B7) | S7: =IF(OR($E7="",F7="",J7="",N7="",R7=""),"",MAX(0,$E7*(1-SUM(F7,J7,N7,R7)))) | T7: =IF(S7="","",COUNTIFS('building level site EUI'!$B:$B,$A7,'building level site EUI'!$E:$E,">"&S7)) | U7: =IF(OR(T7="",$B7="", $B7=0),"",T7/$B7) | W7: =IF(OR($E7="",F7="",J7="",N7="",R7="",V7=""),"",MAX(0,$E7*(1-SUM(F7,J7,N7,R7,V7)))) | X7: =IF(W7="","",COUNTIFS('building level site EUI'!$B:$B,$A7,'building level site EUI'!$E:$E,">"&W7)) | Y7: =IF(OR(X7="",$B7="", $B7=0),"",X7/$B7) | Z7: =IF(OR($E7="",W7="", $E7=0),"",($E7-W7)/$E7)
A8: Hotel | B8: =IF($A8="","",_xlfn.XLOOKUP("All covered buildings|"&$A8,'baseline values'!$M:$M,'baseline values'!$C:$C,"")) -> 4 | C8: =IF($A8="","",_xlfn.XLOOKUP("All covered buildings|"&$A8,'baseline values'!$M:$M,'baseline values'!$D:$D,"")) -> 12 | D8: CZ 5A median site EUI | E8: =IF($D8="CZ 5A median site EUI",_xlfn.XLOOKUP("All covered buildings|"&$A8,'baseline values'!$M:$M,'baseline values'!$H:$H,""),IF($D8="CZ 5A 25th percentile site EUI",_xlfn.XLOOKUP("All covered buildings|"&$A8,'baseline values'!$M:$M,'baseline values'!$G:$G,""),IF($D8="CZ 5A 75th percentile site EUI",_xlfn.XLOOKUP("All covered buildings|"&$A8,'baseline values'!$M:$M,'baseline values'!$I:$I,""),IF($D8="Evanston median site EUI",_xlfn.XLOOKUP("All covered buildings|"&$A8,'baseline values'!$M:$M,'baseline values'!$E:$E,""),IF($D8="Evanston mean site EUI",_xlfn.XLOOKUP("All covered buildings|"&$A8,'baseline values'!$M:$M,'baseline values'!$F:$F,""),""))))) -> 79.5 | G8: =IF(OR($E8="",F8=""),"",MAX(0,$E8*(1-SUM(F8)))) | H8: =IF(G8="","",COUNTIFS('building level site EUI'!$B:$B,$A8,'building level site EUI'!$E:$E,">"&G8)) | I8: =IF(OR(H8="",$B8="", $B8=0),"",H8/$B8) | K8: =IF(OR($E8="",F8="",J8=""),"",MAX(0,$E8*(1-SUM(F8,J8)))) | L8: =IF(K8="","",COUNTIFS('building level site EUI'!$B:$B,$A8,'building level site EUI'!$E:$E,">"&K8)) | M8: =IF(OR(L8="",$B8="", $B8=0),"",L8/$B8) | N8: 0 | O8: =IF(OR($E8="",F8="",J8="",N8=""),"",MAX(0,$E8*(1-SUM(F8,J8,N8)))) | P8: =IF(O8="","",COUNTIFS('building level site EUI'!$B:$B,$A8,'building level site EUI'!$E:$E,">"&O8)) | Q8: =IF(OR(P8="",$B8="", $B8=0),"",P8/$B8) | S8: =IF(OR($E8="",F8="",J8="",N8="",R8=""),"",MAX(0,$E8*(1-SUM(F8,J8,N8,R8)))) | T8: =IF(S8="","",COUNTIFS('building level site EUI'!$B:$B,$A8,'building level site EUI'!$E:$E,">"&S8)) | U8: =IF(OR(T8="",$B8="", $B8=0),"",T8/$B8) | W8: =IF(OR($E8="",F8="",J8="",N8="",R8="",V8=""),"",MAX(0,$E8*(1-SUM(F8,J8,N8,R8,V8)))) | X8: =IF(W8="","",COUNTIFS('building level site EUI'!$B:$B,$A8,'building level site EUI'!$E:$E,">"&W8)) | Y8: =IF(OR(X8="",$B8="", $B8=0),"",X8/$B8) | Z8: =IF(OR($E8="",W8="", $E8=0),"",($E8-W8)/$E8)
A9: K-12 School | B9: =IF($A9="","",_xlfn.XLOOKUP("All covered buildings|"&$A9,'baseline values'!$M:$M,'baseline values'!$C:$C,"")) -> 19 | C9: =IF($A9="","",_xlfn.XLOOKUP("All covered buildings|"&$A9,'baseline values'!$M:$M,'baseline values'!$D:$D,"")) -> 67 | D9: Evanston median site EUI | E9: =IF($D9="CZ 5A median site EUI",_xlfn.XLOOKUP("All covered buildings|"&$A9,'baseline values'!$M:$M,'baseline values'!$H:$H,""),IF($D9="CZ 5A 25th percentile site EUI",_xlfn.XLOOKUP("All covered buildings|"&$A9,'baseline values'!$M:$M,'baseline values'!$G:$G,""),IF($D9="CZ 5A 75th percentile site EUI",_xlfn.XLOOKUP("All covered buildings|"&$A9,'baseline values'!$M:$M,'baseline values'!$I:$I,""),IF($D9="Evanston median site EUI",_xlfn.XLOOKUP("All covered buildings|"&$A9,'baseline values'!$M:$M,'baseline values'!$E:$E,""),IF($D9="Evanston mean site EUI",_xlfn.XLOOKUP("All covered buildings|"&$A9,'baseline values'!$M:$M,'baseline values'!$F:$F,""),""))))) -> 56.8 | F9: 0 | G9: =IF(OR($E9="",F9=""),"",MAX(0,$E9*(1-SUM(F9)))) -> 56.8 | H9: =IF(G9="","",COUNTIFS('building level site EUI'!$B:$B,$A9,'building level site EUI'!$E:$E,">"&G9)) -> 10 | I9: =IF(OR(H9="",$B9="", $B9=0),"",H9/$B9) -> 0.52631579 | K9: =IF(OR($E9="",F9="",J9=""),"",MAX(0,$E9*(1-SUM(F9,J9)))) | L9: =IF(K9="","",COUNTIFS('building level site EUI'!$B:$B,$A9,'building level site EUI'!$E:$E,">"&K9)) | M9: =IF(OR(L9="",$B9="", $B9=0),"",L9/$B9) | N9: 0 | O9: =IF(OR($E9="",F9="",J9="",N9=""),"",MAX(0,$E9*(1-SUM(F9,J9,N9)))) | P9: =IF(O9="","",COUNTIFS('building level site EUI'!$B:$B,$A9,'building level site EUI'!$E:$E,">"&O9)) | Q9: =IF(OR(P9="",$B9="", $B9=0),"",P9/$B9) | S9: =IF(OR($E9="",F9="",J9="",N9="",R9=""),"",MAX(0,$E9*(1-SUM(F9,J9,N9,R9)))) | T9: =IF(S9="","",COUNTIFS('building level site EUI'!$B:$B,$A9,'building level site EUI'!$E:$E,">"&S9)) | U9: =IF(OR(T9="",$B9="", $B9=0),"",T9/$B9) | W9: =IF(OR($E9="",F9="",J9="",N9="",R9="",V9=""),"",MAX(0,$E9*(1-SUM(F9,J9,N9,R9,V9)))) | X9: =IF(W9="","",COUNTIFS('building level site EUI'!$B:$B,$A9,'building level site EUI'!$E:$E,">"&W9)) | Y9: =IF(OR(X9="",$B9="", $B9=0),"",X9/$B9) | Z9: =IF(OR($E9="",W9="", $E9=0),"",($E9-W9)/$E9)
A10: Laboratory | B10: =IF($A10="","",_xlfn.XLOOKUP("All covered buildings|"&$A10,'baseline values'!$M:$M,'baseline values'!$C:$C,"")) -> 8 | C10: =IF($A10="","",_xlfn.XLOOKUP("All covered buildings|"&$A10,'baseline values'!$M:$M,'baseline values'!$D:$D,"")) -> 29 | D10: CZ 5A median site EUI | E10: =IF($D10="CZ 5A median site EUI",_xlfn.XLOOKUP("All covered buildings|"&$A10,'baseline values'!$M:$M,'baseline values'!$H:$H,""),IF($D10="CZ 5A 25th percentile site EUI",_xlfn.XLOOKUP("All covered buildings|"&$A10,'baseline values'!$M:$M,'baseline values'!$G:$G,""),IF($D10="CZ 5A 75th percentile site EUI",_xlfn.XLOOKUP("All covered buildings|"&$A10,'baseline values'!$M:$M,'baseline values'!$I:$I,""),IF($D10="Evanston median site EUI",_xlfn.XLOOKUP("All covered buildings|"&$A10,'baseline values'!$M:$M,'baseline values'!$E:$E,""),IF($D10="Evanston mean site EUI",_xlfn.XLOOKUP("All covered buildings|"&$A10,'baseline values'!$M:$M,'baseline values'!$F:$F,""),""))))) -> 228.4 | G10: =IF(OR($E10="",F10=""),"",MAX(0,$E10*(1-SUM(F10)))) | H10: =IF(G10="","",COUNTIFS('building level site EUI'!$B:$B,$A10,'building level site EUI'!$E:$E,">"&G10)) | I10: =IF(OR(H10="",$B10="", $B10=0),"",H10/$B10) | K10: =IF(OR($E10="",F10="",J10=""),"",MAX(0,$E10*(1-SUM(F10,J10)))) | L10: =IF(K10="","",COUNTIFS('building level site EUI'!$B:$B,$A10,'building level site EUI'!$E:$E,">"&K10)) | M10: =IF(OR(L10="",$B10="", $B10=0),"",L10/$B10) | N10: 0 | O10: =IF(OR($E10="",F10="",J10="",N10=""),"",MAX(0,$E10*(1-SUM(F10,J10,N10)))) | P10: =IF(O10="","",COUNTIFS('building level site EUI'!$B:$B,$A10,'building level site EUI'!$E:$E,">"&O10)) | Q10: =IF(OR(P10="",$B10="", $B10=0),"",P10/$B10) | S10: =IF(OR($E10="",F10="",J10="",N10="",R10=""),"",MAX(0,$E10*(1-SUM(F10,J10,N10,R10)))) | T10: =IF(S10="","",COUNTIFS('building level site EUI'!$B:$B,$A10,'building level site EUI'!$E:$E,">"&S10)) | U10: =IF(OR(T10="",$B10="", $B10=0),"",T10/$B10) | W10: =IF(OR($E10="",F10="",J10="",N10="",R10="",V10=""),"",MAX(0,$E10*(1-SUM(F10,J10,N10,R10,V10)))) | X10: =IF(W10="","",COUNTIFS('building level site EUI'!$B:$B,$A10,'building level site EUI'!$E:$E,">"&W10)) | Y10: =IF(OR(X10="",$B10="", $B10=0),"",X10/$B10) | Z10: =IF(OR($E10="",W10="", $E10=0),"",($E10-W10)/$E10)
A11: Library | B11: =IF($A11="","",_xlfn.XLOOKUP("All covered buildings|"&$A11,'baseline values'!$M:$M,'baseline values'!$C:$C,"")) -> 4 | C11: =IF($A11="","",_xlfn.XLOOKUP("All covered buildings|"&$A11,'baseline values'!$M:$M,'baseline values'!$D:$D,"")) -> 14 | D11: CZ 5A median site EUI | E11: =IF($D11="CZ 5A median site EUI",_xlfn.XLOOKUP("All covered buildings|"&$A11,'baseline values'!$M:$M,'baseline values'!$H:$H,""),IF($D11="CZ 5A 25th percentile site EUI",_xlfn.XLOOKUP("All covered buildings|"&$A11,'baseline values'!$M:$M,'baseline values'!$G:$G,""),IF($D11="CZ 5A 75th percentile site EUI",_xlfn.XLOOKUP("All covered buildings|"&$A11,'baseline values'!$M:$M,'baseline values'!$I:$I,""),IF($D11="Evanston median site EUI",_xlfn.XLOOKUP("All covered buildings|"&$A11,'baseline values'!$M:$M,'baseline values'!$E:$E,""),IF($D11="Evanston mean site EUI",_xlfn.XLOOKUP("All covered buildings|"&$A11,'baseline values'!$M:$M,'baseline values'!$F:$F,""),""))))) -> 69.9 | G11: =IF(OR($E11="",F11=""),"",MAX(0,$E11*(1-SUM(F11)))) | H11: =IF(G11="","",COUNTIFS('building level site EUI'!$B:$B,$A11,'building level site EUI'!$E:$E,">"&G11)) | I11: =IF(OR(H11="",$B11="", $B11=0),"",H11/$B11) | K11: =IF(OR($E11="",F11="",J11=""),"",MAX(0,$E11*(1-SUM(F11,J11)))) | L11: =IF(K11="","",COUNTIFS('building level site EUI'!$B:$B,$A11,'building level site EUI'!$E:$E,">"&K11)) | M11: =IF(OR(L11="",$B11="", $B11=0),"",L11/$B11) | N11: 0 | O11: =IF(OR($E11="",F11="",J11="",N11=""),"",MAX(0,$E11*(1-SUM(F11,J11,N11)))) | P11: =IF(O11="","",COUNTIFS('building level site EUI'!$B:$B,$A11,'building level site EUI'!$E:$E,">"&O11)) | Q11: =IF(OR(P11="",$B11="", $B11=0),"",P11/$B11) | S11: =IF(OR($E11="",F11="",J11="",N11="",R11=""),"",MAX(0,$E11*(1-SUM(F11,J11,N11,R11)))) | T11: =IF(S11="","",COUNTIFS('building level site EUI'!$B:$B,$A11,'building level site EUI'!$E:$E,">"&S11)) | U11: =IF(OR(T11="",$B11="", $B11=0),"",T11/$B11) | W11: =IF(OR($E11="",F11="",J11="",N11="",R11="",V11=""),"",MAX(0,$E11*(1-SUM(F11,J11,N11,R11,V11)))) | X11: =IF(W11="","",COUNTIFS('building level site EUI'!$B:$B,$A11,'building level site EUI'!$E:$E,">"&W11)) | Y11: =IF(OR(X11="",$B11="", $B11=0),"",X11/$B11) | Z11: =IF(OR($E11="",W11="", $E11=0),"",($E11-W11)/$E11)
A12: Manufacturing/Industrial Plant | B12: =IF($A12="","",_xlfn.XLOOKUP("All covered buildings|"&$A12,'baseline values'!$M:$M,'baseline values'!$C:$C,"")) -> 1 | C12: =IF($A12="","",_xlfn.XLOOKUP("All covered buildings|"&$A12,'baseline values'!$M:$M,'baseline values'!$D:$D,"")) -> 2 | D12: Evanston median site EUI | E12: =IF($D12="CZ 5A median site EUI",_xlfn.XLOOKUP("All covered buildings|"&$A12,'baseline values'!$M:$M,'baseline values'!$H:$H,""),IF($D12="CZ 5A 25th percentile site EUI",_xlfn.XLOOKUP("All covered buildings|"&$A12,'baseline values'!$M:$M,'baseline values'!$G:$G,""),IF($D12="CZ 5A 75th percentile site EUI",_xlfn.XLOOKUP("All covered buildings|"&$A12,'baseline values'!$M:$M,'baseline values'!$I:$I,""),IF($D12="Evanston median site EUI",_xlfn.XLOOKUP("All covered buildings|"&$A12,'baseline values'!$M:$M,'baseline values'!$E:$E,""),IF($D12="Evanston mean site EUI",_xlfn.XLOOKUP("All covered buildings|"&$A12,'baseline values'!$M:$M,'baseline values'!$F:$F,""),""))))) -> 134.9 | F12: 0 | G12: =IF(OR($E12="",F12=""),"",MAX(0,$E12*(1-SUM(F12)))) -> 134.9 | H12: =IF(G12="","",COUNTIFS('building level site EUI'!$B:$B,$A12,'building level site EUI'!$E:$E,">"&G12)) -> 0 | I12: =IF(OR(H12="",$B12="", $B12=0),"",H12/$B12) -> 0 | K12: =IF(OR($E12="",F12="",J12=""),"",MAX(0,$E12*(1-SUM(F12,J12)))) | L12: =IF(K12="","",COUNTIFS('building level site EUI'!$B:$B,$A12,'building level site EUI'!$E:$E,">"&K12)) | M12: =IF(OR(L12="",$B12="", $B12=0),"",L12/$B12) | N12: 0 | O12: =IF(OR($E12="",F12="",J12="",N12=""),"",MAX(0,$E12*(1-SUM(F12,J12,N12)))) | P12: =IF(O12="","",COUNTIFS('building level site EUI'!$B:$B,$A12,'building level site EUI'!$E:$E,">"&O12)) | Q12: =IF(OR(P12="",$B12="", $B12=0),"",P12/$B12) | S12: =IF(OR($E12="",F12="",J12="",N12="",R12=""),"",MAX(0,$E12*(1-SUM(F12,J12,N12,R12)))) | T12: =IF(S12="","",COUNTIFS('building level site EUI'!$B:$B,$A12,'building level site EUI'!$E:$E,">"&S12)) | U12: =IF(OR(T12="",$B12="", $B12=0),"",T12/$B12) | W12: =IF(OR($E12="",F12="",J12="",N12="",R12="",V12=""),"",MAX(0,$E12*(1-SUM(F12,J12,N12,R12,V12)))) | X12: =IF(W12="","",COUNTIFS('building level site EUI'!$B:$B,$A12,'building level site EUI'!$E:$E,">"&W12)) | Y12: =IF(OR(X12="",$B12="", $B12=0),"",X12/$B12) | Z12: =IF(OR($E12="",W12="", $E12=0),"",($E12-W12)/$E12)
A13: Medical Office | B13: =IF($A13="","",_xlfn.XLOOKUP("All covered buildings|"&$A13,'baseline values'!$M:$M,'baseline values'!$C:$C,"")) -> 4 | C13: =IF($A13="","",_xlfn.XLOOKUP("All covered buildings|"&$A13,'baseline values'!$M:$M,'baseline values'!$D:$D,"")) -> 9 | D13: CZ 5A median site EUI | E13: =IF($D13="CZ 5A median site EUI",_xlfn.XLOOKUP("All covered buildings|"&$A13,'baseline values'!$M:$M,'baseline values'!$H:$H,""),IF($D13="CZ 5A 25th percentile site EUI",_xlfn.XLOOKUP("All covered buildings|"&$A13,'baseline values'!$M:$M,'baseline values'!$G:$G,""),IF($D13="CZ 5A 75th percentile site EUI",_xlfn.XLOOKUP("All covered buildings|"&$A13,'baseline values'!$M:$M,'baseline values'!$I:$I,""),IF($D13="Evanston median site EUI",_xlfn.XLOOKUP("All covered buildings|"&$A13,'baseline values'!$M:$M,'baseline values'!$E:$E,""),IF($D13="Evanston mean site EUI",_xlfn.XLOOKUP("All covered buildings|"&$A13,'baseline values'!$M:$M,'baseline values'!$F:$F,""),""))))) -> 75.4 | G13: =IF(OR($E13="",F13=""),"",MAX(0,$E13*(1-SUM(F13)))) | H13: =IF(G13="","",COUNTIFS('building level site EUI'!$B:$B,$A13,'building level site EUI'!$E:$E,">"&G13)) | I13: =IF(OR(H13="",$B13="", $B13=0),"",H13/$B13) | K13: =IF(OR($E13="",F13="",J13=""),"",MAX(0,$E13*(1-SUM(F13,J13)))) | L13: =IF(K13="","",COUNTIFS('building level site EUI'!$B:$B,$A13,'building level site EUI'!$E:$E,">"&K13)) | M13: =IF(OR(L13="",$B13="", $B13=0),"",L13/$B13) | N13: 0 | O13: =IF(OR($E13="",F13="",J13="",N13=""),"",MAX(0,$E13*(1-SUM(F13,J13,N13)))) | P13: =IF(O13="","",COUNTIFS('building level site EUI'!$B:$B,$A13,'building level site EUI'!$E:$E,">"&O13)) | Q13: =IF(OR(P13="",$B13="", $B13=0),"",P13/$B13) | S13: =IF(OR($E13="",F13="",J13="",N13="",R13=""),"",MAX(0,$E13*(1-SUM(F13,J13,N13,R13)))) | T13: =IF(S13="","",COUNTIFS('building level site EUI'!$B:$B,$A13,'building level site EUI'!$E:$E,">"&S13)) | U13: =IF(OR(T13="",$B13="", $B13=0),"",T13/$B13) | W13: =IF(OR($E13="",F13="",J13="",N13="",R13="",V13=""),"",MAX(0,$E13*(1-SUM(F13,J13,N13,R13,V13)))) | X13: =IF(W13="","",COUNTIFS('building level site EUI'!$B:$B,$A13,'building level site EUI'!$E:$E,">"&W13)) | Y13: =IF(OR(X13="",$B13="", $B13=0),"",X13/$B13) | Z13: =IF(OR($E13="",W13="", $E13=0),"",($E13-W13)/$E13)
A14: Mixed Use | B14: =IF($A14="","",_xlfn.XLOOKUP("All covered buildings|"&$A14,'baseline values'!$M:$M,'baseline values'!$C:$C,"")) -> 2 | C14: =IF($A14="","",_xlfn.XLOOKUP("All covered buildings|"&$A14,'baseline values'!$M:$M,'baseline values'!$D:$D,"")) -> 7 | D14: CZ 5A median site EUI | E14: =IF($D14="CZ 5A median site EUI",_xlfn.XLOOKUP("All covered buildings|"&$A14,'baseline values'!$M:$M,'baseline values'!$H:$H,""),IF($D14="CZ 5A 25th percentile site EUI",_xlfn.XLOOKUP("All covered buildings|"&$A14,'baseline values'!$M:$M,'baseline values'!$G:$G,""),IF($D14="CZ 5A 75th percentile site EUI",_xlfn.XLOOKUP("All covered buildings|"&$A14,'baseline values'!$M:$M,'baseline values'!$I:$I,""),IF($D14="Evanston median site EUI",_xlfn.XLOOKUP("All covered buildings|"&$A14,'baseline values'!$M:$M,'baseline values'!$E:$E,""),IF($D14="Evanston mean site EUI",_xlfn.XLOOKUP("All covered buildings|"&$A14,'baseline values'!$M:$M,'baseline values'!$F:$F,""),""))))) -> 71.3 | G14: =IF(OR($E14="",F14=""),"",MAX(0,$E14*(1-SUM(F14)))) | H14: =IF(G14="","",COUNTIFS('building level site EUI'!$B:$B,$A14,'building level site EUI'!$E:$E,">"&G14)) | I14: =IF(OR(H14="",$B14="", $B14=0),"",H14/$B14) | K14: =IF(OR($E14="",F14="",J14=""),"",MAX(0,$E14*(1-SUM(F14,J14)))) | L14: =IF(K14="","",COUNTIFS('building level site EUI'!$B:$B,$A14,'building level site EUI'!$E:$E,">"&K14)) | M14: =IF(OR(L14="",$B14="", $B14=0),"",L14/$B14) | N14: 0 | O14: =IF(OR($E14="",F14="",J14="",N14=""),"",MAX(0,$E14*(1-SUM(F14,J14,N14)))) | P14: =IF(O14="","",COUNTIFS('building level site EUI'!$B:$B,$A14,'building level site EUI'!$E:$E,">"&O14)) | Q14: =IF(OR(P14="",$B14="", $B14=0),"",P14/$B14) | S14: =IF(OR($E14="",F14="",J14="",N14="",R14=""),"",MAX(0,$E14*(1-SUM(F14,J14,N14,R14)))) | T14: =IF(S14="","",COUNTIFS('building level site EUI'!$B:$B,$A14,'building level site EUI'!$E:$E,">"&S14)) | U14: =IF(OR(T14="",$B14="", $B14=0),"",T14/$B14) | W14: =IF(OR($E14="",F14="",J14="",N14="",R14="",V14=""),"",MAX(0,$E14*(1-SUM(F14,J14,N14,R14,V14)))) | X14: =IF(W14="","",COUNTIFS('building level site EUI'!$B:$B,$A14,'building level site EUI'!$E:$E,">"&W14)) | Y14: =IF(OR(X14="",$B14="", $B14=0),"",X14/$B14) | Z14: =IF(OR($E14="",W14="", $E14=0),"",($E14-W14)/$E14)
A15: Multifamily Housing | B15: =IF($A15="","",_xlfn.XLOOKUP("All covered buildings|"&$A15,'baseline values'!$M:$M,'baseline values'!$C:$C,"")) -> 210 | C15: =IF($A15="","",_xlfn.XLOOKUP("All covered buildings|"&$A15,'baseline values'!$M:$M,'baseline values'!$D:$D,"")) -> 670 | D15: CZ 5A median site EUI | E15: =IF($D15="CZ 5A median site EUI",_xlfn.XLOOKUP("All covered buildings|"&$A15,'baseline values'!$M:$M,'baseline values'!$H:$H,""),IF($D15="CZ 5A 25th percentile site EUI",_xlfn.XLOOKUP("All covered buildings|"&$A15,'baseline values'!$M:$M,'baseline values'!$G:$G,""),IF($D15="CZ 5A 75th percentile site EUI",_xlfn.XLOOKUP("All covered buildings|"&$A15,'baseline values'!$M:$M,'baseline values'!$I:$I,""),IF($D15="Evanston median site EUI",_xlfn.XLOOKUP("All covered buildings|"&$A15,'baseline values'!$M:$M,'baseline values'!$E:$E,""),IF($D15="Evanston mean site EUI",_xlfn.XLOOKUP("All covered buildings|"&$A15,'baseline values'!$M:$M,'baseline values'!$F:$F,""),""))))) -> 53.8 | G15: =IF(OR($E15="",F15=""),"",MAX(0,$E15*(1-SUM(F15)))) | H15: =IF(G15="","",COUNTIFS('building level site EUI'!$B:$B,$A15,'building level site EUI'!$E:$E,">"&G15)) | I15: =IF(OR(H15="",$B15="", $B15=0),"",H15/$B15) | K15: =IF(OR($E15="",F15="",J15=""),"",MAX(0,$E15*(1-SUM(F15,J15)))) | L15: =IF(K15="","",COUNTIFS('building level site EUI'!$B:$B,$A15,'building level site EUI'!$E:$E,">"&K15)) | M15: =IF(OR(L15="",$B15="", $B15=0),"",L15/$B15) | N15: 0 | O15: =IF(OR($E15="",F15="",J15="",N15=""),"",MAX(0,$E15*(1-SUM(F15,J15,N15)))) | P15: =IF(O15="","",COUNTIFS('building level site EUI'!$B:$B,$A15,'building level site EUI'!$E:$E,">"&O15)) | Q15: =IF(OR(P15="",$B15="", $B15=0),"",P15/$B15) | S15: =IF(OR($E15="",F15="",J15="",N15="",R15=""),"",MAX(0,$E15*(1-SUM(F15,J15,N15,R15)))) | T15: =IF(S15="","",COUNTIFS('building level site EUI'!$B:$B,$A15,'building level site EUI'!$E:$E,">"&S15)) | U15: =IF(OR(T15="",$B15="", $B15=0),"",T15/$B15) | W15: =IF(OR($E15="",F15="",J15="",N15="",R15="",V15=""),"",MAX(0,$E15*(1-SUM(F15,J15,N15,R15,V15)))) | X15: =IF(W15="","",COUNTIFS('building level site EUI'!$B:$B,$A15,'building level site EUI'!$E:$E,">"&W15)) | Y15: =IF(OR(X15="",$B15="", $B15=0),"",X15/$B15) | Z15: =IF(OR($E15="",W15="", $E15=0),"",($E15-W15)/$E15)
A16: Museum | B16: =IF($A16="","",_xlfn.XLOOKUP("All covered buildings|"&$A16,'baseline values'!$M:$M,'baseline values'!$C:$C,"")) -> 1 | C16: =IF($A16="","",_xlfn.XLOOKUP("All covered buildings|"&$A16,'baseline values'!$M:$M,'baseline values'!$D:$D,"")) -> 2 | D16: Evanston median site EUI | E16: =IF($D16="CZ 5A median site EUI",_xlfn.XLOOKUP("All covered buildings|"&$A16,'baseline values'!$M:$M,'baseline values'!$H:$H,""),IF($D16="CZ 5A 25th percentile site EUI",_xlfn.XLOOKUP("All covered buildings|"&$A16,'baseline values'!$M:$M,'baseline values'!$G:$G,""),IF($D16="CZ 5A 75th percentile site EUI",_xlfn.XLOOKUP("All covered buildings|"&$A16,'baseline values'!$M:$M,'baseline values'!$I:$I,""),IF($D16="Evanston median site EUI",_xlfn.XLOOKUP("All covered buildings|"&$A16,'baseline values'!$M:$M,'baseline values'!$E:$E,""),IF($D16="Evanston mean site EUI",_xlfn.XLOOKUP("All covered buildings|"&$A16,'baseline values'!$M:$M,'baseline values'!$F:$F,""),""))))) -> 38.1 | F16: 0 | G16: =IF(OR($E16="",F16=""),"",MAX(0,$E16*(1-SUM(F16)))) -> 38.1 | H16: =IF(G16="","",COUNTIFS('building level site EUI'!$B:$B,$A16,'building level site EUI'!$E:$E,">"&G16)) -> 0 | I16: =IF(OR(H16="",$B16="", $B16=0),"",H16/$B16) -> 0 | K16: =IF(OR($E16="",F16="",J16=""),"",MAX(0,$E16*(1-SUM(F16,J16)))) | L16: =IF(K16="","",COUNTIFS('building level site EUI'!$B:$B,$A16,'building level site EUI'!$E:$E,">"&K16)) | M16: =IF(OR(L16="",$B16="", $B16=0),"",L16/$B16) | N16: 0 | O16: =IF(OR($E16="",F16="",J16="",N16=""),"",MAX(0,$E16*(1-SUM(F16,J16,N16)))) | P16: =IF(O16="","",COUNTIFS('building level site EUI'!$B:$B,$A16,'building level site EUI'!$E:$E,">"&O16)) | Q16: =IF(OR(P16="",$B16="", $B16=0),"",P16/$B16) | S16: =IF(OR($E16="",F16="",J16="",N16="",R16=""),"",MAX(0,$E16*(1-SUM(F16,J16,N16,R16)))) | T16: =IF(S16="","",COUNTIFS('building level site EUI'!$B:$B,$A16,'building level site EUI'!$E:$E,">"&S16)) | U16: =IF(OR(T16="",$B16="", $B16=0),"",T16/$B16) | W16: =IF(OR($E16="",F16="",J16="",N16="",R16="",V16=""),"",MAX(0,$E16*(1-SUM(F16,J16,N16,R16,V16)))) | X16: =IF(W16="","",COUNTIFS('building level site EUI'!$B:$B,$A16,'building level site EUI'!$E:$E,">"&W16)) | Y16: =IF(OR(X16="",$B16="", $B16=0),"",X16/$B16) | Z16: =IF(OR($E16="",W16="", $E16=0),"",($E16-W16)/$E16)
A17: Non-Refrigerated Warehouse | B17: =IF($A17="","",_xlfn.XLOOKUP("All covered buildings|"&$A17,'baseline values'!$M:$M,'baseline values'!$C:$C,"")) -> 2 | C17: =IF($A17="","",_xlfn.XLOOKUP("All covered buildings|"&$A17,'baseline values'!$M:$M,'baseline values'!$D:$D,"")) -> 6 | D17: CZ 5A median site EUI | E17: =IF($D17="CZ 5A median site EUI",_xlfn.XLOOKUP("All covered buildings|"&$A17,'baseline values'!$M:$M,'baseline values'!$H:$H,""),IF($D17="CZ 5A 25th percentile site EUI",_xlfn.XLOOKUP("All covered buildings|"&$A17,'baseline values'!$M:$M,'baseline values'!$G:$G,""),IF($D17="CZ 5A 75th percentile site EUI",_xlfn.XLOOKUP("All covered buildings|"&$A17,'baseline values'!$M:$M,'baseline values'!$I:$I,""),IF($D17="Evanston median site EUI",_xlfn.XLOOKUP("All covered buildings|"&$A17,'baseline values'!$M:$M,'baseline values'!$E:$E,""),IF($D17="Evanston mean site EUI",_xlfn.XLOOKUP("All covered buildings|"&$A17,'baseline values'!$M:$M,'baseline values'!$F:$F,""),""))))) -> 38.8 | G17: =IF(OR($E17="",F17=""),"",MAX(0,$E17*(1-SUM(F17)))) | H17: =IF(G17="","",COUNTIFS('building level site EUI'!$B:$B,$A17,'building level site EUI'!$E:$E,">"&G17)) | I17: =IF(OR(H17="",$B17="", $B17=0),"",H17/$B17) | K17: =IF(OR($E17="",F17="",J17=""),"",MAX(0,$E17*(1-SUM(F17,J17)))) | L17: =IF(K17="","",COUNTIFS('building level site EUI'!$B:$B,$A17,'building level site EUI'!$E:$E,">"&K17)) | M17: =IF(OR(L17="",$B17="", $B17=0),"",L17/$B17) | N17: 0 | O17: =IF(OR($E17="",F17="",J17="",N17=""),"",MAX(0,$E17*(1-SUM(F17,J17,N17)))) | P17: =IF(O17="","",COUNTIFS('building level site EUI'!$B:$B,$A17,'building level site EUI'!$E:$E,">"&O17)) | Q17: =IF(OR(P17="",$B17="", $B17=0),"",P17/$B17) | S17: =IF(OR($E17="",F17="",J17="",N17="",R17=""),"",MAX(0,$E17*(1-SUM(F17,J17,N17,R17)))) | T17: =IF(S17="","",COUNTIFS('building level site EUI'!$B:$B,$A17,'building level site EUI'!$E:$E,">"&S17)) | U17: =IF(OR(T17="",$B17="", $B17=0),"",T17/$B17) | W17: =IF(OR($E17="",F17="",J17="",N17="",R17="",V17=""),"",MAX(0,$E17*(1-SUM(F17,J17,N17,R17,V17)))) | X17: =IF(W17="","",COUNTIFS('building level site EUI'!$B:$B,$A17,'building level site EUI'!$E:$E,">"&W17)) | Y17: =IF(OR(X17="",$B17="", $B17=0),"",X17/$B17) | Z17: =IF(OR($E17="",W17="", $E17=0),"",($E17-W17)/$E17)
A18: Office | B18: =IF($A18="","",_xlfn.XLOOKUP("All covered buildings|"&$A18,'baseline values'!$M:$M,'baseline values'!$C:$C,"")) -> 24 | C18: =IF($A18="","",_xlfn.XLOOKUP("All covered buildings|"&$A18,'baseline values'!$M:$M,'baseline values'!$D:$D,"")) -> 72 | D18: Evanston median site EUI | E18: =IF($D18="CZ 5A median site EUI",_xlfn.XLOOKUP("All covered buildings|"&$A18,'baseline values'!$M:$M,'baseline values'!$H:$H,""),IF($D18="CZ 5A 25th percentile site EUI",_xlfn.XLOOKUP("All covered buildings|"&$A18,'baseline values'!$M:$M,'baseline values'!$G:$G,""),IF($D18="CZ 5A 75th percentile site EUI",_xlfn.XLOOKUP("All covered buildings|"&$A18,'baseline values'!$M:$M,'baseline values'!$I:$I,""),IF($D18="Evanston median site EUI",_xlfn.XLOOKUP("All covered buildings|"&$A18,'baseline values'!$M:$M,'baseline values'!$E:$E,""),IF($D18="Evanston mean site EUI",_xlfn.XLOOKUP("All covered buildings|"&$A18,'baseline values'!$M:$M,'baseline values'!$F:$F,""),""))))) -> 91.85 | F18: 0 | G18: =IF(OR($E18="",F18=""),"",MAX(0,$E18*(1-SUM(F18)))) -> 91.85 | H18: =IF(G18="","",COUNTIFS('building level site EUI'!$B:$B,$A18,'building level site EUI'!$E:$E,">"&G18)) -> 12 | I18: =IF(OR(H18="",$B18="", $B18=0),"",H18/$B18) -> 0.5 | K18: =IF(OR($E18="",F18="",J18=""),"",MAX(0,$E18*(1-SUM(F18,J18)))) | L18: =IF(K18="","",COUNTIFS('building level site EUI'!$B:$B,$A18,'building level site EUI'!$E:$E,">"&K18)) | M18: =IF(OR(L18="",$B18="", $B18=0),"",L18/$B18) | N18: 0 | O18: =IF(OR($E18="",F18="",J18="",N18=""),"",MAX(0,$E18*(1-SUM(F18,J18,N18)))) | P18: =IF(O18="","",COUNTIFS('building level site EUI'!$B:$B,$A18,'building level site EUI'!$E:$E,">"&O18)) | Q18: =IF(OR(P18="",$B18="", $B18=0),"",P18/$B18) | S18: =IF(OR($E18="",F18="",J18="",N18="",R18=""),"",MAX(0,$E18*(1-SUM(F18,J18,N18,R18)))) | T18: =IF(S18="","",COUNTIFS('building level site EUI'!$B:$B,$A18,'building level site EUI'!$E:$E,">"&S18)) | U18: =IF(OR(T18="",$B18="", $B18=0),"",T18/$B18) | W18: =IF(OR($E18="",F18="",J18="",N18="",R18="",V18=""),"",MAX(0,$E18*(1-SUM(F18,J18,N18,R18,V18)))) | X18: =IF(W18="","",COUNTIFS('building level site EUI'!$B:$B,$A18,'building level site EUI'!$E:$E,">"&W18)) | Y18: =IF(OR(X18="",$B18="", $B18=0),"",X18/$B18) | Z18: =IF(OR($E18="",W18="", $E18=0),"",($E18-W18)/$E18)
A19: Other - Public Services | B19: =IF($A19="","",_xlfn.XLOOKUP("All covered buildings|"&$A19,'baseline values'!$M:$M,'baseline values'!$C:$C,"")) -> 1 | C19: =IF($A19="","",_xlfn.XLOOKUP("All covered buildings|"&$A19,'baseline values'!$M:$M,'baseline values'!$D:$D,"")) -> 2 | D19: Evanston median site EUI | E19: =IF($D19="CZ 5A median site EUI",_xlfn.XLOOKUP("All covered buildings|"&$A19,'baseline values'!$M:$M,'baseline values'!$H:$H,""),IF($D19="CZ 5A 25th percentile site EUI",_xlfn.XLOOKUP("All covered buildings|"&$A19,'baseline values'!$M:$M,'baseline values'!$G:$G,""),IF($D19="CZ 5A 75th percentile site EUI",_xlfn.XLOOKUP("All covered buildings|"&$A19,'baseline values'!$M:$M,'baseline values'!$I:$I,""),IF($D19="Evanston median site EUI",_xlfn.XLOOKUP("All covered buildings|"&$A19,'baseline values'!$M:$M,'baseline values'!$E:$E,""),IF($D19="Evanston mean site EUI",_xlfn.XLOOKUP("All covered buildings|"&$A19,'baseline values'!$M:$M,'baseline values'!$F:$F,""),""))))) -> 109.9 | F19: 0 | G19: =IF(OR($E19="",F19=""),"",MAX(0,$E19*(1-SUM(F19)))) -> 109.9 | H19: =IF(G19="","",COUNTIFS('building level site EUI'!$B:$B,$A19,'building level site EUI'!$E:$E,">"&G19)) -> 0 | I19: =IF(OR(H19="",$B19="", $B19=0),"",H19/$B19) -> 0 | K19: =IF(OR($E19="",F19="",J19=""),"",MAX(0,$E19*(1-SUM(F19,J19)))) | L19: =IF(K19="","",COUNTIFS('building level site EUI'!$B:$B,$A19,'building level site EUI'!$E:$E,">"&K19)) | M19: =IF(OR(L19="",$B19="", $B19=0),"",L19/$B19) | N19: 0 | O19: =IF(OR($E19="",F19="",J19="",N19=""),"",MAX(0,$E19*(1-SUM(F19,J19,N19)))) | P19: =IF(O19="","",COUNTIFS('building level site EUI'!$B:$B,$A19,'building level site EUI'!$E:$E,">"&O19)) | Q19: =IF(OR(P19="",$B19="", $B19=0),"",P19/$B19) | S19: =IF(OR($E19="",F19="",J19="",N19="",R19=""),"",MAX(0,$E19*(1-SUM(F19,J19,N19,R19)))) | T19: =IF(S19="","",COUNTIFS('building level site EUI'!$B:$B,$A19,'building level site EUI'!$E:$E,">"&S19)) | U19: =IF(OR(T19="",$B19="", $B19=0),"",T19/$B19) | W19: =IF(OR($E19="",F19="",J19="",N19="",R19="",V19=""),"",MAX(0,$E19*(1-SUM(F19,J19,N19,R19,V19)))) | X19: =IF(W19="","",COUNTIFS('building level site EUI'!$B:$B,$A19,'building level site EUI'!$E:$E,">"&W19)) | Y19: =IF(OR(X19="",$B19="", $B19=0),"",X19/$B19) | Z19: =IF(OR($E19="",W19="", $E19=0),"",($E19-W19)/$E19)
A20: Other - Recreation | B20: =IF($A20="","",_xlfn.XLOOKUP("All covered buildings|"&$A20,'baseline values'!$M:$M,'baseline values'!$C:$C,"")) -> 5 | C20: =IF($A20="","",_xlfn.XLOOKUP("All covered buildings|"&$A20,'baseline values'!$M:$M,'baseline values'!$D:$D,"")) -> 7 | D20: CZ 5A median site EUI | E20: =IF($D20="CZ 5A median site EUI",_xlfn.XLOOKUP("All covered buildings|"&$A20,'baseline values'!$M:$M,'baseline values'!$H:$H,""),IF($D20="CZ 5A 25th percentile site EUI",_xlfn.XLOOKUP("All covered buildings|"&$A20,'baseline values'!$M:$M,'baseline values'!$G:$G,""),IF($D20="CZ 5A 75th percentile site EUI",_xlfn.XLOOKUP("All covered buildings|"&$A20,'baseline values'!$M:$M,'baseline values'!$I:$I,""),IF($D20="Evanston median site EUI",_xlfn.XLOOKUP("All covered buildings|"&$A20,'baseline values'!$M:$M,'baseline values'!$E:$E,""),IF($D20="Evanston mean site EUI",_xlfn.XLOOKUP("All covered buildings|"&$A20,'baseline values'!$M:$M,'baseline values'!$F:$F,""),""))))) -> 70.6 | G20: =IF(OR($E20="",F20=""),"",MAX(0,$E20*(1-SUM(F20)))) | H20: =IF(G20="","",COUNTIFS('building level site EUI'!$B:$B,$A20,'building level site EUI'!$E:$E,">"&G20)) | I20: =IF(OR(H20="",$B20="", $B20=0),"",H20/$B20) | K20: =IF(OR($E20="",F20="",J20=""),"",MAX(0,$E20*(1-SUM(F20,J20)))) | L20: =IF(K20="","",COUNTIFS('building level site EUI'!$B:$B,$A20,'building level site EUI'!$E:$E,">"&K20)) | M20: =IF(OR(L20="",$B20="", $B20=0),"",L20/$B20) | N20: 0 | O20: =IF(OR($E20="",F20="",J20="",N20=""),"",MAX(0,$E20*(1-SUM(F20,J20,N20)))) | P20: =IF(O20="","",COUNTIFS('building level site EUI'!$B:$B,$A20,'building level site EUI'!$E:$E,">"&O20)) | Q20: =IF(OR(P20="",$B20="", $B20=0),"",P20/$B20) | S20: =IF(OR($E20="",F20="",J20="",N20="",R20=""),"",MAX(0,$E20*(1-SUM(F20,J20,N20,R20)))) | T20: =IF(S20="","",COUNTIFS('building level site EUI'!$B:$B,$A20,'building level site EUI'!$E:$E,">"&S20)) | U20: =IF(OR(T20="",$B20="", $B20=0),"",T20/$B20) | W20: =IF(OR($E20="",F20="",J20="",N20="",R20="",V20=""),"",MAX(0,$E20*(1-SUM(F20,J20,N20,R20,V20)))) | X20: =IF(W20="","",COUNTIFS('building level site EUI'!$B:$B,$A20,'building level site EUI'!$E:$E,">"&W20)) | Y20: =IF(OR(X20="",$B20="", $B20=0),"",X20/$B20) | Z20: =IF(OR($E20="",W20="", $E20=0),"",($E20-W20)/$E20)
A21: Other - Technology/Science | B21: =IF($A21="","",_xlfn.XLOOKUP("All covered buildings|"&$A21,'baseline values'!$M:$M,'baseline values'!$C:$C,"")) -> 2 | C21: =IF($A21="","",_xlfn.XLOOKUP("All covered buildings|"&$A21,'baseline values'!$M:$M,'baseline values'!$D:$D,"")) -> 6 | D21: CZ 5A median site EUI | E21: =IF($D21="CZ 5A median site EUI",_xlfn.XLOOKUP("All covered buildings|"&$A21,'baseline values'!$M:$M,'baseline values'!$H:$H,""),IF($D21="CZ 5A 25th percentile site EUI",_xlfn.XLOOKUP("All covered buildings|"&$A21,'baseline values'!$M:$M,'baseline values'!$G:$G,""),IF($D21="CZ 5A 75th percentile site EUI",_xlfn.XLOOKUP("All covered buildings|"&$A21,'baseline values'!$M:$M,'baseline values'!$I:$I,""),IF($D21="Evanston median site EUI",_xlfn.XLOOKUP("All covered buildings|"&$A21,'baseline values'!$M:$M,'baseline values'!$E:$E,""),IF($D21="Evanston mean site EUI",_xlfn.XLOOKUP("All covered buildings|"&$A21,'baseline values'!$M:$M,'baseline values'!$F:$F,""),""))))) -> 200.5 | G21: =IF(OR($E21="",F21=""),"",MAX(0,$E21*(1-SUM(F21)))) | H21: =IF(G21="","",COUNTIFS('building level site EUI'!$B:$B,$A21,'building level site EUI'!$E:$E,">"&G21)) | I21: =IF(OR(H21="",$B21="", $B21=0),"",H21/$B21) | K21: =IF(OR($E21="",F21="",J21=""),"",MAX(0,$E21*(1-SUM(F21,J21)))) | L21: =IF(K21="","",COUNTIFS('building level site EUI'!$B:$B,$A21,'building level site EUI'!$E:$E,">"&K21)) | M21: =IF(OR(L21="",$B21="", $B21=0),"",L21/$B21) | N21: 0 | O21: =IF(OR($E21="",F21="",J21="",N21=""),"",MAX(0,$E21*(1-SUM(F21,J21,N21)))) | P21: =IF(O21="","",COUNTIFS('building level site EUI'!$B:$B,$A21,'building level site EUI'!$E:$E,">"&O21)) | Q21: =IF(OR(P21="",$B21="", $B21=0),"",P21/$B21) | S21: =IF(OR($E21="",F21="",J21="",N21="",R21=""),"",MAX(0,$E21*(1-SUM(F21,J21,N21,R21)))) | T21: =IF(S21="","",COUNTIFS('building level site EUI'!$B:$B,$A21,'building level site EUI'!$E:$E,">"&S21)) | U21: =IF(OR(T21="",$B21="", $B21=0),"",T21/$B21) | W21: =IF(OR($E21="",F21="",J21="",N21="",R21="",V21=""),"",MAX(0,$E21*(1-SUM(F21,J21,N21,R21,V21)))) | X21: =IF(W21="","",COUNTIFS('building level site EUI'!$B:$B,$A21,'building level site EUI'!$E:$E,">"&W21)) | Y21: =IF(OR(X21="",$B21="", $B21=0),"",X21/$B21) | Z21: =IF(OR($E21="",W21="", $E21=0),"",($E21-W21)/$E21)
A22: Outpatient Rehabilitation/Physical Therapy | B22: =IF($A22="","",_xlfn.XLOOKUP("All covered buildings|"&$A22,'baseline values'!$M:$M,'baseline values'!$C:$C,"")) -> 1 | C22: =IF($A22="","",_xlfn.XLOOKUP("All covered buildings|"&$A22,'baseline values'!$M:$M,'baseline values'!$D:$D,"")) -> 2 | D22: Evanston median site EUI | E22: =IF($D22="CZ 5A median site EUI",_xlfn.XLOOKUP("All covered buildings|"&$A22,'baseline values'!$M:$M,'baseline values'!$H:$H,""),IF($D22="CZ 5A 25th percentile site EUI",_xlfn.XLOOKUP("All covered buildings|"&$A22,'baseline values'!$M:$M,'baseline values'!$G:$G,""),IF($D22="CZ 5A 75th percentile site EUI",_xlfn.XLOOKUP("All covered buildings|"&$A22,'baseline values'!$M:$M,'baseline values'!$I:$I,""),IF($D22="Evanston median site EUI",_xlfn.XLOOKUP("All covered buildings|"&$A22,'baseline values'!$M:$M,'baseline values'!$E:$E,""),IF($D22="Evanston mean site EUI",_xlfn.XLOOKUP("All covered buildings|"&$A22,'baseline values'!$M:$M,'baseline values'!$F:$F,""),""))))) -> 157.9 | F22: 0 | G22: =IF(OR($E22="",F22=""),"",MAX(0,$E22*(1-SUM(F22)))) -> 157.9 | H22: =IF(G22="","",COUNTIFS('building level site EUI'!$B:$B,$A22,'building level site EUI'!$E:$E,">"&G22)) -> 0 | I22: =IF(OR(H22="",$B22="", $B22=0),"",H22/$B22) -> 0 | K22: =IF(OR($E22="",F22="",J22=""),"",MAX(0,$E22*(1-SUM(F22,J22)))) | L22: =IF(K22="","",COUNTIFS('building level site EUI'!$B:$B,$A22,'building level site EUI'!$E:$E,">"&K22)) | M22: =IF(OR(L22="",$B22="", $B22=0),"",L22/$B22) | N22: 0 | O22: =IF(OR($E22="",F22="",J22="",N22=""),"",MAX(0,$E22*(1-SUM(F22,J22,N22)))) | P22: =IF(O22="","",COUNTIFS('building level site EUI'!$B:$B,$A22,'building level site EUI'!$E:$E,">"&O22)) | Q22: =IF(OR(P22="",$B22="", $B22=0),"",P22/$B22) | S22: =IF(OR($E22="",F22="",J22="",N22="",R22=""),"",MAX(0,$E22*(1-SUM(F22,J22,N22,R22)))) | T22: =IF(S22="","",COUNTIFS('building level site EUI'!$B:$B,$A22,'building level site EUI'!$E:$E,">"&S22)) | U22: =IF(OR(T22="",$B22="", $B22=0),"",T22/$B22) | W22: =IF(OR($E22="",F22="",J22="",N22="",R22="",V22=""),"",MAX(0,$E22*(1-SUM(F22,J22,N22,R22,V22)))) | X22: =IF(W22="","",COUNTIFS('building level site EUI'!$B:$B,$A22,'building level site EUI'!$E:$E,">"&W22)) | Y22: =IF(OR(X22="",$B22="", $B22=0),"",X22/$B22) | Z22: =IF(OR($E22="",W22="", $E22=0),"",($E22-W22)/$E22)
A23: Parking | B23: =IF($A23="","",_xlfn.XLOOKUP("All covered buildings|"&$A23,'baseline values'!$M:$M,'baseline values'!$C:$C,"")) -> 5 | C23: =IF($A23="","",_xlfn.XLOOKUP("All covered buildings|"&$A23,'baseline values'!$M:$M,'baseline values'!$D:$D,"")) -> 15 | D23: CZ 5A median site EUI | E23: =IF($D23="CZ 5A median site EUI",_xlfn.XLOOKUP("All covered buildings|"&$A23,'baseline values'!$M:$M,'baseline values'!$H:$H,""),IF($D23="CZ 5A 25th percentile site EUI",_xlfn.XLOOKUP("All covered buildings|"&$A23,'baseline values'!$M:$M,'baseline values'!$G:$G,""),IF($D23="CZ 5A 75th percentile site EUI",_xlfn.XLOOKUP("All covered buildings|"&$A23,'baseline values'!$M:$M,'baseline values'!$I:$I,""),IF($D23="Evanston median site EUI",_xlfn.XLOOKUP("All covered buildings|"&$A23,'baseline values'!$M:$M,'baseline values'!$E:$E,""),IF($D23="Evanston mean site EUI",_xlfn.XLOOKUP("All covered buildings|"&$A23,'baseline values'!$M:$M,'baseline values'!$F:$F,""),""))))) -> 9.3 | G23: =IF(OR($E23="",F23=""),"",MAX(0,$E23*(1-SUM(F23)))) | H23: =IF(G23="","",COUNTIFS('building level site EUI'!$B:$B,$A23,'building level site EUI'!$E:$E,">"&G23)) | I23: =IF(OR(H23="",$B23="", $B23=0),"",H23/$B23) | K23: =IF(OR($E23="",F23="",J23=""),"",MAX(0,$E23*(1-SUM(F23,J23)))) | L23: =IF(K23="","",COUNTIFS('building level site EUI'!$B:$B,$A23,'building level site EUI'!$E:$E,">"&K23)) | M23: =IF(OR(L23="",$B23="", $B23=0),"",L23/$B23) | N23: 0 | O23: =IF(OR($E23="",F23="",J23="",N23=""),"",MAX(0,$E23*(1-SUM(F23,J23,N23)))) | P23: =IF(O23="","",COUNTIFS('building level site EUI'!$B:$B,$A23,'building level site EUI'!$E:$E,">"&O23)) | Q23: =IF(OR(P23="",$B23="", $B23=0),"",P23/$B23) | S23: =IF(OR($E23="",F23="",J23="",N23="",R23=""),"",MAX(0,$E23*(1-SUM(F23,J23,N23,R23)))) | T23: =IF(S23="","",COUNTIFS('building level site EUI'!$B:$B,$A23,'building level site EUI'!$E:$E,">"&S23)) | U23: =IF(OR(T23="",$B23="", $B23=0),"",T23/$B23) | W23: =IF(OR($E23="",F23="",J23="",N23="",R23="",V23=""),"",MAX(0,$E23*(1-SUM(F23,J23,N23,R23,V23)))) | X23: =IF(W23="","",COUNTIFS('building level site EUI'!$B:$B,$A23,'building level site EUI'!$E:$E,">"&W23)) | Y23: =IF(OR(X23="",$B23="", $B23=0),"",X23/$B23) | Z23: =IF(OR($E23="",W23="", $E23=0),"",($E23-W23)/$E23)
A24: Performing Arts | B24: =IF($A24="","",_xlfn.XLOOKUP("All covered buildings|"&$A24,'baseline values'!$M:$M,'baseline values'!$C:$C,"")) -> 3 | C24: =IF($A24="","",_xlfn.XLOOKUP("All covered buildings|"&$A24,'baseline values'!$M:$M,'baseline values'!$D:$D,"")) -> 10 | D24: CZ 5A median site EUI | E24: =IF($D24="CZ 5A median site EUI",_xlfn.XLOOKUP("All covered buildings|"&$A24,'baseline values'!$M:$M,'baseline values'!$H:$H,""),IF($D24="CZ 5A 25th percentile site EUI",_xlfn.XLOOKUP("All covered buildings|"&$A24,'baseline values'!$M:$M,'baseline values'!$G:$G,""),IF($D24="CZ 5A 75th percentile site EUI",_xlfn.XLOOKUP("All covered buildings|"&$A24,'baseline values'!$M:$M,'baseline values'!$I:$I,""),IF($D24="Evanston median site EUI",_xlfn.XLOOKUP("All covered buildings|"&$A24,'baseline values'!$M:$M,'baseline values'!$E:$E,""),IF($D24="Evanston mean site EUI",_xlfn.XLOOKUP("All covered buildings|"&$A24,'baseline values'!$M:$M,'baseline values'!$F:$F,""),""))))) -> 72.9 | G24: =IF(OR($E24="",F24=""),"",MAX(0,$E24*(1-SUM(F24)))) | H24: =IF(G24="","",COUNTIFS('building level site EUI'!$B:$B,$A24,'building level site EUI'!$E:$E,">"&G24)) | I24: =IF(OR(H24="",$B24="", $B24=0),"",H24/$B24) | K24: =IF(OR($E24="",F24="",J24=""),"",MAX(0,$E24*(1-SUM(F24,J24)))) | L24: =IF(K24="","",COUNTIFS('building level site EUI'!$B:$B,$A24,'building level site EUI'!$E:$E,">"&K24)) | M24: =IF(OR(L24="",$B24="", $B24=0),"",L24/$B24) | N24: 0 | O24: =IF(OR($E24="",F24="",J24="",N24=""),"",MAX(0,$E24*(1-SUM(F24,J24,N24)))) | P24: =IF(O24="","",COUNTIFS('building level site EUI'!$B:$B,$A24,'building level site EUI'!$E:$E,">"&O24)) | Q24: =IF(OR(P24="",$B24="", $B24=0),"",P24/$B24) | S24: =IF(OR($E24="",F24="",J24="",N24="",R24=""),"",MAX(0,$E24*(1-SUM(F24,J24,N24,R24)))) | T24: =IF(S24="","",COUNTIFS('building level site EUI'!$B:$B,$A24,'building level site EUI'!$E:$E,">"&S24)) | U24: =IF(OR(T24="",$B24="", $B24=0),"",T24/$B24) | W24: =IF(OR($E24="",F24="",J24="",N24="",R24="",V24=""),"",MAX(0,$E24*(1-SUM(F24,J24,N24,R24,V24)))) | X24: =IF(W24="","",COUNTIFS('building level site EUI'!$B:$B,$A24,'building level site EUI'!$E:$E,">"&W24)) | Y24: =IF(OR(X24="",$B24="", $B24=0),"",X24/$B24) | Z24: =IF(OR($E24="",W24="", $E24=0),"",($E24-W24)/$E24)
A25: Personal Services (Health/Beauty, Dry Cleaning, etc) | B25: =IF($A25="","",_xlfn.XLOOKUP("All covered buildings|"&$A25,'baseline values'!$M:$M,'baseline values'!$C:$C,"")) -> 1 | C25: =IF($A25="","",_xlfn.XLOOKUP("All covered buildings|"&$A25,'baseline values'!$M:$M,'baseline values'!$D:$D,"")) -> 2 | D25: Evanston median site EUI | E25: =IF($D25="CZ 5A median site EUI",_xlfn.XLOOKUP("All covered buildings|"&$A25,'baseline values'!$M:$M,'baseline values'!$H:$H,""),IF($D25="CZ 5A 25th percentile site EUI",_xlfn.XLOOKUP("All covered buildings|"&$A25,'baseline values'!$M:$M,'baseline values'!$G:$G,""),IF($D25="CZ 5A 75th percentile site EUI",_xlfn.XLOOKUP("All covered buildings|"&$A25,'baseline values'!$M:$M,'baseline values'!$I:$I,""),IF($D25="Evanston median site EUI",_xlfn.XLOOKUP("All covered buildings|"&$A25,'baseline values'!$M:$M,'baseline values'!$E:$E,""),IF($D25="Evanston mean site EUI",_xlfn.XLOOKUP("All covered buildings|"&$A25,'baseline values'!$M:$M,'baseline values'!$F:$F,""),""))))) -> 86.05 | F25: 0 | G25: =IF(OR($E25="",F25=""),"",MAX(0,$E25*(1-SUM(F25)))) -> 86.05 | H25: =IF(G25="","",COUNTIFS('building level site EUI'!$B:$B,$A25,'building level site EUI'!$E:$E,">"&G25)) -> 0 | I25: =IF(OR(H25="",$B25="", $B25=0),"",H25/$B25) -> 0 | K25: =IF(OR($E25="",F25="",J25=""),"",MAX(0,$E25*(1-SUM(F25,J25)))) | L25: =IF(K25="","",COUNTIFS('building level site EUI'!$B:$B,$A25,'building level site EUI'!$E:$E,">"&K25)) | M25: =IF(OR(L25="",$B25="", $B25=0),"",L25/$B25) | N25: 0 | O25: =IF(OR($E25="",F25="",J25="",N25=""),"",MAX(0,$E25*(1-SUM(F25,J25,N25)))) | P25: =IF(O25="","",COUNTIFS('building level site EUI'!$B:$B,$A25,'building level site EUI'!$E:$E,">"&O25)) | Q25: =IF(OR(P25="",$B25="", $B25=0),"",P25/$B25) | S25: =IF(OR($E25="",F25="",J25="",N25="",R25=""),"",MAX(0,$E25*(1-SUM(F25,J25,N25,R25)))) | T25: =IF(S25="","",COUNTIFS('building level site EUI'!$B:$B,$A25,'building level site EUI'!$E:$E,">"&S25)) | U25: =IF(OR(T25="",$B25="", $B25=0),"",T25/$B25) | W25: =IF(OR($E25="",F25="",J25="",N25="",R25="",V25=""),"",MAX(0,$E25*(1-SUM(F25,J25,N25,R25,V25)))) | X25: =IF(W25="","",COUNTIFS('building level site EUI'!$B:$B,$A25,'building level site EUI'!$E:$E,">"&W25)) | Y25: =IF(OR(X25="",$B25="", $B25=0),"",X25/$B25) | Z25: =IF(OR($E25="",W25="", $E25=0),"",($E25-W25)/$E25)
A26: Police Station | B26: =IF($A26="","",_xlfn.XLOOKUP("All covered buildings|"&$A26,'baseline values'!$M:$M,'baseline values'!$C:$C,"")) -> 1 | C26: =IF($A26="","",_xlfn.XLOOKUP("All covered buildings|"&$A26,'baseline values'!$M:$M,'baseline values'!$D:$D,"")) -> 1 | D26: Evanston median site EUI | E26: =IF($D26="CZ 5A median site EUI",_xlfn.XLOOKUP("All covered buildings|"&$A26,'baseline values'!$M:$M,'baseline values'!$H:$H,""),IF($D26="CZ 5A 25th percentile site EUI",_xlfn.XLOOKUP("All covered buildings|"&$A26,'baseline values'!$M:$M,'baseline values'!$G:$G,""),IF($D26="CZ 5A 75th percentile site EUI",_xlfn.XLOOKUP("All covered buildings|"&$A26,'baseline values'!$M:$M,'baseline values'!$I:$I,""),IF($D26="Evanston median site EUI",_xlfn.XLOOKUP("All covered buildings|"&$A26,'baseline values'!$M:$M,'baseline values'!$E:$E,""),IF($D26="Evanston mean site EUI",_xlfn.XLOOKUP("All covered buildings|"&$A26,'baseline values'!$M:$M,'baseline values'!$F:$F,""),""))))) -> 133.9 | F26: 0 | G26: =IF(OR($E26="",F26=""),"",MAX(0,$E26*(1-SUM(F26)))) -> 133.9 | H26: =IF(G26="","",COUNTIFS('building level site EUI'!$B:$B,$A26,'building level site EUI'!$E:$E,">"&G26)) -> 0 | I26: =IF(OR(H26="",$B26="", $B26=0),"",H26/$B26) -> 0 | K26: =IF(OR($E26="",F26="",J26=""),"",MAX(0,$E26*(1-SUM(F26,J26)))) | L26: =IF(K26="","",COUNTIFS('building level site EUI'!$B:$B,$A26,'building level site EUI'!$E:$E,">"&K26)) | M26: =IF(OR(L26="",$B26="", $B26=0),"",L26/$B26) | N26: 0 | O26: =IF(OR($E26="",F26="",J26="",N26=""),"",MAX(0,$E26*(1-SUM(F26,J26,N26)))) | P26: =IF(O26="","",COUNTIFS('building level site EUI'!$B:$B,$A26,'building level site EUI'!$E:$E,">"&O26)) | Q26: =IF(OR(P26="",$B26="", $B26=0),"",P26/$B26) | S26: =IF(OR($E26="",F26="",J26="",N26="",R26=""),"",MAX(0,$E26*(1-SUM(F26,J26,N26,R26)))) | T26: =IF(S26="","",COUNTIFS('building level site EUI'!$B:$B,$A26,'building level site EUI'!$E:$E,">"&S26)) | U26: =IF(OR(T26="",$B26="", $B26=0),"",T26/$B26) | W26: =IF(OR($E26="",F26="",J26="",N26="",R26="",V26=""),"",MAX(0,$E26*(1-SUM(F26,J26,N26,R26,V26)))) | X26: =IF(W26="","",COUNTIFS('building level site EUI'!$B:$B,$A26,'building level site EUI'!$E:$E,">"&W26)) | Y26: =IF(OR(X26="",$B26="", $B26=0),"",X26/$B26) | Z26: =IF(OR($E26="",W26="", $E26=0),"",($E26-W26)/$E26)
A27: Pre-school/Daycare | B27: =IF($A27="","",_xlfn.XLOOKUP("All covered buildings|"&$A27,'baseline values'!$M:$M,'baseline values'!$C:$C,"")) -> 1 | C27: =IF($A27="","",_xlfn.XLOOKUP("All covered buildings|"&$A27,'baseline values'!$M:$M,'baseline values'!$D:$D,"")) -> 2 | D27: Evanston median site EUI | E27: =IF($D27="CZ 5A median site EUI",_xlfn.XLOOKUP("All covered buildings|"&$A27,'baseline values'!$M:$M,'baseline values'!$H:$H,""),IF($D27="CZ 5A 25th percentile site EUI",_xlfn.XLOOKUP("All covered buildings|"&$A27,'baseline values'!$M:$M,'baseline values'!$G:$G,""),IF($D27="CZ 5A 75th percentile site EUI",_xlfn.XLOOKUP("All covered buildings|"&$A27,'baseline values'!$M:$M,'baseline values'!$I:$I,""),IF($D27="Evanston median site EUI",_xlfn.XLOOKUP("All covered buildings|"&$A27,'baseline values'!$M:$M,'baseline values'!$E:$E,""),IF($D27="Evanston mean site EUI",_xlfn.XLOOKUP("All covered buildings|"&$A27,'baseline values'!$M:$M,'baseline values'!$F:$F,""),""))))) -> 75.4 | F27: 0 | G27: =IF(OR($E27="",F27=""),"",MAX(0,$E27*(1-SUM(F27)))) -> 75.4 | H27: =IF(G27="","",COUNTIFS('building level site EUI'!$B:$B,$A27,'building level site EUI'!$E:$E,">"&G27)) -> 0 | I27: =IF(OR(H27="",$B27="", $B27=0),"",H27/$B27) -> 0 | K27: =IF(OR($E27="",F27="",J27=""),"",MAX(0,$E27*(1-SUM(F27,J27)))) | L27: =IF(K27="","",COUNTIFS('building level site EUI'!$B:$B,$A27,'building level site EUI'!$E:$E,">"&K27)) | M27: =IF(OR(L27="",$B27="", $B27=0),"",L27/$B27) | N27: 0 | O27: =IF(OR($E27="",F27="",J27="",N27=""),"",MAX(0,$E27*(1-SUM(F27,J27,N27)))) | P27: =IF(O27="","",COUNTIFS('building level site EUI'!$B:$B,$A27,'building level site EUI'!$E:$E,">"&O27)) | Q27: =IF(OR(P27="",$B27="", $B27=0),"",P27/$B27) | S27: =IF(OR($E27="",F27="",J27="",N27="",R27=""),"",MAX(0,$E27*(1-SUM(F27,J27,N27,R27)))) | T27: =IF(S27="","",COUNTIFS('building level site EUI'!$B:$B,$A27,'building level site EUI'!$E:$E,">"&S27)) | U27: =IF(OR(T27="",$B27="", $B27=0),"",T27/$B27) | W27: =IF(OR($E27="",F27="",J27="",N27="",R27="",V27=""),"",MAX(0,$E27*(1-SUM(F27,J27,N27,R27,V27)))) | X27: =IF(W27="","",COUNTIFS('building level site EUI'!$B:$B,$A27,'building level site EUI'!$E:$E,">"&W27)) | Y27: =IF(OR(X27="",$B27="", $B27=0),"",X27/$B27) | Z27: =IF(OR($E27="",W27="", $E27=0),"",($E27-W27)/$E27)
A28: Residence Hall/Dormitory | B28: =IF($A28="","",_xlfn.XLOOKUP("All covered buildings|"&$A28,'baseline values'!$M:$M,'baseline values'!$C:$C,"")) -> 24 | C28: =IF($A28="","",_xlfn.XLOOKUP("All covered buildings|"&$A28,'baseline values'!$M:$M,'baseline values'!$D:$D,"")) -> 94 | D28: CZ 5A median site EUI | E28: =IF($D28="CZ 5A median site EUI",_xlfn.XLOOKUP("All covered buildings|"&$A28,'baseline values'!$M:$M,'baseline values'!$H:$H,""),IF($D28="CZ 5A 25th percentile site EUI",_xlfn.XLOOKUP("All covered buildings|"&$A28,'baseline values'!$M:$M,'baseline values'!$G:$G,""),IF($D28="CZ 5A 75th percentile site EUI",_xlfn.XLOOKUP("All covered buildings|"&$A28,'baseline values'!$M:$M,'baseline values'!$I:$I,""),IF($D28="Evanston median site EUI",_xlfn.XLOOKUP("All covered buildings|"&$A28,'baseline values'!$M:$M,'baseline values'!$E:$E,""),IF($D28="Evanston mean site EUI",_xlfn.XLOOKUP("All covered buildings|"&$A28,'baseline values'!$M:$M,'baseline values'!$F:$F,""),""))))) -> 72.3 | G28: =IF(OR($E28="",F28=""),"",MAX(0,$E28*(1-SUM(F28)))) | H28: =IF(G28="","",COUNTIFS('building level site EUI'!$B:$B,$A28,'building level site EUI'!$E:$E,">"&G28)) | I28: =IF(OR(H28="",$B28="", $B28=0),"",H28/$B28) | K28: =IF(OR($E28="",F28="",J28=""),"",MAX(0,$E28*(1-SUM(F28,J28)))) | L28: =IF(K28="","",COUNTIFS('building level site EUI'!$B:$B,$A28,'building level site EUI'!$E:$E,">"&K28)) | M28: =IF(OR(L28="",$B28="", $B28=0),"",L28/$B28) | N28: 0 | O28: =IF(OR($E28="",F28="",J28="",N28=""),"",MAX(0,$E28*(1-SUM(F28,J28,N28)))) | P28: =IF(O28="","",COUNTIFS('building level site EUI'!$B:$B,$A28,'building level site EUI'!$E:$E,">"&O28)) | Q28: =IF(OR(P28="",$B28="", $B28=0),"",P28/$B28) | S28: =IF(OR($E28="",F28="",J28="",N28="",R28=""),"",MAX(0,$E28*(1-SUM(F28,J28,N28,R28)))) | T28: =IF(S28="","",COUNTIFS('building level site EUI'!$B:$B,$A28,'building level site EUI'!$E:$E,">"&S28)) | U28: =IF(OR(T28="",$B28="", $B28=0),"",T28/$B28) | W28: =IF(OR($E28="",F28="",J28="",N28="",R28="",V28=""),"",MAX(0,$E28*(1-SUM(F28,J28,N28,R28,V28)))) | X28: =IF(W28="","",COUNTIFS('building level site EUI'!$B:$B,$A28,'building level site EUI'!$E:$E,">"&W28)) | Y28: =IF(OR(X28="",$B28="", $B28=0),"",X28/$B28) | Z28: =IF(OR($E28="",W28="", $E28=0),"",($E28-W28)/$E28)
A29: Residential Care Facility | B29: =IF($A29="","",_xlfn.XLOOKUP("All covered buildings|"&$A29,'baseline values'!$M:$M,'baseline values'!$C:$C,"")) -> 2 | C29: =IF($A29="","",_xlfn.XLOOKUP("All covered buildings|"&$A29,'baseline values'!$M:$M,'baseline values'!$D:$D,"")) -> 3 | D29: CZ 5A median site EUI | E29: =IF($D29="CZ 5A median site EUI",_xlfn.XLOOKUP("All covered buildings|"&$A29,'baseline values'!$M:$M,'baseline values'!$H:$H,""),IF($D29="CZ 5A 25th percentile site EUI",_xlfn.XLOOKUP("All covered buildings|"&$A29,'baseline values'!$M:$M,'baseline values'!$G:$G,""),IF($D29="CZ 5A 75th percentile site EUI",_xlfn.XLOOKUP("All covered buildings|"&$A29,'baseline values'!$M:$M,'baseline values'!$I:$I,""),IF($D29="Evanston median site EUI",_xlfn.XLOOKUP("All covered buildings|"&$A29,'baseline values'!$M:$M,'baseline values'!$E:$E,""),IF($D29="Evanston mean site EUI",_xlfn.XLOOKUP("All covered buildings|"&$A29,'baseline values'!$M:$M,'baseline values'!$F:$F,""),""))))) -> 93 | G29: =IF(OR($E29="",F29=""),"",MAX(0,$E29*(1-SUM(F29)))) | H29: =IF(G29="","",COUNTIFS('building level site EUI'!$B:$B,$A29,'building level site EUI'!$E:$E,">"&G29)) | I29: =IF(OR(H29="",$B29="", $B29=0),"",H29/$B29) | K29: =IF(OR($E29="",F29="",J29=""),"",MAX(0,$E29*(1-SUM(F29,J29)))) | L29: =IF(K29="","",COUNTIFS('building level site EUI'!$B:$B,$A29,'building level site EUI'!$E:$E,">"&K29)) | M29: =IF(OR(L29="",$B29="", $B29=0),"",L29/$B29) | N29: 0 | O29: =IF(OR($E29="",F29="",J29="",N29=""),"",MAX(0,$E29*(1-SUM(F29,J29,N29)))) | P29: =IF(O29="","",COUNTIFS('building level site EUI'!$B:$B,$A29,'building level site EUI'!$E:$E,">"&O29)) | Q29: =IF(OR(P29="",$B29="", $B29=0),"",P29/$B29) | S29: =IF(OR($E29="",F29="",J29="",N29="",R29=""),"",MAX(0,$E29*(1-SUM(F29,J29,N29,R29)))) | T29: =IF(S29="","",COUNTIFS('building level site EUI'!$B:$B,$A29,'building level site EUI'!$E:$E,">"&S29)) | U29: =IF(OR(T29="",$B29="", $B29=0),"",T29/$B29) | W29: =IF(OR($E29="",F29="",J29="",N29="",R29="",V29=""),"",MAX(0,$E29*(1-SUM(F29,J29,N29,R29,V29)))) | X29: =IF(W29="","",COUNTIFS('building level site EUI'!$B:$B,$A29,'building level site EUI'!$E:$E,">"&W29)) | Y29: =IF(OR(X29="",$B29="", $B29=0),"",X29/$B29) | Z29: =IF(OR($E29="",W29="", $E29=0),"",($E29-W29)/$E29)
A30: Retail Store | B30: =IF($A30="","",_xlfn.XLOOKUP("All covered buildings|"&$A30,'baseline values'!$M:$M,'baseline values'!$C:$C,"")) -> 6 | C30: =IF($A30="","",_xlfn.XLOOKUP("All covered buildings|"&$A30,'baseline values'!$M:$M,'baseline values'!$D:$D,"")) -> 18 | D30: CZ 5A median site EUI | E30: =IF($D30="CZ 5A median site EUI",_xlfn.XLOOKUP("All covered buildings|"&$A30,'baseline values'!$M:$M,'baseline values'!$H:$H,""),IF($D30="CZ 5A 25th percentile site EUI",_xlfn.XLOOKUP("All covered buildings|"&$A30,'baseline values'!$M:$M,'baseline values'!$G:$G,""),IF($D30="CZ 5A 75th percentile site EUI",_xlfn.XLOOKUP("All covered buildings|"&$A30,'baseline values'!$M:$M,'baseline values'!$I:$I,""),IF($D30="Evanston median site EUI",_xlfn.XLOOKUP("All covered buildings|"&$A30,'baseline values'!$M:$M,'baseline values'!$E:$E,""),IF($D30="Evanston mean site EUI",_xlfn.XLOOKUP("All covered buildings|"&$A30,'baseline values'!$M:$M,'baseline values'!$F:$F,""),""))))) -> 72.8 | G30: =IF(OR($E30="",F30=""),"",MAX(0,$E30*(1-SUM(F30)))) | H30: =IF(G30="","",COUNTIFS('building level site EUI'!$B:$B,$A30,'building level site EUI'!$E:$E,">"&G30)) | I30: =IF(OR(H30="",$B30="", $B30=0),"",H30/$B30) | K30: =IF(OR($E30="",F30="",J30=""),"",MAX(0,$E30*(1-SUM(F30,J30)))) | L30: =IF(K30="","",COUNTIFS('building level site EUI'!$B:$B,$A30,'building level site EUI'!$E:$E,">"&K30)) | M30: =IF(OR(L30="",$B30="", $B30=0),"",L30/$B30) | N30: 0 | O30: =IF(OR($E30="",F30="",J30="",N30=""),"",MAX(0,$E30*(1-SUM(F30,J30,N30)))) | P30: =IF(O30="","",COUNTIFS('building level site EUI'!$B:$B,$A30,'building level site EUI'!$E:$E,">"&O30)) | Q30: =IF(OR(P30="",$B30="", $B30=0),"",P30/$B30) | S30: =IF(OR($E30="",F30="",J30="",N30="",R30=""),"",MAX(0,$E30*(1-SUM(F30,J30,N30,R30)))) | T30: =IF(S30="","",COUNTIFS('building level site EUI'!$B:$B,$A30,'building level site EUI'!$E:$E,">"&S30)) | U30: =IF(OR(T30="",$B30="", $B30=0),"",T30/$B30) | W30: =IF(OR($E30="",F30="",J30="",N30="",R30="",V30=""),"",MAX(0,$E30*(1-SUM(F30,J30,N30,R30,V30)))) | X30: =IF(W30="","",COUNTIFS('building level site EUI'!$B:$B,$A30,'building level site EUI'!$E:$E,">"&W30)) | Y30: =IF(OR(X30="",$B30="", $B30=0),"",X30/$B30) | Z30: =IF(OR($E30="",W30="", $E30=0),"",($E30-W30)/$E30)
A31: Self-Storage Facility | B31: =IF($A31="","",_xlfn.XLOOKUP("All covered buildings|"&$A31,'baseline values'!$M:$M,'baseline values'!$C:$C,"")) -> 2 | C31: =IF($A31="","",_xlfn.XLOOKUP("All covered buildings|"&$A31,'baseline values'!$M:$M,'baseline values'!$D:$D,"")) -> 2 | D31: CZ 5A median site EUI | E31: =IF($D31="CZ 5A median site EUI",_xlfn.XLOOKUP("All covered buildings|"&$A31,'baseline values'!$M:$M,'baseline values'!$H:$H,""),IF($D31="CZ 5A 25th percentile site EUI",_xlfn.XLOOKUP("All covered buildings|"&$A31,'baseline values'!$M:$M,'baseline values'!$G:$G,""),IF($D31="CZ 5A 75th percentile site EUI",_xlfn.XLOOKUP("All covered buildings|"&$A31,'baseline values'!$M:$M,'baseline values'!$I:$I,""),IF($D31="Evanston median site EUI",_xlfn.XLOOKUP("All covered buildings|"&$A31,'baseline values'!$M:$M,'baseline values'!$E:$E,""),IF($D31="Evanston mean site EUI",_xlfn.XLOOKUP("All covered buildings|"&$A31,'baseline values'!$M:$M,'baseline values'!$F:$F,""),""))))) -> 12.1 | G31: =IF(OR($E31="",F31=""),"",MAX(0,$E31*(1-SUM(F31)))) | H31: =IF(G31="","",COUNTIFS('building level site EUI'!$B:$B,$A31,'building level site EUI'!$E:$E,">"&G31)) | I31: =IF(OR(H31="",$B31="", $B31=0),"",H31/$B31) | K31: =IF(OR($E31="",F31="",J31=""),"",MAX(0,$E31*(1-SUM(F31,J31)))) | L31: =IF(K31="","",COUNTIFS('building level site EUI'!$B:$B,$A31,'building level site EUI'!$E:$E,">"&K31)) | M31: =IF(OR(L31="",$B31="", $B31=0),"",L31/$B31) | N31: 0 | O31: =IF(OR($E31="",F31="",J31="",N31=""),"",MAX(0,$E31*(1-SUM(F31,J31,N31)))) | P31: =IF(O31="","",COUNTIFS('building level site EUI'!$B:$B,$A31,'building level site EUI'!$E:$E,">"&O31)) | Q31: =IF(OR(P31="",$B31="", $B31=0),"",P31/$B31) | S31: =IF(OR($E31="",F31="",J31="",N31="",R31=""),"",MAX(0,$E31*(1-SUM(F31,J31,N31,R31)))) | T31: =IF(S31="","",COUNTIFS('building level site EUI'!$B:$B,$A31,'building level site EUI'!$E:$E,">"&S31)) | U31: =IF(OR(T31="",$B31="", $B31=0),"",T31/$B31) | W31: =IF(OR($E31="",F31="",J31="",N31="",R31="",V31=""),"",MAX(0,$E31*(1-SUM(F31,J31,N31,R31,V31)))) | X31: =IF(W31="","",COUNTIFS('building level site EUI'!$B:$B,$A31,'building level site EUI'!$E:$E,">"&W31)) | Y31: =IF(OR(X31="",$B31="", $B31=0),"",X31/$B31) | Z31: =IF(OR($E31="",W31="", $E31=0),"",($E31-W31)/$E31)
A32: Senior Living Community | B32: =IF($A32="","",_xlfn.XLOOKUP("All covered buildings|"&$A32,'baseline values'!$M:$M,'baseline values'!$C:$C,"")) -> 4 | C32: =IF($A32="","",_xlfn.XLOOKUP("All covered buildings|"&$A32,'baseline values'!$M:$M,'baseline values'!$D:$D,"")) -> 11 | D32: CZ 5A median site EUI | E32: =IF($D32="CZ 5A median site EUI",_xlfn.XLOOKUP("All covered buildings|"&$A32,'baseline values'!$M:$M,'baseline values'!$H:$H,""),IF($D32="CZ 5A 25th percentile site EUI",_xlfn.XLOOKUP("All covered buildings|"&$A32,'baseline values'!$M:$M,'baseline values'!$G:$G,""),IF($D32="CZ 5A 75th percentile site EUI",_xlfn.XLOOKUP("All covered buildings|"&$A32,'baseline values'!$M:$M,'baseline values'!$I:$I,""),IF($D32="Evanston median site EUI",_xlfn.XLOOKUP("All covered buildings|"&$A32,'baseline values'!$M:$M,'baseline values'!$E:$E,""),IF($D32="Evanston mean site EUI",_xlfn.XLOOKUP("All covered buildings|"&$A32,'baseline values'!$M:$M,'baseline values'!$F:$F,""),""))))) -> 80.3 | G32: =IF(OR($E32="",F32=""),"",MAX(0,$E32*(1-SUM(F32)))) | H32: =IF(G32="","",COUNTIFS('building level site EUI'!$B:$B,$A32,'building level site EUI'!$E:$E,">"&G32)) | I32: =IF(OR(H32="",$B32="", $B32=0),"",H32/$B32) | K32: =IF(OR($E32="",F32="",J32=""),"",MAX(0,$E32*(1-SUM(F32,J32)))) | L32: =IF(K32="","",COUNTIFS('building level site EUI'!$B:$B,$A32,'building level site EUI'!$E:$E,">"&K32)) | M32: =IF(OR(L32="",$B32="", $B32=0),"",L32/$B32) | N32: 0 | O32: =IF(OR($E32="",F32="",J32="",N32=""),"",MAX(0,$E32*(1-SUM(F32,J32,N32)))) | P32: =IF(O32="","",COUNTIFS('building level site EUI'!$B:$B,$A32,'building level site EUI'!$E:$E,">"&O32)) | Q32: =IF(OR(P32="",$B32="", $B32=0),"",P32/$B32) | S32: =IF(OR($E32="",F32="",J32="",N32="",R32=""),"",MAX(0,$E32*(1-SUM(F32,J32,N32,R32)))) | T32: =IF(S32="","",COUNTIFS('building level site EUI'!$B:$B,$A32,'building level site EUI'!$E:$E,">"&S32)) | U32: =IF(OR(T32="",$B32="", $B32=0),"",T32/$B32) | W32: =IF(OR($E32="",F32="",J32="",N32="",R32="",V32=""),"",MAX(0,$E32*(1-SUM(F32,J32,N32,R32,V32)))) | X32: =IF(W32="","",COUNTIFS('building level site EUI'!$B:$B,$A32,'building level site EUI'!$E:$E,">"&W32)) | Y32: =IF(OR(X32="",$B32="", $B32=0),"",X32/$B32) | Z32: =IF(OR($E32="",W32="", $E32=0),"",($E32-W32)/$E32)
A33: Social/Meeting Hall | B33: =IF($A33="","",_xlfn.XLOOKUP("All covered buildings|"&$A33,'baseline values'!$M:$M,'baseline values'!$C:$C,"")) -> 3 | C33: =IF($A33="","",_xlfn.XLOOKUP("All covered buildings|"&$A33,'baseline values'!$M:$M,'baseline values'!$D:$D,"")) -> 8 | D33: CZ 5A median site EUI | E33: =IF($D33="CZ 5A median site EUI",_xlfn.XLOOKUP("All covered buildings|"&$A33,'baseline values'!$M:$M,'baseline values'!$H:$H,""),IF($D33="CZ 5A 25th percentile site EUI",_xlfn.XLOOKUP("All covered buildings|"&$A33,'baseline values'!$M:$M,'baseline values'!$G:$G,""),IF($D33="CZ 5A 75th percentile site EUI",_xlfn.XLOOKUP("All covered buildings|"&$A33,'baseline values'!$M:$M,'baseline values'!$I:$I,""),IF($D33="Evanston median site EUI",_xlfn.XLOOKUP("All covered buildings|"&$A33,'baseline values'!$M:$M,'baseline values'!$E:$E,""),IF($D33="Evanston mean site EUI",_xlfn.XLOOKUP("All covered buildings|"&$A33,'baseline values'!$M:$M,'baseline values'!$F:$F,""),""))))) -> 61.8 | G33: =IF(OR($E33="",F33=""),"",MAX(0,$E33*(1-SUM(F33)))) | H33: =IF(G33="","",COUNTIFS('building level site EUI'!$B:$B,$A33,'building level site EUI'!$E:$E,">"&G33)) | I33: =IF(OR(H33="",$B33="", $B33=0),"",H33/$B33) | K33: =IF(OR($E33="",F33="",J33=""),"",MAX(0,$E33*(1-SUM(F33,J33)))) | L33: =IF(K33="","",COUNTIFS('building level site EUI'!$B:$B,$A33,'building level site EUI'!$E:$E,">"&K33)) | M33: =IF(OR(L33="",$B33="", $B33=0),"",L33/$B33) | N33: 0 | O33: =IF(OR($E33="",F33="",J33="",N33=""),"",MAX(0,$E33*(1-SUM(F33,J33,N33)))) | P33: =IF(O33="","",COUNTIFS('building level site EUI'!$B:$B,$A33,'building level site EUI'!$E:$E,">"&O33)) | Q33: =IF(OR(P33="",$B33="", $B33=0),"",P33/$B33) | S33: =IF(OR($E33="",F33="",J33="",N33="",R33=""),"",MAX(0,$E33*(1-SUM(F33,J33,N33,R33)))) | T33: =IF(S33="","",COUNTIFS('building level site EUI'!$B:$B,$A33,'building level site EUI'!$E:$E,">"&S33)) | U33: =IF(OR(T33="",$B33="", $B33=0),"",T33/$B33) | W33: =IF(OR($E33="",F33="",J33="",N33="",R33="",V33=""),"",MAX(0,$E33*(1-SUM(F33,J33,N33,R33,V33)))) | X33: =IF(W33="","",COUNTIFS('building level site EUI'!$B:$B,$A33,'building level site EUI'!$E:$E,">"&W33)) | Y33: =IF(OR(X33="",$B33="", $B33=0),"",X33/$B33) | Z33: =IF(OR($E33="",W33="", $E33=0),"",($E33-W33)/$E33)
A34: Strip Mall | B34: =IF($A34="","",_xlfn.XLOOKUP("All covered buildings|"&$A34,'baseline values'!$M:$M,'baseline values'!$C:$C,"")) -> 2 | C34: =IF($A34="","",_xlfn.XLOOKUP("All covered buildings|"&$A34,'baseline values'!$M:$M,'baseline values'!$D:$D,"")) -> 5 | D34: CZ 5A median site EUI | E34: =IF($D34="CZ 5A median site EUI",_xlfn.XLOOKUP("All covered buildings|"&$A34,'baseline values'!$M:$M,'baseline values'!$H:$H,""),IF($D34="CZ 5A 25th percentile site EUI",_xlfn.XLOOKUP("All covered buildings|"&$A34,'baseline values'!$M:$M,'baseline values'!$G:$G,""),IF($D34="CZ 5A 75th percentile site EUI",_xlfn.XLOOKUP("All covered buildings|"&$A34,'baseline values'!$M:$M,'baseline values'!$I:$I,""),IF($D34="Evanston median site EUI",_xlfn.XLOOKUP("All covered buildings|"&$A34,'baseline values'!$M:$M,'baseline values'!$E:$E,""),IF($D34="Evanston mean site EUI",_xlfn.XLOOKUP("All covered buildings|"&$A34,'baseline values'!$M:$M,'baseline values'!$F:$F,""),""))))) -> 63.5 | G34: =IF(OR($E34="",F34=""),"",MAX(0,$E34*(1-SUM(F34)))) | H34: =IF(G34="","",COUNTIFS('building level site EUI'!$B:$B,$A34,'building level site EUI'!$E:$E,">"&G34)) | I34: =IF(OR(H34="",$B34="", $B34=0),"",H34/$B34) | K34: =IF(OR($E34="",F34="",J34=""),"",MAX(0,$E34*(1-SUM(F34,J34)))) | L34: =IF(K34="","",COUNTIFS('building level site EUI'!$B:$B,$A34,'building level site EUI'!$E:$E,">"&K34)) | M34: =IF(OR(L34="",$B34="", $B34=0),"",L34/$B34) | N34: 0 | O34: =IF(OR($E34="",F34="",J34="",N34=""),"",MAX(0,$E34*(1-SUM(F34,J34,N34)))) | P34: =IF(O34="","",COUNTIFS('building level site EUI'!$B:$B,$A34,'building level site EUI'!$E:$E,">"&O34)) | Q34: =IF(OR(P34="",$B34="", $B34=0),"",P34/$B34) | S34: =IF(OR($E34="",F34="",J34="",N34="",R34=""),"",MAX(0,$E34*(1-SUM(F34,J34,N34,R34)))) | T34: =IF(S34="","",COUNTIFS('building level site EUI'!$B:$B,$A34,'building level site EUI'!$E:$E,">"&S34)) | U34: =IF(OR(T34="",$B34="", $B34=0),"",T34/$B34) | W34: =IF(OR($E34="",F34="",J34="",N34="",R34="",V34=""),"",MAX(0,$E34*(1-SUM(F34,J34,N34,R34,V34)))) | X34: =IF(W34="","",COUNTIFS('building level site EUI'!$B:$B,$A34,'building level site EUI'!$E:$E,">"&W34)) | Y34: =IF(OR(X34="",$B34="", $B34=0),"",X34/$B34) | Z34: =IF(OR($E34="",W34="", $E34=0),"",($E34-W34)/$E34)
A35: Supermarket/Grocery Store | B35: =IF($A35="","",_xlfn.XLOOKUP("All covered buildings|"&$A35,'baseline values'!$M:$M,'baseline values'!$C:$C,"")) -> 6 | C35: =IF($A35="","",_xlfn.XLOOKUP("All covered buildings|"&$A35,'baseline values'!$M:$M,'baseline values'!$D:$D,"")) -> 15 | D35: CZ 5A median site EUI | E35: =IF($D35="CZ 5A median site EUI",_xlfn.XLOOKUP("All covered buildings|"&$A35,'baseline values'!$M:$M,'baseline values'!$H:$H,""),IF($D35="CZ 5A 25th percentile site EUI",_xlfn.XLOOKUP("All covered buildings|"&$A35,'baseline values'!$M:$M,'baseline values'!$G:$G,""),IF($D35="CZ 5A 75th percentile site EUI",_xlfn.XLOOKUP("All covered buildings|"&$A35,'baseline values'!$M:$M,'baseline values'!$I:$I,""),IF($D35="Evanston median site EUI",_xlfn.XLOOKUP("All covered buildings|"&$A35,'baseline values'!$M:$M,'baseline values'!$E:$E,""),IF($D35="Evanston mean site EUI",_xlfn.XLOOKUP("All covered buildings|"&$A35,'baseline values'!$M:$M,'baseline values'!$F:$F,""),""))))) -> 206.1 | G35: =IF(OR($E35="",F35=""),"",MAX(0,$E35*(1-SUM(F35)))) | H35: =IF(G35="","",COUNTIFS('building level site EUI'!$B:$B,$A35,'building level site EUI'!$E:$E,">"&G35)) | I35: =IF(OR(H35="",$B35="", $B35=0),"",H35/$B35) | K35: =IF(OR($E35="",F35="",J35=""),"",MAX(0,$E35*(1-SUM(F35,J35)))) | L35: =IF(K35="","",COUNTIFS('building level site EUI'!$B:$B,$A35,'building level site EUI'!$E:$E,">"&K35)) | M35: =IF(OR(L35="",$B35="", $B35=0),"",L35/$B35) | N35: 0 | O35: =IF(OR($E35="",F35="",J35="",N35=""),"",MAX(0,$E35*(1-SUM(F35,J35,N35)))) | P35: =IF(O35="","",COUNTIFS('building level site EUI'!$B:$B,$A35,'building level site EUI'!$E:$E,">"&O35)) | Q35: =IF(OR(P35="",$B35="", $B35=0),"",P35/$B35) | S35: =IF(OR($E35="",F35="",J35="",N35="",R35=""),"",MAX(0,$E35*(1-SUM(F35,J35,N35,R35)))) | T35: =IF(S35="","",COUNTIFS('building level site EUI'!$B:$B,$A35,'building level site EUI'!$E:$E,">"&S35)) | U35: =IF(OR(T35="",$B35="", $B35=0),"",T35/$B35) | W35: =IF(OR($E35="",F35="",J35="",N35="",R35="",V35=""),"",MAX(0,$E35*(1-SUM(F35,J35,N35,R35,V35)))) | X35: =IF(W35="","",COUNTIFS('building level site EUI'!$B:$B,$A35,'building level site EUI'!$E:$E,">"&W35)) | Y35: =IF(OR(X35="",$B35="", $B35=0),"",X35/$B35) | Z35: =IF(OR($E35="",W35="", $E35=0),"",($E35-W35)/$E35)
A36: Vehicle Repair Services | B36: =IF($A36="","",_xlfn.XLOOKUP("All covered buildings|"&$A36,'baseline values'!$M:$M,'baseline values'!$C:$C,"")) -> 4 | C36: =IF($A36="","",_xlfn.XLOOKUP("All covered buildings|"&$A36,'baseline values'!$M:$M,'baseline values'!$D:$D,"")) -> 11 | D36: CZ 5A median site EUI | E36: =IF($D36="CZ 5A median site EUI",_xlfn.XLOOKUP("All covered buildings|"&$A36,'baseline values'!$M:$M,'baseline values'!$H:$H,""),IF($D36="CZ 5A 25th percentile site EUI",_xlfn.XLOOKUP("All covered buildings|"&$A36,'baseline values'!$M:$M,'baseline values'!$G:$G,""),IF($D36="CZ 5A 75th percentile site EUI",_xlfn.XLOOKUP("All covered buildings|"&$A36,'baseline values'!$M:$M,'baseline values'!$I:$I,""),IF($D36="Evanston median site EUI",_xlfn.XLOOKUP("All covered buildings|"&$A36,'baseline values'!$M:$M,'baseline values'!$E:$E,""),IF($D36="Evanston mean site EUI",_xlfn.XLOOKUP("All covered buildings|"&$A36,'baseline values'!$M:$M,'baseline values'!$F:$F,""),""))))) -> 66.6 | G36: =IF(OR($E36="",F36=""),"",MAX(0,$E36*(1-SUM(F36)))) | H36: =IF(G36="","",COUNTIFS('building level site EUI'!$B:$B,$A36,'building level site EUI'!$E:$E,">"&G36)) | I36: =IF(OR(H36="",$B36="", $B36=0),"",H36/$B36) | K36: =IF(OR($E36="",F36="",J36=""),"",MAX(0,$E36*(1-SUM(F36,J36)))) | L36: =IF(K36="","",COUNTIFS('building level site EUI'!$B:$B,$A36,'building level site EUI'!$E:$E,">"&K36)) | M36: =IF(OR(L36="",$B36="", $B36=0),"",L36/$B36) | N36: 0 | O36: =IF(OR($E36="",F36="",J36="",N36=""),"",MAX(0,$E36*(1-SUM(F36,J36,N36)))) | P36: =IF(O36="","",COUNTIFS('building level site EUI'!$B:$B,$A36,'building level site EUI'!$E:$E,">"&O36)) | Q36: =IF(OR(P36="",$B36="", $B36=0),"",P36/$B36) | S36: =IF(OR($E36="",F36="",J36="",N36="",R36=""),"",MAX(0,$E36*(1-SUM(F36,J36,N36,R36)))) | T36: =IF(S36="","",COUNTIFS('building level site EUI'!$B:$B,$A36,'building level site EUI'!$E:$E,">"&S36)) | U36: =IF(OR(T36="",$B36="", $B36=0),"",T36/$B36) | W36: =IF(OR($E36="",F36="",J36="",N36="",R36="",V36=""),"",MAX(0,$E36*(1-SUM(F36,J36,N36,R36,V36)))) | X36: =IF(W36="","",COUNTIFS('building level site EUI'!$B:$B,$A36,'building level site EUI'!$E:$E,">"&W36)) | Y36: =IF(OR(X36="",$B36="", $B36=0),"",X36/$B36) | Z36: =IF(OR($E36="",W36="", $E36=0),"",($E36-W36)/$E36)
A37: Wholesale Club/Supercenter | B37: =IF($A37="","",_xlfn.XLOOKUP("All covered buildings|"&$A37,'baseline values'!$M:$M,'baseline values'!$C:$C,"")) -> 1 | C37: =IF($A37="","",_xlfn.XLOOKUP("All covered buildings|"&$A37,'baseline values'!$M:$M,'baseline values'!$D:$D,"")) -> 4 | D37: Evanston median site EUI | E37: =IF($D37="CZ 5A median site EUI",_xlfn.XLOOKUP("All covered buildings|"&$A37,'baseline values'!$M:$M,'baseline values'!$H:$H,""),IF($D37="CZ 5A 25th percentile site EUI",_xlfn.XLOOKUP("All covered buildings|"&$A37,'baseline values'!$M:$M,'baseline values'!$G:$G,""),IF($D37="CZ 5A 75th percentile site EUI",_xlfn.XLOOKUP("All covered buildings|"&$A37,'baseline values'!$M:$M,'baseline values'!$I:$I,""),IF($D37="Evanston median site EUI",_xlfn.XLOOKUP("All covered buildings|"&$A37,'baseline values'!$M:$M,'baseline values'!$E:$E,""),IF($D37="Evanston mean site EUI",_xlfn.XLOOKUP("All covered buildings|"&$A37,'baseline values'!$M:$M,'baseline values'!$F:$F,""),""))))) -> 129.9 | F37: 0 | G37: =IF(OR($E37="",F37=""),"",MAX(0,$E37*(1-SUM(F37)))) -> 129.9 | H37: =IF(G37="","",COUNTIFS('building level site EUI'!$B:$B,$A37,'building level site EUI'!$E:$E,">"&G37)) -> 0 | I37: =IF(OR(H37="",$B37="", $B37=0),"",H37/$B37) -> 0 | K37: =IF(OR($E37="",F37="",J37=""),"",MAX(0,$E37*(1-SUM(F37,J37)))) | L37: =IF(K37="","",COUNTIFS('building level site EUI'!$B:$B,$A37,'building level site EUI'!$E:$E,">"&K37)) | M37: =IF(OR(L37="",$B37="", $B37=0),"",L37/$B37) | N37: 0 | O37: =IF(OR($E37="",F37="",J37="",N37=""),"",MAX(0,$E37*(1-SUM(F37,J37,N37)))) | P37: =IF(O37="","",COUNTIFS('building level site EUI'!$B:$B,$A37,'building level site EUI'!$E:$E,">"&O37)) | Q37: =IF(OR(P37="",$B37="", $B37=0),"",P37/$B37) | S37: =IF(OR($E37="",F37="",J37="",N37="",R37=""),"",MAX(0,$E37*(1-SUM(F37,J37,N37,R37)))) | T37: =IF(S37="","",COUNTIFS('building level site EUI'!$B:$B,$A37,'building level site EUI'!$E:$E,">"&S37)) | U37: =IF(OR(T37="",$B37="", $B37=0),"",T37/$B37) | W37: =IF(OR($E37="",F37="",J37="",N37="",R37="",V37=""),"",MAX(0,$E37*(1-SUM(F37,J37,N37,R37,V37)))) | X37: =IF(W37="","",COUNTIFS('building level site EUI'!$B:$B,$A37,'building level site EUI'!$E:$E,">"&W37)) | Y37: =IF(OR(X37="",$B37="", $B37=0),"",X37/$B37) | Z37: =IF(OR($E37="",W37="", $E37=0),"",($E37-W37)/$E37)
A38: Worship Facility | B38: =IF($A38="","",_xlfn.XLOOKUP("All covered buildings|"&$A38,'baseline values'!$M:$M,'baseline values'!$C:$C,"")) -> 12 | C38: =IF($A38="","",_xlfn.XLOOKUP("All covered buildings|"&$A38,'baseline values'!$M:$M,'baseline values'!$D:$D,"")) -> 19 | D38: CZ 5A median site EUI | E38: =IF($D38="CZ 5A median site EUI",_xlfn.XLOOKUP("All covered buildings|"&$A38,'baseline values'!$M:$M,'baseline values'!$H:$H,""),IF($D38="CZ 5A 25th percentile site EUI",_xlfn.XLOOKUP("All covered buildings|"&$A38,'baseline values'!$M:$M,'baseline values'!$G:$G,""),IF($D38="CZ 5A 75th percentile site EUI",_xlfn.XLOOKUP("All covered buildings|"&$A38,'baseline values'!$M:$M,'baseline values'!$I:$I,""),IF($D38="Evanston median site EUI",_xlfn.XLOOKUP("All covered buildings|"&$A38,'baseline values'!$M:$M,'baseline values'!$E:$E,""),IF($D38="Evanston mean site EUI",_xlfn.XLOOKUP("All covered buildings|"&$A38,'baseline values'!$M:$M,'baseline values'!$F:$F,""),""))))) -> 46.3 | G38: =IF(OR($E38="",F38=""),"",MAX(0,$E38*(1-SUM(F38)))) | H38: =IF(G38="","",COUNTIFS('building level site EUI'!$B:$B,$A38,'building level site EUI'!$E:$E,">"&G38)) | I38: =IF(OR(H38="",$B38="", $B38=0),"",H38/$B38) | K38: =IF(OR($E38="",F38="",J38=""),"",MAX(0,$E38*(1-SUM(F38,J38)))) | L38: =IF(K38="","",COUNTIFS('building level site EUI'!$B:$B,$A38,'building level site EUI'!$E:$E,">"&K38)) | M38: =IF(OR(L38="",$B38="", $B38=0),"",L38/$B38) | N38: 0 | O38: =IF(OR($E38="",F38="",J38="",N38=""),"",MAX(0,$E38*(1-SUM(F38,J38,N38)))) | P38: =IF(O38="","",COUNTIFS('building level site EUI'!$B:$B,$A38,'building level site EUI'!$E:$E,">"&O38)) | Q38: =IF(OR(P38="",$B38="", $B38=0),"",P38/$B38) | S38: =IF(OR($E38="",F38="",J38="",N38="",R38=""),"",MAX(0,$E38*(1-SUM(F38,J38,N38,R38)))) | T38: =IF(S38="","",COUNTIFS('building level site EUI'!$B:$B,$A38,'building level site EUI'!$E:$E,">"&S38)) | U38: =IF(OR(T38="",$B38="", $B38=0),"",T38/$B38) | W38: =IF(OR($E38="",F38="",J38="",N38="",R38="",V38=""),"",MAX(0,$E38*(1-SUM(F38,J38,N38,R38,V38)))) | X38: =IF(W38="","",COUNTIFS('building level site EUI'!$B:$B,$A38,'building level site EUI'!$E:$E,">"&W38)) | Y38: =IF(OR(X38="",$B38="", $B38=0),"",X38/$B38) | Z38: =IF(OR($E38="",W38="", $E38=0),"",($E38-W38)/$E38)
