Workbook

Sheet annual site EUI clean
A1: Status | B1: Evanston Building ID | C1: CBL Address Line 1 | D1: National Median Site EUI (kBtu/ft²) | E1: Site EUI (kBtu/ft²) | F1: Weather Normalized Site EUI (kBtu/ft²) | G1: Direct GHG Emissions (Metric Tons CO2e) | H1: Total (Location-Based) GHG Emissions (Metric Tons CO2e) | I1: Total GHG Emissions | J1: Total GHG Emissions Intensity | K1: Property GFA - Calculated (Buildings and Parking) (ft²) | L1: Property GFA - Calculated (Buildings) (ft²) | M1: Property GFA - Self-Reported (ft²) | N1: Building Size GFA | O1: Electricity Use - Grid Purchase and Generated from Onsite Renewable Systems (kWh) | P1: Natural Gas Use (kBtu) | Q1: Natural Gas Use (therms) | R1: Electricity Use - Grid Purchase and Generated from Onsite Renewable Systems (kBtu) | S1: Largest Property Use Type | T1: National Median Reference Property Type | U1: Building Type | V1: Year Built | W1: Year | X1: Property Type Selected | Y1: Suggested ESPM Broad Category | Z1: Site EUI Final for Analysis | AA1: Site EUI Imputation Method | AB1: Site EUI Median from Other Available Years | AC1: Site EUI Average from Other Available Years | AD1: Years Used for Other-Year Imputation | AE1: q1 | AF1: q3 | AG1: interquartile | AH1: lower site EUI outlier threshold | AI1: upper site EUI outlier threshold | AJ1: is site EUI outlier
A2: In Compliance | B2: 108094 | D2: 88.4 | E2: 81 | K2: 55000 | L2: 55000 | M2: 55000 | O2: 115812.4 | Q2: 40593.32 | S2: Multifamily Housing | T2: Fannie Mae Industry Survey - Multifamily | U2: Type 2 | V2: 1913 | W2: 2021 | X2: Multifamily Housing | Y2: Lodging/residential | Z2: 81 | AA2: Original Site EUI available | AE2: 54.4 | AF2: 85.35 | AG2: 30.95 | AH2: 7.97 | AI2: 131.78 | AJ2: FALSE
A3: In Compliance | B3: 103799 | D3: 77.6 | E3: 99.1 | F3: 111.6 | K3: 82248 | L3: 82248 | M3: 82248 | O3: 248332 | Q3: 73058.4 | S3: K-12 School | T3: CBECS - Elementary/Middle & High School | U3: Type 2 | V3: 1922 | W3: 2021 | X3: K-12 School | Y3: Education | Z3: 99.1 | AA3: Original Site EUI available | AE3: 49.2 | AF3: 68.45 | AG3: 19.25 | AH3: 20.33 | AI3: 97.32 | AJ3: TRUE
A4: In Compliance | B4: 100707 | D4: 297.4 | E4: 298 | F4: 308.8 | K4: 103131 | L4: 53471 | M4: 53471 | O4: 2411725 | Q4: 77041.68 | S4: Supermarket/Grocery Store | T4: CBECS - Grocery Store/Food Market | U4: Type 2 | V4: 2015 | W4: 2021 | X4: Supermarket/Grocery Store | Y4: Food sales and service | Z4: 298 | AA4: Original Site EUI available | AE4: 211.25 | AF4: 320.4 | AG4: 109.15 | AH4: 47.53 | AI4: 484.12 | AJ4: FALSE
A5: In Compliance | B5: 106516 | D5: 421.6 | E5: 435.2 | F5: 450.1 | K5: 60139 | L5: 32014 | M5: 32014 | O5: 2111508 | Q5: 67274.53 | S5: Supermarket/Grocery Store | T5: CBECS - Grocery Store/Food Market | U5: Type 3 | V5: 1997 | W5: 2021 | X5: Supermarket/Grocery Store | Y5: Food sales and service | Z5: 435.2 | AA5: Original Site EUI available | AE5: 211.25 | AF5: 320.4 | AG5: 109.15 | AH5: 47.53 | AI5: 484.12 | AJ5: FALSE
A6: In Compliance | B6: 100191 | D6: 85.5 | E6: 67 | F6: 71.8 | K6: 537173 | L6: 359252 | M6: 359252 | O6: 2276498 | Q6: 163036.77 | S6: Multifamily Housing | T6: Fannie Mae Industry Survey - Multifamily | U6: Type 1 | V6: 2003 | W6: 2021 | X6: Multifamily Housing | Y6: Lodging/residential | Z6: 67 | AA6: Original Site EUI available | AE6: 54.4 | AF6: 85.35 | AG6: 30.95 | AH6: 7.97 | AI6: 131.78 | AJ6: FALSE
A7: In Compliance | B7: 100855 | D7: 69.9 | E7: 93.9 | F7: 95.4 | K7: 204068 | L7: 179233 | M7: 179233 | O7: 2033141 | Q7: 98963.35 | S7: Multifamily Housing | T7: Fannie Mae Industry Survey - Multifamily | U7: Type 1 | V7: 2012 | W7: 2021 | X7: Multifamily Housing | Y7: Lodging/residential | Z7: 93.9 | AA7: Original Site EUI available | AE7: 54.4 | AF7: 85.35 | AG7: 30.95 | AH7: 7.97 | AI7: 131.78 | AJ7: FALSE
A8: In Compliance | B8: 100274 | D8: 70.5 | E8: 89.7 | F8: 93.5 | K8: 397247 | L8: 317683 | M8: 317683 | O8: 4142410 | Q8: 143598.09 | S8: Multifamily Housing | T8: Fannie Mae Industry Survey - Multifamily | U8: Type 1 | V8: 2009 | W8: 2021 | X8: Multifamily Housing | Y8: Lodging/residential | Z8: 89.7 | AA8: Original Site EUI available | AE8: 54.4 | AF8: 85.35 | AG8: 30.95 | AH8: 7.97 | AI8: 131.78 | AJ8: FALSE
A9: In Compliance | B9: 108012 | D9: 85.2 | E9: 89.5 | K9: 42925 | L9: 42925 | M9: 42925 | O9: 86351.8 | Q9: 35464 | S9: Multifamily Housing | T9: Fannie Mae Industry Survey - Multifamily | U9: Type 3 | V9: 1920 | W9: 2021 | X9: Multifamily Housing | Y9: Lodging/residential | Z9: 89.5 | AA9: Original Site EUI available | AE9: 54.4 | AF9: 85.35 | AG9: 30.95 | AH9: 7.97 | AI9: 131.78 | AJ9: FALSE
A10: In Compliance | B10: 106267 | D10: 82.9 | E10: 52.9 | F10: 56.4 | K10: 33202 | L10: 28388 | M10: 28388 | O10: 94149.3 | Q10: 11802.55 | S10: Multifamily Housing | T10: Fannie Mae Industry Survey - Multifamily | U10: Type 3 | V10: 1964 | W10: 2021 | X10: Multifamily Housing | Y10: Lodging/residential | Z10: 52.9 | AA10: Original Site EUI available | AE10: 54.4 | AF10: 85.35 | AG10: 30.95 | AH10: 7.97 | AI10: 131.78 | AJ10: FALSE
A11: In Compliance | B11: 100623 | D11: 81 | E11: 161.6 | F11: 171.3 | K11: 36996 | L11: 36996 | M11: 36996 | O11: 657891 | Q11: 37331.99 | S11: Outpatient Rehabilitation/Physical Therapy | T11: CBECS - Outpatient Healthcare | U11: Type 3 | V11: 1962 | W11: 2021 | X11: Outpatient Rehabilitation/Physical Therapy | Y11: Healthcare | Z11: 161.6 | AA11: Original Site EUI available | AE11: 156.05 | AF11: 159.75 | AG11: 3.7 | AH11: 150.5 | AI11: 165.3 | AJ11: FALSE
A12: In Compliance | B12: 101619 | D12: 82.3 | E12: 89.1 | K12: 37120 | L12: 34000 | M12: 34000 | O12: 123640.7 | Q12: 26089 | S12: Multifamily Housing | T12: Fannie Mae Industry Survey - Multifamily | U12: Type 3 | V12: 1969 | W12: 2021 | X12: Multifamily Housing | Y12: Lodging/residential | Z12: 89.1 | AA12: Original Site EUI available | AE12: 54.4 | AF12: 85.35 | AG12: 30.95 | AH12: 7.97 | AI12: 131.78 | AJ12: FALSE
A13: In Compliance | B13: 107927 | D13: 91.8 | E13: 80.7 | K13: 24200 | L13: 22400 | M13: 22400 | O13: 71750.2 | Q13: 15627.99 | S13: Multifamily Housing | T13: Fannie Mae Industry Survey - Multifamily | U13: Type 3 | V13: 1929 | W13: 2021 | X13: Multifamily Housing | Y13: Lodging/residential | Z13: 80.7 | AA13: Original Site EUI available | AE13: 54.4 | AF13: 85.35 | AG13: 30.95 | AH13: 7.97 | AI13: 131.78 | AJ13: FALSE
A14: In Compliance | B14: 103196 | D14: 63.8 | E14: 92.4 | K14: 26000 | L14: 26000 | M14: 26000 | O14: 480472.3 | Q14: 7626 | S14: Office | T14: CBECS - Office & Bank/Financial | U14: Type 3 | V14: 1910 | W14: 2021 | X14: Office | Y14: Office | Z14: 92.4 | AA14: Original Site EUI available | AE14: 58.88 | AF14: 118.35 | AG14: 59.47 | AH14: -30.34 | AI14: 207.56 | AJ14: FALSE
A15: In Compliance | B15: 104424 | D15: 78.3 | E15: 99.4 | F15: 110.1 | K15: 234760 | L15: 173560 | M15: 173560 | O15: 1324537 | Q15: 127389.54 | S15: Multifamily Housing | T15: Fannie Mae Industry Survey - Multifamily | U15: Type 1 | V15: 2002 | W15: 2021 | X15: Multifamily Housing | Y15: Lodging/residential | Z15: 99.4 | AA15: Original Site EUI available | AE15: 54.4 | AF15: 85.35 | AG15: 30.95 | AH15: 7.97 | AI15: 131.78 | AJ15: FALSE
A16: In Compliance | B16: 105522 | D16: 75 | E16: 49.5 | K16: 55580 | L16: 55580 | M16: 55580 | O16: 169012 | Q16: 21720 | S16: Multifamily Housing | T16: Fannie Mae Industry Survey - Multifamily | U16: Type 2 | V16: 1934 | W16: 2021 | X16: Multifamily Housing | Y16: Lodging/residential | Z16: 49.5 | AA16: Original Site EUI available | AE16: 54.4 | AF16: 85.35 | AG16: 30.95 | AH16: 7.97 | AI16: 131.78 | AJ16: FALSE
A17: In Compliance | B17: 107762 | D17: 55.8 | E17: 42.9 | F17: 41.8 | K17: 55216 | L17: 55216 | M17: 55216 | O17: 409417 | Q17: 9724.88 | S17: Multifamily Housing | T17: Fannie Mae Industry Survey - Multifamily | U17: Type 2 | V17: 1990 | W17: 2021 | X17: Multifamily Housing | Y17: Lodging/residential | Z17: 42.9 | AA17: Original Site EUI available | AE17: 54.4 | AF17: 85.35 | AG17: 30.95 | AH17: 7.97 | AI17: 131.78 | AJ17: FALSE
A18: In Compliance | B18: 106599 | D18: 75.7 | E18: 55.2 | F18: 55.2 | K18: 32604 | L18: 32604 | M18: 32604 | O18: 130239 | Q18: 13566 | S18: Multifamily Housing | T18: Fannie Mae Industry Survey - Multifamily | U18: Type 3 | V18: 1930 | W18: 2021 | X18: Multifamily Housing | Y18: Lodging/residential | Z18: 55.2 | AA18: Original Site EUI available | AE18: 54.4 | AF18: 85.35 | AG18: 30.95 | AH18: 7.97 | AI18: 131.78 | AJ18: FALSE
A19: In Compliance | B19: 109173 | D19: 97.7 | E19: 55.4 | K19: 67500 | L19: 66000 | M19: 66000 | O19: 89698.3 | Q19: 33471 | S19: Multifamily Housing | T19: Fannie Mae Industry Survey - Multifamily | U19: Type 2 | V19: 1930 | W19: 2021 | X19: Multifamily Housing | Y19: Lodging/residential | Z19: 55.4 | AA19: Original Site EUI available | AE19: 54.4 | AF19: 85.35 | AG19: 30.95 | AH19: 7.97 | AI19: 131.78 | AJ19: FALSE
A20: In Compliance | B20: 104194 | D20: 254.5 | E20: 315.5 | F20: 332.5 | K20: 37001 | L20: 37001 | M20: 37001 | O20: 1807286 | Q20: 55083 | S20: Supermarket/Grocery Store | T20: CBECS - Grocery Store/Food Market | U20: Type 3 | V20: 1984 | W20: 2021 | X20: Supermarket/Grocery Store | Y20: Food sales and service | Z20: 315.5 | AA20: Original Site EUI available | AE20: 211.25 | AF20: 320.4 | AG20: 109.15 | AH20: 47.53 | AI20: 484.12 | AJ20: FALSE
A21: In Compliance | B21: 108823 | D21: 142 | E21: 155.2 | F21: 167.5 | K21: 13814 | L21: 13814 | M21: 16382 | O21: 18196.7 | Q21: 20822.11 | S21: Office | T21: CBECS - Office & Bank/Financial | U21: Type 2 | V21: 1923 | W21: 2021 | X21: Office | Y21: Office | Z21: 155.2 | AA21: Original Site EUI available | AE21: 58.88 | AF21: 118.35 | AG21: 59.47 | AH21: -30.34 | AI21: 207.56 | AJ21: FALSE
A22: In Compliance | B22: 101207 | D22: 130.8 | E22: 146.8 | K22: 32291 | L22: 26522 | M22: 26522 | O22: 415688 | Q22: 24764 | S22: Financial Office | T22: CBECS - Office & Bank/Financial | U22: Type 3 | V22: 1929 | W22: 2021 | X22: Financial Office | Y22: Banking/financial services | Z22: 146.8 | AA22: Original Site EUI available | AE22: 135.35 | AF22: 147.95 | AG22: 12.6 | AH22: 116.45 | AI22: 166.85 | AJ22: FALSE
A23: In Compliance | B23: 100377 | D23: 60.7 | E23: 67.4 | K23: 28555 | L23: 28555 | M23: 28555 | O23: 135445 | Q23: 14637 | S23: Office | T23: CBECS - Other | U23: Type 3 | V23: 1919 | W23: 2021 | X23: Office | Y23: Office | Z23: 67.4 | AA23: Original Site EUI available | AE23: 58.88 | AF23: 118.35 | AG23: 59.47 | AH23: -30.34 | AI23: 207.56 | AJ23: FALSE
A24: In Compliance | B24: 105769 | D24: 92.6 | E24: 59.8 | K24: 31464 | L24: 31464 | M24: 31464 | O24: 71056 | Q24: 16380 | S24: Multifamily Housing | T24: Fannie Mae Industry Survey - Multifamily | U24: Type 3 | V24: 1920 | W24: 2021 | X24: Multifamily Housing | Y24: Lodging/residential | Z24: 59.8 | AA24: Original Site EUI available | AE24: 54.4 | AF24: 85.35 | AG24: 30.95 | AH24: 7.97 | AI24: 131.78 | AJ24: FALSE
A25: In Compliance | B25: 108176 | D25: 85.3 | E25: 36.9 | K25: 28896 | L25: 28896 | M25: 28896 | O25: 59831 | Q25: 8612.25 | S25: Multifamily Housing | T25: Fannie Mae Industry Survey - Multifamily | U25: Type 3 | V25: 1920 | W25: 2021 | X25: Multifamily Housing | Y25: Lodging/residential | Z25: 36.9 | AA25: Original Site EUI available | AE25: 54.4 | AF25: 85.35 | AG25: 30.95 | AH25: 7.97 | AI25: 131.78 | AJ25: FALSE
A26: In Compliance | B26: 102700 | D26: 90.5 | E26: 74.7 | K26: 50283 | L26: 49000 | M26: 49000 | O26: 99244 | Q26: 33239 | S26: Multifamily Housing | T26: Fannie Mae Industry Survey - Multifamily | U26: Type 3 | V26: 1929 | W26: 2021 | X26: Multifamily Housing | Y26: Lodging/residential | Z26: 74.7 | AA26: Original Site EUI available | AE26: 54.4 | AF26: 85.35 | AG26: 30.95 | AH26: 7.97 | AI26: 131.78 | AJ26: FALSE
A27: In Compliance | B27: 109338 | D27: 80.5 | E27: 35.8 | K27: 37068 | L27: 37068 | M27: 37068 | O27: 89294 | Q27: 10224 | S27: Multifamily Housing | T27: Fannie Mae Industry Survey - Multifamily | U27: Type 3 | V27: 1920 | W27: 2021 | X27: Multifamily Housing | Y27: Lodging/residential | Z27: 35.8 | AA27: Original Site EUI available | AE27: 54.4 | AF27: 85.35 | AG27: 30.95 | AH27: 7.97 | AI27: 131.78 | AJ27: FALSE
A28: In Compliance | B28: 106767 | D28: 111.1 | E28: 113.5 | F28: 113.5 | K28: 31438 | L28: 28738 | M28: 28738 | O28: 53693.5 | Q28: 30795.66 | S28: Multifamily Housing | T28: Fannie Mae Industry Survey - Multifamily | U28: Type 3 | V28: 1922 | W28: 2021 | X28: Multifamily Housing | Y28: Lodging/residential | Z28: 113.5 | AA28: Original Site EUI available | AE28: 54.4 | AF28: 85.35 | AG28: 30.95 | AH28: 7.97 | AI28: 131.78 | AJ28: FALSE
A29: In Compliance | B29: 109008 | D29: 87.3 | E29: 90 | F29: 101 | K29: 25000 | L29: 25000 | M29: 25000 | O29: 72197 | Q29: 20036.58 | S29: Multifamily Housing | T29: Fannie Mae Industry Survey - Multifamily | U29: Type 3 | V29: 1930 | W29: 2021 | X29: Multifamily Housing | Y29: Lodging/residential | Z29: 90 | AA29: Original Site EUI available | AE29: 54.4 | AF29: 85.35 | AG29: 30.95 | AH29: 7.97 | AI29: 131.78 | AJ29: FALSE
A30: In Compliance | B30: 102117 | D30: 94.5 | E30: 103.2 | F30: 114.4 | K30: 26825 | L30: 26825 | M30: 26825 | O30: 92612.2 | Q30: 24531 | S30: Multifamily Housing | T30: Fannie Mae Industry Survey - Multifamily | U30: Type 3 | V30: 1910 | W30: 2021 | X30: Multifamily Housing | Y30: Lodging/residential | Z30: 103.2 | AA30: Original Site EUI available | AE30: 54.4 | AF30: 85.35 | AG30: 30.95 | AH30: 7.97 | AI30: 131.78 | AJ30: FALSE
A31: Received but not in compliance: Error | B31: 101703 | D31: 147.7 | E31: 100 | F31: 100 | K31: 94962 | L31: 94962 | M31: 94962 | O31: 274878.8 | Q31: 85569.63 | S31: College/University | T31: CBECS - College/University | U31: Type 2 | V31: 1941 | W31: 2021 | X31: College/University | Y31: Education | Z31: 100 | AA31: Original Site EUI available | AE31: 102.25 | AF31: 158.77 | AG31: 56.52 | AH31: 17.46 | AI31: 243.56 | AJ31: FALSE
A32: In Compliance | B32: 102947 | D32: 62.1 | E32: 64.7 | F32: 70.8 | K32: 52167 | L32: 35367 | M32: 35367 | O32: 219391.2 | Q32: 15395.25 | S32: K-12 School | T32: CBECS - Elementary/Middle & High School | U32: Type 3 | V32: 1959 | W32: 2021 | X32: K-12 School | Y32: Education | Z32: 64.7 | AA32: Original Site EUI available | AE32: 49.2 | AF32: 68.45 | AG32: 19.25 | AH32: 20.33 | AI32: 97.32 | AJ32: FALSE
A33: In Compliance | B33: 106831 | D33: 69.1 | E33: 69.7 | F33: 77 | K33: 168073 | L33: 112898 | M33: 112898 | O33: 630579.4 | Q33: 57221.55 | S33: K-12 School | T33: CBECS - Elementary/Middle & High School | U33: Type 1 | V33: 1966 | W33: 2021 | X33: K-12 School | Y33: Education | Z33: 69.7 | AA33: Original Site EUI available | AE33: 49.2 | AF33: 68.45 | AG33: 19.25 | AH33: 20.33 | AI33: 97.32 | AJ33: FALSE
A34: In Compliance | B34: 108591 | D34: 102 | E34: 115.8 | F34: 128.3 | K34: 25000 | L34: 25000 | M34: 25000 | O34: 97192 | Q34: 25635.61 | S34: Multifamily Housing | T34: Fannie Mae Industry Survey - Multifamily | U34: Type 3 | V34: 1930 | W34: 2021 | X34: Multifamily Housing | Y34: Lodging/residential | Z34: 115.8 | AA34: Original Site EUI available | AE34: 54.4 | AF34: 85.35 | AG34: 30.95 | AH34: 7.97 | AI34: 131.78 | AJ34: FALSE
A35: In Compliance | B35: 105604 | D35: 52.8 | E35: 57 | F35: 59.9 | K35: 91600 | L35: 91600 | M35: 91600 | O35: 1046661 | Q35: 16534 | S35: Multifamily Housing | T35: Fannie Mae Industry Survey - Multifamily | U35: Type 2 | V35: 1922 | W35: 2021 | X35: Multifamily Housing | Y35: Lodging/residential | Z35: 57 | AA35: Original Site EUI available | AE35: 54.4 | AF35: 85.35 | AG35: 30.95 | AH35: 7.97 | AI35: 131.78 | AJ35: FALSE
A36: In Compliance | B36: 107264 | D36: 66.7 | E36: 63.8 | F36: 71.1 | K36: 74100 | L36: 57700 | M36: 57700 | O36: 247615.3 | Q36: 28381.8 | S36: K-12 School | T36: CBECS - Elementary/Middle & High School | U36: Type 2 | V36: 1954 | W36: 2021 | X36: K-12 School | Y36: Education | Z36: 63.8 | AA36: Original Site EUI available | AE36: 49.2 | AF36: 68.45 | AG36: 19.25 | AH36: 20.33 | AI36: 97.32 | AJ36: FALSE
A37: In Compliance | B37: 105521 | D37: 84.2 | E37: 80.6 | F37: 87.6 | K37: 61600 | L37: 61600 | M37: 61600 | O37: 274490.4 | Q37: 40277 | S37: Multifamily Housing | T37: Fannie Mae Industry Survey - Multifamily | U37: Type 2 | V37: 1958 | W37: 2021 | X37: Multifamily Housing | Y37: Lodging/residential | Z37: 80.6 | AA37: Original Site EUI available | AE37: 54.4 | AF37: 85.35 | AG37: 30.95 | AH37: 7.97 | AI37: 131.78 | AJ37: FALSE
A38: In Compliance | B38: 104028 | D38: 81.6 | E38: 64.5 | F38: 70.2 | K38: 53500 | L38: 53500 | M38: 53500 | O38: 109781 | Q38: 30777 | S38: Multifamily Housing | T38: Fannie Mae Industry Survey - Multifamily | U38: Type 2 | V38: 1977 | W38: 2021 | X38: Multifamily Housing | Y38: Lodging/residential | Z38: 64.5 | AA38: Original Site EUI available | AE38: 54.4 | AF38: 85.35 | AG38: 30.95 | AH38: 7.97 | AI38: 131.78 | AJ38: FALSE
A39: In Compliance | B39: 106519 | D39: 97.6 | E39: 89.5 | K39: 22716 | L39: 21416 | M39: 21416 | O39: 51430 | Q39: 17402 | S39: Multifamily Housing | T39: Fannie Mae Industry Survey - Multifamily | U39: Type 3 | V39: 1920 | W39: 2021 | X39: Multifamily Housing | Y39: Lodging/residential | Z39: 89.5 | AA39: Original Site EUI available | AE39: 54.4 | AF39: 85.35 | AG39: 30.95 | AH39: 7.97 | AI39: 131.78 | AJ39: FALSE
A40: In Compliance | B40: 104193 | D40: 62.3 | E40: 65.9 | F40: 72.6 | K40: 65170 | L40: 65170 | M40: 65170 | O40: 344726.9 | Q40: 31198.36 | S40: K-12 School | T40: CBECS - Elementary/Middle & High School | U40: Type 2 | V40: 1940 | W40: 2021 | X40: K-12 School | Y40: Education | Z40: 65.9 | AA40: Original Site EUI available | AE40: 49.2 | AF40: 68.45 | AG40: 19.25 | AH40: 20.33 | AI40: 97.32 | AJ40: FALSE
...

Sheet flagged site EUI outliers
A1: Status | B1: Evanston Building ID | C1: CBL Address Line 1 | D1: National Median Site EUI (kBtu/ft²) | E1: Site EUI (kBtu/ft²) | F1: Weather Normalized Site EUI (kBtu/ft²) | G1: Direct GHG Emissions (Metric Tons CO2e) | H1: Total (Location-Based) GHG Emissions (Metric Tons CO2e) | I1: Total GHG Emissions | J1: Total GHG Emissions Intensity | K1: Property GFA - Calculated (Buildings and Parking) (ft²) | L1: Property GFA - Calculated (Buildings) (ft²) | M1: Property GFA - Self-Reported (ft²) | N1: Building Size GFA | O1: Electricity Use - Grid Purchase and Generated from Onsite Renewable Systems (kWh) | P1: Natural Gas Use (kBtu) | Q1: Natural Gas Use (therms) | R1: Electricity Use - Grid Purchase and Generated from Onsite Renewable Systems (kBtu) | S1: Largest Property Use Type | T1: National Median Reference Property Type | U1: Building Type | V1: Year Built | W1: Year | X1: Property Type Selected | Y1: Suggested ESPM Broad Category | Z1: Site EUI Final for Analysis | AA1: Site EUI Imputation Method | AB1: Site EUI Median from Other Available Years | AC1: Site EUI Average from Other Available Years | AD1: Years Used for Other-Year Imputation | AE1: q1 | AF1: q3 | AG1: interquartile | AH1: lower site EUI outlier threshold | AI1: upper site EUI outlier threshold | AJ1: is site EUI outlier
A2: In Compliance | B2: 108989 | D2: 142.7 | E2: 730.3 | F2: 730.3 | K2: 91087 | L2: 91087 | M2: 91087 | O2: 2407208 | Q2: 583116.49 | S2: College/University | T2: CBECS - College/University | U2: Type 2 | V2: 1970 | W2: 2021 | X2: College/University | Y2: Education | Z2: 730.3 | AA2: Original Site EUI available | AE2: 102.25 | AF2: 158.77 | AG2: 56.52 | AH2: 17.46 | AI2: 243.56 | AJ2: TRUE
A3: In Compliance | B3: 108989 | C3: 2205 TECH DR | D3: 139.9 | E3: 638.2 | F3: 638.2 | G3: 2663.01 | K3: 91087 | L3: 91087 | M3: 91087 | O3: 2342443 | P3: 50137173 | Q3: 501371.7 | R3: 7992415.5 | S3: College/University | T3: CBECS - College/University | U3: Type 2 | V3: 1970 | W3: 2024 | X3: College/University | Y3: Education | Z3: 638.2 | AA3: Original Site EUI available | AE3: 102.25 | AF3: 158.77 | AG3: 56.52 | AH3: 17.46 | AI3: 243.56 | AJ3: TRUE
A4: In Compliance | B4: 108989 | D4: 140.4 | E4: 631.3 | F4: 631.3 | K4: 91087 | L4: 91087 | M4: 91087 | O4: 2272844 | Q4: 497503.3 | S4: College/University | T4: CBECS - College/University | U4: Type 2 | V4: 1970 | W4: 2022 | X4: College/University | Y4: Education | Z4: 631.3 | AA4: Original Site EUI available | AE4: 102.25 | AF4: 158.77 | AG4: 56.52 | AH4: 17.46 | AI4: 243.56 | AJ4: TRUE
A5: In Compliance | B5: 108989 | C5: 2205 TECH DR | D5: 137.5 | E5: 594.2 | F5: 594.2 | G5: 2442 | H5: 3581.4 | K5: 91087 | L5: 91087 | M5: 91087 | O5: 2386641 | Q5: 459764.5 | S5: College/University | T5: CBECS - College/University | U5: Type 2 | V5: 1970 | W5: 2023 | X5: College/University | Y5: Education | Z5: 594.2 | AA5: Original Site EUI available | AE5: 102.25 | AF5: 158.77 | AG5: 56.52 | AH5: 17.46 | AI5: 243.56 | AJ5: TRUE
A6: In Compliance | B6: 102600 | C6: 2020 RIDGE AVENUE | D6: 125.5 | E6: 414.6 | F6: 422.4 | G6: 263.3 | K6: 112496 | L6: 112496 | M6: 112496 | O6: 12217340 | P6: 4957301.7 | Q6: 49573 | R6: 41685564 | S6: College/University | T6: CBECS - College/University | U6: Type 1 | V6: 1926 | W6: 2024 | X6: College/University | Y6: Education | Z6: 414.6 | AA6: Original Site EUI available | AE6: 102.25 | AF6: 158.77 | AG6: 56.52 | AH6: 17.46 | AI6: 243.56 | AJ6: TRUE
A7: In Compliance | B7: 102283 | C7: 1881 SHERIDAN ROAD | D7: 149.4 | E7: 280.4 | F7: 280.4 | G7: 498.1 | H7: 629 | K7: 36782 | L7: 36782 | M7: 36782 | O7: 274317.3 | Q7: 93769.9 | S7: College/University | T7: CBECS - College/University | U7: Type 3 | V7: 1915 | W7: 2023 | X7: College/University | Y7: Education | Z7: 280.4 | AA7: Original Site EUI available | AE7: 102.25 | AF7: 158.77 | AG7: 56.52 | AH7: 17.46 | AI7: 243.56 | AJ7: TRUE
A8: In Compliance | B8: 102283 | D8: 149.1 | E8: 277.9 | F8: 277.9 | K8: 36782 | L8: 36782 | M8: 36782 | O8: 276109.1 | Q8: 92812 | S8: College/University | T8: CBECS - College/University | U8: Type 3 | V8: 1915 | W8: 2022 | X8: College/University | Y8: Education | Z8: 277.9 | AA8: Original Site EUI available | AE8: 102.25 | AF8: 158.77 | AG8: 56.52 | AH8: 17.46 | AI8: 243.56 | AJ8: TRUE
A9: In Compliance | B9: 101372 | D9: 130.9 | E9: 250.1 | F9: 250.1 | K9: 49498 | L9: 49498 | M9: 49498 | O9: 684551 | Q9: 100432.34 | S9: College/University | T9: CBECS - College/University | U9: Type 3 | V9: 2001 | W9: 2021 | X9: College/University | Y9: Education | Z9: 250.1 | AA9: Original Site EUI available | AE9: 102.25 | AF9: 158.77 | AG9: 56.52 | AH9: 17.46 | AI9: 243.56 | AJ9: TRUE
A10: In Compliance | B10: 101372 | D10: 131.4 | E10: 246.6 | F10: 246.6 | K10: 49498 | L10: 49498 | M10: 49498 | O10: 663492.3 | Q10: 99426.4 | S10: College/University | T10: CBECS - College/University | U10: Type 3 | V10: 2001 | W10: 2022 | X10: College/University | Y10: Education | Z10: 246.6 | AA10: Original Site EUI available | AE10: 102.25 | AF10: 158.77 | AG10: 56.52 | AH10: 17.46 | AI10: 243.56 | AJ10: TRUE
A11: In Compliance | B11: 101453 | C11: 630 LINCOLN STREET | D11: 172 | E11: 0.1 | F11: 0.1 | G11: 0.06 | K11: 14389 | L11: 14389 | M11: 14389 | O11: 95542.2 | P11: 1200 | Q11: 12 | R11: 325990 | S11: College/University | T11: CBECS - College/University | U11: Type 2 | V11: 1969 | W11: 2024 | X11: College/University | Y11: Education | Z11: 0.1 | AA11: Original Site EUI available | AE11: 102.25 | AF11: 158.77 | AG11: 56.52 | AH11: 17.46 | AI11: 243.56 | AJ11: TRUE
A12: In Compliance | B12: 107246 | C12: 1105 CENTRAL STREET | D12: 84.6 | E12: 218.3 | F12: 231.1 | G12: 94.08 | K12: 10728 | L12: 10728 | M12: 10728 | O12: 167354.5 | P12: 1771346 | Q12: 17713.5 | R12: 571013.6 | S12: Fire Station | T12: CBECS - Fire Station/Police Station | U12: City Building | V12: 2002 | W12: 2024 | X12: Fire Station | Y12: Public services | Z12: 218.3 | AA12: Original Site EUI available | AE12: 92.15 | AF12: 136.2 | AG12: 44.05 | AH12: 26.08 | AI12: 202.27 | AJ12: TRUE
A13: In Compliance | B13: 103799 | D13: 77.6 | E13: 99.1 | F13: 111.6 | K13: 82248 | L13: 82248 | M13: 82248 | O13: 248332 | Q13: 73058.4 | S13: K-12 School | T13: CBECS - Elementary/Middle & High School | U13: Type 2 | V13: 1922 | W13: 2021 | X13: K-12 School | Y13: Education | Z13: 99.1 | AA13: Original Site EUI available | AE13: 49.2 | AF13: 68.45 | AG13: 19.25 | AH13: 20.33 | AI13: 97.32 | AJ13: TRUE
A14: In Compliance | B14: 101768 | D14: 118.1 | E14: 205.9 | F14: 216.5 | K14: 210241 | L14: 173919 | M14: 173919 | O14: 1158984 | Q14: 318510.66 | S14: Multifamily Housing | T14: Fannie Mae Industry Survey - Multifamily | U14: Type 1 | V14: 1947 | W14: 2021 | X14: Multifamily Housing | Y14: Lodging/residential | Z14: 205.9 | AA14: Original Site EUI available | AE14: 54.4 | AF14: 85.35 | AG14: 30.95 | AH14: 7.97 | AI14: 131.78 | AJ14: TRUE
A15: In Compliance | B15: 104275 | C15: 126 MAIN STREET | D15: 103.5 | E15: 177.3 | G15: 178.56 | K15: 20000 | L15: 20000 | M15: 20000 | O15: 54200.5 | P15: 3361700 | Q15: 33617 | R15: 184932.1 | S15: Multifamily Housing | T15: Fannie Mae Industry Survey - Multifamily | U15: Type 3 | V15: 1935 | W15: 2024 | X15: Multifamily Housing | Y15: Lodging/residential | Z15: 177.3 | AA15: Original Site EUI available | AE15: 54.4 | AF15: 85.35 | AG15: 30.95 | AH15: 7.97 | AI15: 131.78 | AJ15: TRUE
A16: In Compliance | B16: 104275 | D16: 106.3 | E16: 174.2 | K16: 20000 | L16: 20000 | M16: 20000 | O16: 35618.7 | Q16: 33617.66 | S16: Multifamily Housing | T16: Fannie Mae Industry Survey - Multifamily | U16: Type 3 | V16: 1935 | W16: 2021 | X16: Multifamily Housing | Y16: Lodging/residential | Z16: 174.2 | AA16: Original Site EUI available | AE16: 54.4 | AF16: 85.35 | AG16: 30.95 | AH16: 7.97 | AI16: 131.78 | AJ16: TRUE
A17: In Compliance | B17: 109238 | D17: 123 | E17: 167.9 | F17: 188.8 | K17: 31923 | L17: 29123 | M17: 29123 | O17: 47918 | Q17: 47270 | S17: Multifamily Housing | T17: Fannie Mae Industry Survey - Multifamily | U17: Type 3 | V17: 1922 | W17: 2021 | X17: Multifamily Housing | Y17: Lodging/residential | Z17: 167.9 | AA17: Original Site EUI available | AE17: 54.4 | AF17: 85.35 | AG17: 30.95 | AH17: 7.97 | AI17: 131.78 | AJ17: TRUE
A18: Received but not in compliance: Error | B18: 109238 | D18: 59.6 | K18: 24645 | L18: 24645 | M18: 24645 | S18: Multifamily Housing | T18: Fannie Mae Industry Survey - Multifamily | U18: Type 3 | V18: 1925 | W18: 2022 | X18: Multifamily Housing | Y18: Lodging/residential | Z18: 162.9 | AA18: Imputed using median Site EUI from same building in other available years | AB18: 162.9 | AC18: 140.83 | AD18: 2021, 2023, 2024 | AE18: 54.4 | AF18: 85.35 | AG18: 30.95 | AH18: 7.97 | AI18: 131.78 | AJ18: TRUE
A19: In Compliance | B19: 109238 | C19: 2121 RIDGE AVENUE | D19: 122.7 | E19: 162.9 | F19: 163.3 | G19: 205.4 | H19: 226.3 | K19: 24645 | L19: 24645 | M19: 24645 | O19: 43764.2 | Q19: 38664 | S19: Multifamily Housing | T19: Fannie Mae Industry Survey - Multifamily | U19: Type 3 | V19: 1925 | W19: 2023 | X19: Multifamily Housing | Y19: Lodging/residential | Z19: 162.9 | AA19: Original Site EUI available | AE19: 54.4 | AF19: 85.35 | AG19: 30.95 | AH19: 7.97 | AI19: 131.78 | AJ19: TRUE
A20: In Compliance | B20: 101768 | C20: 1725 ORRINGTON AVENUE | D20: 111.7 | E20: 162 | F20: 180.8 | G20: 1312.9 | H20: 1797.7 | K20: 210241 | L20: 173919 | M20: 173919 | O20: 1015537 | Q20: 247176.2 | S20: Multifamily Housing | T20: Fannie Mae Industry Survey - Multifamily | U20: Type 1 | V20: 1947 | W20: 2023 | X20: Multifamily Housing | Y20: Lodging/residential | Z20: 162 | AA20: Original Site EUI available | AE20: 54.4 | AF20: 85.35 | AG20: 30.95 | AH20: 7.97 | AI20: 131.78 | AJ20: TRUE
A21: In Compliance | B21: 107100 | C21: 1007 DAVIS STREET | D21: 83.3 | E21: 147.1 | F21: 146.6 | G21: 160.2 | H21: 218.1 | K21: 23320 | L21: 23320 | M21: 23320 | O21: 121235.4 | Q21: 30156 | S21: Multifamily Housing | T21: Fannie Mae Industry Survey - Multifamily | U21: Type 3 | V21: 1925 | W21: 2023 | X21: Multifamily Housing | Y21: Lodging/residential | Z21: 147.1 | AA21: Original Site EUI available | AE21: 54.4 | AF21: 85.35 | AG21: 30.95 | AH21: 7.97 | AI21: 131.78 | AJ21: TRUE
A22: In Compliance | B22: 107100 | C22: 1007 DAVIS STREET | D22: 78.5 | E22: 140.1 | F22: 138.9 | G22: 148 | K22: 23320 | L22: 23320 | M22: 23320 | O22: 140950.8 | P22: 2786400.1 | Q22: 27864 | R22: 480924.1 | S22: Multifamily Housing | T22: Fannie Mae Industry Survey - Multifamily | U22: Type 3 | V22: 1925 | W22: 2024 | X22: Multifamily Housing | Y22: Lodging/residential | Z22: 140.1 | AA22: Original Site EUI available | AE22: 54.4 | AF22: 85.35 | AG22: 30.95 | AH22: 7.97 | AI22: 131.78 | AJ22: TRUE
A23: In Compliance | B23: 101768 | C23: 1725 ORRINGTON AVENUE | D23: 104.4 | E23: 132.6 | F23: 145.4 | G23: 1028.65 | K23: 210241 | L23: 173919 | M23: 173919 | O23: 1083065 | P23: 19366633 | Q23: 193666.3 | R23: 3695417.8 | S23: Multifamily Housing | T23: Fannie Mae Industry Survey - Multifamily | U23: Type 1 | V23: 1947 | W23: 2024 | X23: Multifamily Housing | Y23: Lodging/residential | Z23: 132.6 | AA23: Original Site EUI available | AE23: 54.4 | AF23: 85.35 | AG23: 30.95 | AH23: 7.97 | AI23: 131.78 | AJ23: TRUE
A24: In Compliance | B24: 107679 | C24: 548 MICHIGAN AVENUE | D24: 36.1 | E24: 6.7 | G24: 3.79 | K24: 58512 | L24: 58512 | M24: 58512 | O24: 94226.5 | P24: 71300 | Q24: 713 | R24: 321500.8 | S24: Multifamily Housing | T24: Fannie Mae Industry Survey - Multifamily | U24: Type 2 | V24: 1923 | W24: 2024 | X24: Multifamily Housing | Y24: Lodging/residential | Z24: 6.7 | AA24: Original Site EUI available | AE24: 54.4 | AF24: 85.35 | AG24: 30.95 | AH24: 7.97 | AI24: 131.78 | AJ24: TRUE
A25: In Compliance | B25: 108364 | D25: 116.6 | E25: 413 | F25: 413 | K25: 92531 | L25: 74011 | M25: 74011 | O25: 3529274 | Q25: 185230.42 | S25: Office | T25: CBECS - Office & Bank/Financial | U25: Type 2 | V25: 1965 | W25: 2021 | X25: Office | Y25: Office | Z25: 413 | AA25: Original Site EUI available | AE25: 58.88 | AF25: 118.35 | AG25: 59.47 | AH25: -30.34 | AI25: 207.56 | AJ25: TRUE
A26: In Compliance | B26: 102699 | C26: 1301 CENTRAL STREET | D26: 131.7 | E26: 348.5 | F26: 375.7 | G26: 457.07 | K26: 68896 | L26: 66396 | M26: 66396 | O26: 4259743 | P26: 8605300.3 | Q26: 86053 | R26: 14534243 | S26: Office | T26: CBECS - Office & Bank/Financial | U26: Type 2 | V26: 1957 | W26: 2024 | X26: Office | Y26: Office | Z26: 348.5 | AA26: Original Site EUI available | AE26: 58.88 | AF26: 118.35 | AG26: 59.47 | AH26: -30.34 | AI26: 207.56 | AJ26: TRUE
A27: In Compliance | B27: 108364 | C27: 633 CLARK ST | D27: 158.2 | E27: 236.8 | F27: 236.8 | G27: 819.3 | K27: 92531 | L27: 74011 | M27: 74011 | O27: 616564.7 | P27: 15425162 | Q27: 154251.6 | R27: 2103718.8 | S27: Office | T27: CBECS - Office & Bank/Financial | U27: Type 2 | V27: 1965 | W27: 2024 | X27: Office | Y27: Office | Z27: 236.8 | AA27: Original Site EUI available | AE27: 58.88 | AF27: 118.35 | AG27: 59.47 | AH27: -30.34 | AI27: 207.56 | AJ27: TRUE
A28: In Compliance | B28: 108364 | C28: 633 CLARK ST | D28: 158.3 | E28: 236.5 | F28: 236.5 | G28: 813.4 | H28: 1119.3 | K28: 92531 | L28: 74011 | M28: 74011 | O28: 640759.4 | Q28: 153137.4 | S28: Office | T28: CBECS - Office & Bank/Financial | U28: Type 2 | V28: 1965 | W28: 2023 | X28: Office | Y28: Office | Z28: 236.5 | AA28: Original Site EUI available | AE28: 58.88 | AF28: 118.35 | AG28: 59.47 | AH28: -30.34 | AI28: 207.56 | AJ28: TRUE
A29: In Compliance | B29: 105254 | C29: 2315 CAMPUS DR | E29: 233.2 | F29: 235.3 | G29: 1022.65 | K29: 587908 | L29: 103220 | M29: 103220 | O29: 1411712 | P29: 19253739 | Q29: 192537.4 | R29: 4816761.3 | S29: Parking | U29: Type 1 | V29: 2013 | W29: 2024 | X29: Parking | Y29: Parking | Z29: 233.2 | AA29: Original Site EUI available | AE29: 17.7 | AF29: 98.95 | AG29: 81.25 | AH29: -104.18 | AI29: 220.82 | AJ29: TRUE
A30: In Compliance | B30: 104278 | C30: 655 UNIVERSITY PL | D30: 149.9 | E30: 640.2 | F30: 626.6 | G30: 748.74 | K30: 22881 | L30: 22881 | M30: 22881 | O30: 161961 | P30: 14096793 | Q30: 140967.9 | R30: 552610.9 | S30: Residence Hall/Dormitory | T30: Industry Survey | U30: Type 3 | V30: 1981 | W30: 2024 | X30: Residence Hall/Dormitory | Y30: Lodging/residential | Z30: 640.2 | AA30: Original Site EUI available | AE30: 58.88 | AF30: 200.2 | AG30: 141.32 | AH30: -153.11 | AI30: 412.19 | AJ30: TRUE
A31: In Compliance | B31: 102865 | C31: 2024 N. MCCORMICK BLVD | D31: 80.6 | E31: 45.7 | F31: 57.6 | G31: 13.79 | K31: 6900 | L31: 6900 | M31: 6900 | O31: 16322.8 | P31: 259547.4 | Q31: 2595.5 | R31: 55693.5 | S31: Social/Meeting Hall | T31: CBECS - Social/Meeting | U31: City Building | V31: 1974 | W31: 2024 | X31: Social/Meeting Hall | Y31: Entertainment/public assembly | Z31: 45.7 | AA31: Original Site EUI available | AE31: 57.08 | AF31: 62.97 | AG31: 5.9 | AH31: 48.23 | AI31: 71.82 | AJ31: TRUE
A32: In Compliance | B32: 105107 | C32: 1948 RIDGE AVE | D32: 36 | E32: 397.8 | F32: 414.3 | G32: 52.6 | H32: 2188.4 | K32: 40865 | L32: 40865 | M32: 40865 | O32: 4473753 | Q32: 9900.1 | S32: Vehicle Repair Services | T32: CBECS - Service | U32: Type 3 | V32: 1995 | W32: 2023 | X32: Vehicle Repair Services | Y32: Services | Z32: 397.8 | AA32: Original Site EUI available | AE32: 42.75 | AF32: 79.05 | AG32: 36.3 | AH32: -11.7 | AI32: 133.5 | AJ32: TRUE
A33: In Compliance | B33: 105088 | C33: 222 HARTREY AVENUE | D33: 77 | E33: 152.6 | G33: 722.78 | K33: 101200 | L33: 101200 | M33: 101200 | O33: 538380.5 | P33: 13608001 | Q33: 136080 | R33: 1836954.3 | S33: Vehicle Repair Services | T33: CBECS - Service | U33: Type 1 | V33: 1961 | W33: 2024 | X33: Vehicle Repair Services | Y33: Services | Z33: 152.6 | AA33: Original Site EUI available | AE33: 42.75 | AF33: 79.05 | AG33: 36.3 | AH33: -11.7 | AI33: 133.5 | AJ33: TRUE

Sheet building level site EUI
A1: Evanston Building ID | B1: Property Type Selected | C1: years used | D1: annual record count | E1: median site EUI | F1: mean site EUI | G1: min site EUI | H1: max site EUI
A2: 100772 | B2: College/University | C2: 2021, 2022, 2023, 2024 | D2: 4 | E2: 104.8 | F2: 106.12 | G2: 99.6 | H2: 115.3
A3: 101187 | B3: College/University | C3: 2021, 2022, 2023, 2024 | D3: 4 | E3: 181.45 | F3: 176.68 | G3: 159 | H3: 184.8
A4: 101372 | B4: College/University | C4: 2021, 2022, 2023, 2024 | D4: 4 | E4: 238.35 | F4: 236.78 | G4: 220.3 | H4: 250.1
A5: 101373 | B5: College/University | C5: 2021, 2022, 2023, 2024 | D5: 4 | E5: 201.7 | F5: 202.45 | G5: 196.4 | H5: 210
A6: 101453 | B6: College/University | C6: 2024 | D6: 1 | E6: 0.1 | F6: 0.1 | G6: 0.1 | H6: 0.1
A7: 101703 | B7: College/University | C7: 2021, 2022, 2023, 2024 | D7: 4 | E7: 103.95 | F7: 103.28 | G7: 95.9 | H7: 109.3
A8: 101705 | B8: College/University | C8: 2021, 2022, 2023, 2024 | D8: 4 | E8: 88 | F8: 88.6 | G8: 82.3 | H8: 96.1
A9: 101788 | B9: College/University | C9: 2021, 2022, 2023, 2024 | D9: 4 | E9: 137 | F9: 135 | G9: 128.1 | H9: 137.9
A10: 101840 | B10: College/University | C10: 2024 | D10: 1 | E10: 114.2 | F10: 114.2 | G10: 114.2 | H10: 114.2
A11: 102035 | B11: College/University | C11: 2021, 2022, 2023, 2024 | D11: 4 | E11: 90.4 | F11: 90.1 | G11: 86 | H11: 93.6
A12: 102283 | B12: College/University | C12: 2021, 2022, 2023, 2024 | D12: 4 | E12: 224.55 | F12: 223.4 | G12: 164.1 | H12: 280.4
A13: 102533 | B13: College/University | C13: 2021, 2022, 2023, 2024 | D13: 4 | E13: 108.85 | F13: 111 | G13: 104 | H13: 122.3
... A407: 109838 | B407: Worship Facility | C407: 2023 | D407: 1 | E407: 43.9 | F407: 43.9 | G407: 43.9 | H407: 43.9

Sheet stats with outliers
A1: Property Type Selected | B1: unique building count | C1: annual record count | D1: median site EUI | E1: mean site EUI | F1: min site EUI | G1: max site EUI
A2: College/University | B2: 31 | C2: 116 | D2: 137.55 | E2: 152.67 | F2: 0.1 | G2: 730.3
A3: Distribution Center | B3: 1 | C3: 3 | D3: 39.1 | E3: 38.97 | F3: 37.7 | G3: 40.1
A4: Drinking Water Treatment & Distribution | B4: 1 | C4: 1 | D4: 465.5 | E4: 465.5 | F4: 465.5 | G4: 465.5
A5: Financial Office | B5: 1 | C5: 4 | D5: 141.1 | E5: 142.2 | F5: 135.2 | G5: 151.4
A6: Fire Station | B6: 5 | C6: 10 | D6: 105.75 | E6: 124.47 | F6: 87.4 | G6: 218.3
A7: Hospital (General Medical & Surgical) | B7: 2 | C7: 7 | D7: 208.7 | E7: 222.19 | F7: 188.9 | G7: 263.6
A8: Hotel | B8: 4 | C8: 12 | D8: 80.5 | E8: 81.32 | F8: 46.1 | G8: 122.2
A9: K-12 School | B9: 19 | C9: 67 | D9: 56.8 | E9: 59.18 | F9: 37.5 | G9: 99.1
A10: Laboratory | B10: 8 | C10: 29 | D10: 333.7 | E10: 377.32 | F10: 196.2 | G10: 598.4
A11: Library | B11: 4 | C11: 14 | D11: 88.8 | E11: 102.86 | F11: 50.7 | G11: 169.5
A12: Manufacturing/Industrial Plant | B12: 1 | C12: 2 | D12: 134.9 | E12: 134.9 | F12: 118.5 | G12: 151.3
A13: Medical Office | B13: 4 | C13: 9 | D13: 148.8 | E13: 159.68 | F13: 127 | G13: 195.4
... A38: Worship Facility | B38: 12 | C38: 19 | D38: 56.7 | E38: 70.61 | F38: 15.9 | G38: 148.3

Sheet stats without outliers
A1: Property Type Selected | B1: unique building count | C1: annual record count | D1: median site EUI | E1: mean site EUI | F1: min site EUI | G1: max site EUI
A2: College/University | B2: 29 | C2: 106 | D2: 134.1 | E2: 128.73 | F2: 49.9 | G2: 230.1
A3: Distribution Center | B3: 1 | C3: 3 | D3: 39.1 | E3: 38.97 | F3: 37.7 | G3: 40.1
A4: Drinking Water Treatment & Distribution | B4: 1 | C4: 1 | D4: 465.5 | E4: 465.5 | F4: 465.5 | G4: 465.5
A5: Financial Office | B5: 1 | C5: 4 | D5: 141.1 | E5: 142.2 | F5: 135.2 | G5: 151.4
A6: Fire Station | B6: 5 | C6: 9 | D6: 99.5 | E6: 114.04 | F6: 87.4 | G6: 186.1
A7: Hospital (General Medical & Surgical) | B7: 2 | C7: 7 | D7: 208.7 | E7: 222.19 | F7: 188.9 | G7: 263.6
A8: Hotel | B8: 4 | C8: 12 | D8: 80.5 | E8: 81.32 | F8: 46.1 | G8: 122.2
A9: K-12 School | B9: 18 | C9: 66 | D9: 56.65 | E9: 58.57 | F9: 37.5 | G9: 88.4
A10: Laboratory | B10: 8 | C10: 29 | D10: 333.7 | E10: 377.32 | F10: 196.2 | G10: 598.4
A11: Library | B11: 4 | C11: 14 | D11: 88.8 | E11: 102.86 | F11: 50.7 | G11: 169.5
A12: Manufacturing/Industrial Plant | B12: 1 | C12: 2 | D12: 134.9 | E12: 134.9 | F12: 118.5 | G12: 151.3
A13: Medical Office | B13: 4 | C13: 9 | D13: 148.8 | E13: 159.68 | F13: 127 | G13: 195.4
... A38: Worship Facility | B38: 12 | C38: 19 | D38: 56.7 | E38: 70.61 | F38: 15.9 | G38: 148.3

Sheet baseline values
A1: analysis sample | B1: Property Type Selected | C1: unique building count | D1: annual record count | E1: Evanston median site EUI | F1: Evanston mean site EUI | G1: CZ 5A 25th percentile site EUI | H1: CZ 5A median site EUI | I1: CZ 5A 75th percentile site EUI | J1: ESPM property type | K1: ESPM property count | L1: match status | M1: calculator lookup key
A2: All covered buildings | B2: College/University | C2: 31 | D2: 116 | E2: 137.55 | F2: 152.67 | G2: 59.8 | H2: 92.1 | I2: 146 | J2: College/University | K2: 500-999 | L2: Exact match | M2: All covered buildings|College/University
A3: All covered buildings | B3: Distribution Center | C3: 1 | D3: 3 | E3: 39.1 | F3: 38.97 | G3: 22.7 | H3: 36.1 | I3: 54.6 | J3: Distribution Center | K3: 100-249 | L3: Exact match | M3: All covered buildings|Distribution Center
A4: All covered buildings | B4: Drinking Water Treatment & Distribution | C4: 1 | D4: 1 | E4: 465.5 | F4: 465.5 | G4: 90.7 | H4: 259.8 | I4: 478.8 | J4: Drinking Water Treatment & Distribution | K4: 30-49 | L4: Exact match | M4: All covered buildings|Drinking Water Treatment & Distribution
A5: All covered buildings | B5: Financial Office | C5: 1 | D5: 4 | E5: 141.1 | F5: 142.2 | G5: 48.5 | H5: 66.9 | I5: 98.1 | J5: Financial Office | K5: 50-99 | L5: Exact match | M5: All covered buildings|Financial Office
A6: All covered buildings | B6: Fire Station | C6: 5 | D6: 10 | E6: 105.75 | F6: 124.47 | G6: 58.5 | H6: 83.3 | I6: 108.4 | J6: Fire Station | K6: 250-500 | L6: Exact match | M6: All covered buildings|Fire Station
A7: All covered buildings | B7: Hospital (General Medical & Surgical) | C7: 2 | D7: 7 | E7: 208.7 | F7: 222.19 | G7: 191.7 | H7: 224.6 | I7: 260.5 | J7: Hospital (General Medical & Surgical) | K7: 250-500 | L7: Exact match | M7: All covered buildings|Hospital (General Medical & Surgical)
A8: All covered buildings | B8: Hotel | C8: 4 | D8: 12 | E8: 80.5 | F8: 81.32 | G8: 61.8 | H8: 79.5 | I8: 104 | J8: Hotel | K8: 500-999 | L8: Exact match | M8: All covered buildings|Hotel
A9: All covered buildings | B9: K-12 School | C9: 19 | D9: 67 | E9: 56.8 | F9: 59.18 | G9: 43.3 | H9: 55.3 | I9: 68.8 | J9: K-12 School | K9: 1,000-2,499 | L9: Exact match | M9: All covered buildings|K-12 School
A10: All covered buildings | B10: Laboratory | C10: 8 | D10: 29 | E10: 333.7 | F10: 377.32 | G10: 132.2 | H10: 228.4 | I10: 317.3 | J10: Laboratory | K10: 100-249 | L10: Exact match | M10: All covered buildings|Laboratory
A11: All covered buildings | B11: Library | C11: 4 | D11: 14 | E11: 88.8 | F11: 102.86 | G11: 45.5 | H11: 69.9 | I11: 93.3 | J11: Library | K11: 100-249 | L11: Exact match | M11: All covered buildings|Library
A12: All covered buildings | B12: Manufacturing/Industrial Plant | C12: 1 | D12: 2 | E12: 134.9 | F12: 134.9 | G12: 40.5 | H12: 80.3 | I12: 202.8 | J12: Manufacturing/Industrial Plant | K12: 250-500 | L12: Exact match | M12: All covered buildings|Manufacturing/Industrial Plant
A13: All covered buildings | B13: Medical Office | C13: 4 | D13: 9 | E13: 148.8 | F13: 159.68 | G13: 52.3 | H13: 75.4 | I13: 112.4 | J13: Medical Office | K13: 500-999 | L13: Exact match | M13: All covered buildings|Medical Office
... A74: Without NU | B74: Worship Facility | C74: 11 | D74: 15 | E74: 53.1 | F74: 51.25 | G74: 33.8 | H74: 46.3 | I74: 61.9 | J74: Worship Facility | K74: 100-249 | L74: Exact match | M74: Without NU|Worship Facility

Sheet Site EUI calculator
A1: Property Type Selected | B1: unique building count | C1: annual record count | D1: baseline used | E1: baseline value | F1: 2030 reduction % | G1: calculated 2030 target site EUI | H1: 2030 buildings above target | I1: % of buildings that need to improve | J1: 2035 reduction % | K1: calculated 2035 target site EUI | L1: 2035 buildings above target | M1: % of buildings that need to improve | N1: 2040 reduction % | O1: calculated 2040 target site EUI | P1: 2040 buildings above target | Q1: % of buildings that need to improve | R1: 2045 reduction % | S1: calculated 2045 target site EUI | T1: 2045 buildings above target | U1: % of buildings that need to improve | V1: 2050 reduction % | W1: calculated 2050 target site EUI | X1: 2050 buildings above target | Y1: % of buildings that need to improve | Z1: Total site EUI reduction %
A2: College/University | B2: =IF($A2="","",_xlfn.XLOOKUP("All covered buildings|"&$A2,'baseline values'!$M:$M,'baseline values'!$C:$C,"")) -> 31 | C2: =IF($A2="","",_xlfn.XLOOKUP("All covered buildings|"&$A2,'baseline values'!$M:$M,'baseline values'!$D:$D,"")) -> 116 | D2: Evanston median site EUI | E2: =IF($D2="CZ 5A median site EUI",_xlfn.XLOOKUP("All covered buildings|"&$A2,'baseline values'!$M:$M,'baseline values'!$H:$H,""),IF($D2="CZ 5A 25th percentile site EUI",_xlfn.XLOOKUP("All covered buildings|"&$A2,'baseline values'!$M:$M,'baseline values'!$G:$G,""),IF($D2="CZ 5A 75th percentile site EUI",_xlfn.XLOOKUP("All covered buildings|"&$A2,'baseline values'!$M:$M,'baseline values'!$I:$I,""),IF($D2="Evanston median site EUI",_xlfn.XLOOKUP("All covered buildings|"&$A2,'baseline values'!$M:$M,'baseline values'!$E:$E,""),IF($D2="Evanston mean site EUI",_xlfn.XLOOKUP("All covered buildings|"&$A2,'baseline values'!$M:$M,'baseline values'!$F:$F,""),""))))) -> 137.55 | F2: 0 | G2: =IF(OR($E2="",F2=""),"",MAX(0,$E2*(1-SUM(F2)))) -> 137.55 | H2: =IF(G2="","",COUNTIFS('building level site EUI'!$B:$B,$A2,'building level site EUI'!$E:$E,">"&G2)) -> 13 | I2: =IF(OR(H2="",$B2="", $B2=0),"",H2/$B2) -> 0.41935484 | J2: 0.1 | K2: =IF(OR($E2="",F2="",J2=""),"",MAX(0,$E2*(1-SUM(F2,J2)))) -> 123.795 | L2: =IF(K2="","",COUNTIFS('building level site EUI'!$B:$B,$A2,'building level site EUI'!$E:$E,">"&K2)) -> 17 | M2: =IF(OR(L2="",$B2="", $B2=0),"",L2/$B2) -> 0.5483871 | N2: 0.1 | O2: =IF(OR($E2="",F2="",J2="",N2=""),"",MAX(0,$E2*(1-SUM(F2,J2,N2)))) -> 110.04 | P2: =IF(O2="","",COUNTIFS('building level site EUI'!$B:$B,$A2,'building level site EUI'!$E:$E,">"&O2)) -> 20 | Q2: =IF(OR(P2="",$B2="", $B2=0),"",P2/$B2) -> 0.64516129 | R2: 0.1 | S2: =IF(OR($E2="",F2="",J2="",N2="",R2=""),"",MAX(0,$E2*(1-SUM(F2,J2,N2,R2)))) -> 96.285 | T2: =IF(S2="","",COUNTIFS('building level site EUI'!$B:$B,$A2,'building level site EUI'!$E:$E,">"&S2)) -> 24 | U2: =IF(OR(T2="",$B2="", $B2=0),"",T2/$B2) -> 0.77419355 | V2: 0.1 | W2: =IF(OR($E2="",F2="",J2="",N2="",R2="",V2=""),"",MAX(0,$E2*(1-SUM(F2,J2,N2,R2,V2)))) -> 82.53 | X2: =IF(W2="","",COUNTIFS('building level site EUI'!$B:$B,$A2,'building level site EUI'!$E:$E,">"&W2)) -> 26 | Y2: =IF(OR(X2="",$B2="", $B2=0),"",X2/$B2) -> 0.83870968 | Z2: =IF(OR($E2="",W2="", $E2=0),"",($E2-W2)/$E2) -> 0.4
A3: Distribution Center | B3: =IF($A3="","",_xlfn.XLOOKUP("All covered buildings|"&$A3,'baseline values'!$M:$M,'baseline values'!$C:$C,"")) -> 1 | C3: =IF($A3="","",_xlfn.XLOOKUP("All covered buildings|"&$A3,'baseline values'!$M:$M,'baseline values'!$D:$D,"")) -> 3 | D3: Evanston median site EUI | E3: =IF($D3="CZ 5A median site EUI",_xlfn.XLOOKUP("All covered buildings|"&$A3,'baseline values'!$M:$M,'baseline values'!$H:$H,""),IF($D3="CZ 5A 25th percentile site EUI",_xlfn.XLOOKUP("All covered buildings|"&$A3,'baseline values'!$M:$M,'baseline values'!$G:$G,""),IF($D3="CZ 5A 75th percentile site EUI",_xlfn.XLOOKUP("All covered buildings|"&$A3,'baseline values'!$M:$M,'baseline values'!$I:$I,""),IF($D3="Evanston median site EUI",_xlfn.XLOOKUP("All covered buildings|"&$A3,'baseline values'!$M:$M,'baseline values'!$E:$E,""),IF($D3="Evanston mean site EUI",_xlfn.XLOOKUP("All covered buildings|"&$A3,'baseline values'!$M:$M,'baseline values'!$F:$F,""),""))))) -> 39.1 | F3: 0 | G3: =IF(OR($E3="",F3=""),"",MAX(0,$E3*(1-SUM(F3)))) -> 39.1 | H3: =IF(G3="","",COUNTIFS('building level site EUI'!$B:$B,$A3,'building level site EUI'!$E:$E,">"&G3)) -> 0 | I3: =IF(OR(H3="",$B3="", $B3=0),"",H3/$B3) -> 0 | K3: =IF(OR($E3="",F3="",J3=""),"",MAX(0,$E3*(1-SUM(F3,J3)))) | L3: =IF(K3="","",COUNTIFS('building level site EUI'!$B:$B,$A3,'building level site EUI'!$E:$E,">"&K3)) | M3: =IF(OR(L3="",$B3="", $B3=0),"",L3/$B3) | N3: 0 | O3: =IF(OR($E3="",F3="",J3="",N3=""),"",MAX(0,$E3*(1-SUM(F3,J3,N3)))) | P3: =IF(O3="","",COUNTIFS('building level site EUI'!$B:$B,$A3,'building level site EUI'!$E:$E,">"&O3)) | Q3: =IF(OR(P3="",$B3="", $B3=0),"",P3/$B3) | S3: =IF(OR($E3="",F3="",J3="",N3="",R3=""),"",MAX(0,$E3*(1-SUM(F3,J3,N3,R3)))) | T3: =IF(S3="","",COUNTIFS('building level site EUI'!$B:$B,$A3,'building level site EUI'!$E:$E,">"&S3)) | U3: =IF(OR(T3="",$B3="", $B3=0),"",T3/$B3) | W3: =IF(OR($E3="",F3="",J3="",N3="",R3="",V3=""),"",MAX(0,$E3*(1-SUM(F3,J3,N3,R3,V3)))) | X3: =IF(W3="","",COUNTIFS('building level site EUI'!$B:$B,$A3,'building level site EUI'!$E:$E,">"&W3)) | Y3: =IF(OR(X3="",$B3="", $B3=0),"",X3/$B3) | Z3: =IF(OR($E3="",W3="", $E3=0),"",($E3-W3)/$E3)
A4: Drinking Water Treatment & Distribution | B4: =IF($A4="","",_xlfn.XLOOKUP("All covered buildings|"&$A4,'baseline values'!$M:$M,'baseline values'!$C:$C,"")) -> 1 | C4: =IF($A4="","",_xlfn.XLOOKUP("All covered buildings|"&$A4,'baseline values'!$M:$M,'baseline values'!$D:$D,"")) -> 1 | D4: Evanston median site EUI | E4: =IF($D4="CZ 5A median site EUI",_xlfn.XLOOKUP("All covered buildings|"&$A4,'baseline values'!$M:$M,'baseline values'!$H:$H,""),IF($D4="CZ 5A 25th percentile site EUI",_xlfn.XLOOKUP("All covered buildings|"&$A4,'baseline values'!$M:$M,'baseline values'!$G:$G,""),IF($D4="CZ 5A 75th percentile site EUI",_xlfn.XLOOKUP("All covered buildings|"&$A4,'baseline values'!$M:$M,'baseline values'!$I:$I,""),IF($D4="Evanston median site EUI",_xlfn.XLOOKUP("All covered buildings|"&$A4,'baseline values'!$M:$M,'baseline values'!$E:$E,""),IF($D4="Evanston mean site EUI",_xlfn.XLOOKUP("All covered buildings|"&$A4,'baseline values'!$M:$M,'baseline values'!$F:$F,""),""))))) -> 465.5 | F4: 0 | G4: =IF(OR($E4="",F4=""),"",MAX(0,$E4*(1-SUM(F4)))) -> 465.5 | H4: =IF(G4="","",COUNTIFS('building level site EUI'!$B:$B,$A4,'building level site EUI'!$E:$E,">"&G4)) -> 0 | I4: =IF(OR(H4="",$B4="", $B4=0),"",H4/$B4) -> 0 | K4: =IF(OR($E4="",F4="",J4=""),"",MAX(0,$E4*(1-SUM(F4,J4)))) | L4: =IF(K4="","",COUNTIFS('building level site EUI'!$B:$B,$A4,'building level site EUI'!$E:$E,">"&K4)) | M4: =IF(OR(L4="",$B4="", $B4=0),"",L4/$B4) | N4: 0 | O4: =IF(OR($E4="",F4="",J4="",N4=""),"",MAX(0,$E4*(1-SUM(F4,J4,N4)))) | P4: =IF(O4="","",COUNTIFS('building level site EUI'!$B:$B,$A4,'building level site EUI'!$E:$E,">"&O4)) | Q4: =IF(OR(P4="",$B4="", $B4=0),"",P4/$B4) | S4: =IF(OR($E4="",F4="",J4="",N4="",R4=""),"",MAX(0,$E4*(1-SUM(F4,J4,N4,R4)))) | T4: =IF(S4="","",COUNTIFS('building level site EUI'!$B:$B,$A4,'building level site EUI'!$E:$E,">"&S4)) | U4: =IF(OR(T4="",$B4="", $B4=0),"",T4/$B4) | W4: =IF(OR($E4="",F4="",J4="",N4="",R4="",V4=""),"",MAX(0,$E4*(1-SUM(F4,J4,N4,R4,V4)))) | X4: =IF(W4="","",COUNTIFS('building level site EUI'!$B:$B,$A4,'building level site EUI'!$E:$E,">"&W4)) | Y4: =IF(OR(X4="",$B4="", $B4=0),"",X4/$B4) | Z4: =IF(OR($E4="",W4="", $E4=0),"",($E4-W4)/$E4)
A5: Financial Office | B5: =IF($A5="","",_xlfn.XLOOKUP("All covered buildings|"&$A5,'baseline values'!$M:$M,'baseline values'!$C:$C,"")) -> 1 | C5: =IF($A5="","",_xlfn.XLOOKUP("All covered buildings|"&$A5,'baseline values'!$M:$M,'baseline values'!$D:$D,"")) -> 4 | D5: Evanston median site EUI | E5: =IF($D5="CZ 5A median site EUI",_xlfn.XLOOKUP("All covered buildings|"&$A5,'baseline values'!$M:$M,'baseline values'!$H:$H,""),IF($D5="CZ 5A 25th percentile site EUI",_xlfn.XLOOKUP("All covered buildings|"&$A5,'baseline values'!$M:$M,'baseline values'!$G:$G,""),IF($D5="CZ 5A 75th percentile site EUI",_xlfn.XLOOKUP("All covered buildings|"&$A5,'baseline values'!$M:$M,'baseline values'!$I:$I,""),IF($D5="Evanston median site EUI",_xlfn.XLOOKUP("All covered buildings|"&$A5,'baseline values'!$M:$M,'baseline values'!$E:$E,""),IF($D5="Evanston mean site EUI",_xlfn.XLOOKUP("All covered buildings|"&$A5,'baseline values'!$M:$M,'baseline values'!$F:$F,""),""))))) -> 141.1 | F5: 0 | G5: =IF(OR($E5="",F5=""),"",MAX(0,$E5*(1-SUM(F5)))) -> 141.1 | H5: =IF(G5="","",COUNTIFS('building level site EUI'!$B:$B,$A5,'building level site EUI'!$E:$E,">"&G5)) -> 0 | I5: =IF(OR(H5="",$B5="", $B5=0),"",H5/$B5) -> 0 | K5: =IF(OR($E5="",F5="",J5=""),"",MAX(0,$E5*(1-SUM(F5,J5)))) | L5: =IF(K5="","",COUNTIFS('building level site EUI'!$B:$B,$A5,'building level site EUI'!$E:$E,">"&K5)) | M5: =IF(OR(L5="",$B5="", $B5=0),"",L5/$B5) | N5: 0 | O5: =IF(OR($E5="",F5="",J5="",N5=""),"",MAX(0,$E5*(1-SUM(F5,J5,N5)))) | P5: =IF(O5="","",COUNTIFS('building level site EUI'!$B:$B,$A5,'building level site EUI'!$E:$E,">"&O5)) | Q5: =IF(OR(P5="",$B5="", $B5=0),"",P5/$B5) | S5: =IF(OR($E5="",F5="",J5="",N5="",R5=""),"",MAX(0,$E5*(1-SUM(F5,J5,N5,R5)))) | T5: =IF(S5="","",COUNTIFS('building level site EUI'!$B:$B,$A5,'building level site EUI'!$E:$E,">"&S5)) | U5: =IF(OR(T5="",$B5="", $B5=0),"",T5/$B5) | W5: =IF(OR($E5="",F5="",J5="",N5="",R5="",V5=""),"",MAX(0,$E5*(1-SUM(F5,J5,N5,R5,V5)))) | X5: =IF(W5="","",COUNTIFS('building level site EUI'!$B:$B,$A5,'building level site EUI'!$E:$E,">"&W5)) | Y5: =IF(OR(X5="",$B5="", $B5=0),"",X5/$B5) | Z5: =IF(OR($E5="",W5="", $E5=0),"",($E5-W5)/$E5)
A6: Fire Station | B6: =IF($A6="","",_xlfn.XLOOKUP("All covered buildings|"&$A6,'baseline values'!$M:$M,'baseline values'!$C:$C,"")) -> 5 | C6: =IF($A6="","",_xlfn.XLOOKUP("All covered buildings|"&$A6,'baseline values'!$M:$M,'baseline values'!$D:$D,"")) -> 10 | D6: CZ 5A median site EUI | E6: =IF($D6="CZ 5A median site EUI",_xlfn.XLOOKUP("All covered buildings|"&$A6,'baseline values'!$M:$M,'baseline values'!$H:$H,""),IF($D6="CZ 5A 25th percentile site EUI",_xlfn.XLOOKUP("All covered buildings|"&$A6,'baseline values'!$M:$M,'baseline values'!$G:$G,""),IF($D6="CZ 5A 75th percentile site EUI",_xlfn.XLOOKUP("All covered buildings|"&$A6,'baseline values'!$M:$M,'baseline values'!$I:$I,""),IF($D6="Evanston median site EUI",_xlfn.XLOOKUP("All covered buildings|"&$A6,'baseline values'!$M:$M,'baseline values'!$E:$E,""),IF($D6="Evanston mean site EUI",_xlfn.XLOOKUP("All covered buildings|"&$A6,'baseline values'!$M:$M,'baseline values'!$F:$F,""),""))))) -> 83.3 | G6: =IF(OR($E6="",F6=""),"",MAX(0,$E6*(1-SUM(F6)))) | H6: =IF(G6="","",COUNTIFS('building level site EUI'!$B:$B,$A6,'building level site EUI'!$E:$E,">"&G6)) | I6: =IF(OR(H6="",$B6="", $B6=0),"",H6/$B6) | K6: =IF(OR($E6="",F6="",J6=""),"",MAX(0,$E6*(1-SUM(F6,J6)))) | L6: =IF(K6="","",COUNTIFS('building level site EUI'!$B:$B,$A6,'building level site EUI'!$E:$E,">"&K6)) | M6: =IF(OR(L6="",$B6="", $B6=0),"",L6/$B6) | N6: 0 | O6: =IF(OR($E6="",F6="",J6="",N6=""),"",MAX(0,$E6*(1-SUM(F6,J6,N6)))) | P6: =IF(O6="","",COUNTIFS('building level site EUI'!$B:$B,$A6,'building level site EUI'!$E:$E,">"&O6)) | Q6: =IF(OR(P6="",$B6="", $B6=0),"",P6/$B6) | S6: =IF(OR($E6="",F6="",J6="",N6="",R6=""),"",MAX(0,$E6*(1-SUM(F6,J6,N6,R6)))) | T6: =IF(S6="","",COUNTIFS('building level site EUI'!$B:$B,$A6,'building level site EUI'!$E:$E,">"&S6)) | U6: =IF(OR(T6="",$B6="", $B6=0),"",T6/$B6) | W6: =IF(OR($E6="",F6="",J6="",N6="",R6="",V6=""),"",MAX(0,$E6*(1-SUM(F6,J6,N6,R6,V6)))) | X6: =IF(W6="","",COUNTIFS('building level site EUI'!$B:$B,$A6,'building level site EUI'!$E:$E,">"&W6)) | Y6: =IF(OR(X6="",$B6="", $B6=0),"",X6/$B6) | Z6: =IF(OR($E6="",W6="", $E6=0),"",($E6-W6)/$E6)
A7: Hospital (General Medical & Surgical) | B7: =IF($A7="","",_xlfn.XLOOKUP("All covered buildings|"&$A7,'baseline values'!$M:$M,'baseline values'!$C:$C,"")) -> 2 | C7: =IF($A7="","",_xlfn.XLOOKUP("All covered buildings|"&$A7,'baseline values'!$M:$M,'baseline values'!$D:$D,"")) -> 7 | D7: CZ 5A median site EUI | E7: =IF($D7="CZ 5A median site EUI",_xlfn.XLOOKUP("All covered buildings|"&$A7,'baseline values'!$M:$M,'baseline values'!$H:$H,""),IF($D7="CZ 5A 25th percentile site EUI",_xlfn.XLOOKUP("All covered buildings|"&$A7,'baseline values'!$M:$M,'baseline values'!$G:$G,""),IF($D7="CZ 5A 75th percentile site EUI",_xlfn.XLOOKUP("All covered buildings|"&$A7,'baseline values'!$M:$M,'baseline values'!$I:$I,""),IF($D7="Evanston median site EUI",_xlfn.XLOOKUP("All covered buildings|"&$A7,'baseline values'!$M:$M,'baseline values'!$E:$E,""),IF($D7="Evanston mean site EUI",_xlfn.XLOOKUP("All covered buildings|"&$A7,'baseline values'!$M:$M,'baseline values'!$F:$F,""),""))))) -> 224.6 | G7: =IF(OR($E7="",F7=""),"",MAX(0,$E7*(1-SUM(F7)))) | H7: =IF(G7="","",COUNTIFS('building level site EUI'!$B:$B,$A7,'building level site EUI'!$E:$E,">"&G7)) | I7: =IF(OR(H7="",$B7="", $B7=0),"",H7/$B7) | K7: =IF(OR($E7="",F7="",J7=""),"",MAX(0,$E7*(1-SUM(F7,J7)))) | L7: =IF(K7="","",COUNTIFS('building level site EUI'!$B:$B,$A7,'building level site EUI'!$E:$E,">"&K7)) | M7: =IF(OR(L7="",$B7="", $B7=0),"",L7/$B7) | N7: 0 | O7: =IF(OR($E7="",F7="",J7="",N7=""),"",MAX(0,$E7*(1-SUM(F7,J7,N7)))) | P7: =IF(O7="","",COUNTIFS('building level site EUI'!$B:$B,$A7,'building level site EUI'!$E:$E,">"&O7)) | Q7: =IF(OR(P7="",$B7="", $B7=0),"",P7/$B7) | S7: =IF(OR($E7="",F7="",J7="",N7="",R7=""),"",MAX(0,$E7*(1-SUM(F7,J7,N7,R7)))) | T7: =IF(S7="","",COUNTIFS('building level site EUI'!$B:$B,$A7,'building level site EUI'!$E:$E,">"&S7)) | U7: =IF(OR(T7="",$B7="", $B7=0),"",T7/$B7) | W7: =IF(OR($E7="",F7="",J7="",N7="",R7="",V7=""),"",MAX(0,$E7*(1-SUM(F7,J7,N7,R7,V7)))) | X7: =IF(W7="","",COUNTIFS('building level site EUI'!$B:$B,$A7,'building level site EUI'!$E:$E,">"&W7)) | Y7: =IF(OR(X7="",$B7="", $B7=0),"",X7/$B7) | Z7: =IF(OR($E7="",W7="", $E7=0),"",($E7-W7)/$E7)
A8: Hotel | B8: =IF($A8="","",_xlfn.XLOOKUP("All covered buildings|"&$A8,'baseline values'!$M:$M,'baseline values'!$C:$C,"")) -> 4 | C8: =IF($A8="","",_xlfn.XLOOKUP("All covered buildings|"&$A8,'baseline values'!$M:$M,'baseline values'!$D:$D,"")) -> 12 | D8: CZ 5A median site EUI | E8: =IF($D8="CZ 5A median site EUI",_xlfn.XLOOKUP("All covered buildings|"&$A8,'baseline values'!$M:$M,'baseline values'!$H:$H,""),IF($D8="CZ 5A 25th percentile site EUI",_xlfn.XLOOKUP("All covered buildings|"&$A8,'baseline values'!$M:$M,'baseline values'!$G:$G,""),IF($D8="CZ 5A 75th percentile site EUI",_xlfn.XLOOKUP("All covered buildings|"&$A8,'baseline values'!$M:$M,'baseline values'!$I:$I,""),IF($D8="Evanston median site EUI",_xlfn.XLOOKUP("All covered buildings|"&$A8,'baseline values'!$M:$M,'baseline values'!$E:$E,""),IF($D8="Evanston mean site EUI",_xlfn.XLOOKUP("All covered buildings|"&$A8,'baseline values'!$M:$M,'baseline values'!$F:$F,""),""))))) -> 79.5 | G8: =IF(OR($E8="",F8=""),"",MAX(0,$E8*(1-SUM(F8)))) | H8: =IF(G8="","",COUNTIFS('building level site EUI'!$B:$B,$A8,'building level site EUI'!$E:$E,">"&G8)) | I8: =IF(OR(H8="",$B8="", $B8=0),"",H8/$B8) | K8: =IF(OR($E8="",F8="",J8=""),"",MAX(0,$E8*(1-SUM(F8,J8)))) | L8: =IF(K8="","",COUNTIFS('building level site EUI'!$B:$B,$A8,'building level site EUI'!$E:$E,">"&K8)) | M8: =IF(OR(L8="",$B8="", $B8=0),"",L8/$B8) | N8: 0 | O8: =IF(OR($E8="",F8="",J8="",N8=""),"",MAX(0,$E8*(1-SUM(F8,J8,N8)))) | P8: =IF(O8="","",COUNTIFS('building level site EUI'!$B:$B,$A8,'building level site EUI'!$E:$E,">"&O8)) | Q8: =IF(OR(P8="",$B8="", $B8=0),"",P8/$B8) | S8: =IF(OR($E8="",F8="",J8="",N8="",R8=""),"",MAX(0,$E8*(1-SUM(F8,J8,N8,R8)))) | T8: =IF(S8="","",COUNTIFS('building level site EUI'!$B:$B,$A8,'building level site EUI'!$E:$E,">"&S8)) | U8: =IF(OR(T8="",$B8="", $B8=0),"",T8/$B8) | W8: =IF(OR($E8="",F8="",J8="",N8="",R8="",V8=""),"",MAX(0,$E8*(1-SUM(F8,J8,N8,R8,V8)))) | X8: =IF(W8="","",COUNTIFS('building level site EUI'!$B:$B,$A8,'building level site EUI'!$E:$E,">"&W8)) | Y8: =IF(OR(X8="",$B8="", $B8=0),"",X8/$B8) | Z8: =IF(OR($E8="",W8="", $E8=0),"",($E8-W8)/$E8)
A9: K-12 School | B9: =IF($A9="","",_xlfn.XLOOKUP("All covered buildings|"&$A9,'baseline values'!$M:$M,'baseline values'!$C:$C,"")) -> 19 | C9: =IF($A9="","",_xlfn.XLOOKUP("All covered buildings|"&$A9,'baseline values'!$M:$M,'baseline values'!$D:$D,"")) -> 67 | D9: Evanston median site EUI | E9: =IF($D9="CZ 5A median site EUI",_xlfn.XLOOKUP("All covered buildings|"&$A9,'baseline values'!$M:$M,'baseline values'!$H:$H,""),IF($D9="CZ 5A 25th percentile site EUI",_xlfn.XLOOKUP("All covered buildings|"&$A9,'baseline values'!$M:$M,'baseline values'!$G:$G,""),IF($D9="CZ 5A 75th percentile site EUI",_xlfn.XLOOKUP("All covered buildings|"&$A9,'baseline values'!$M:$M,'baseline values'!$I:$I,""),IF($D9="Evanston median site EUI",_xlfn.XLOOKUP("All covered buildings|"&$A9,'baseline values'!$M:$M,'baseline values'!$E:$E,""),IF($D9="Evanston mean site EUI",_xlfn.XLOOKUP("All covered buildings|"&$A9,'baseline values'!$M:$M,'baseline values'!$F:$F,""),""))))) -> 56.8 | F9: 0 | G9: =IF(OR($E9="",F9=""),"",MAX(0,$E9*(1-SUM(F9)))) -> 56.8 | H9: =IF(G9="","",COUNTIFS('building level site EUI'!$B:$B,$A9,'building level site EUI'!$E:$E,">"&G9)) -> 10 | I9: =IF(OR(H9="",$B9="", $B9=0),"",H9/$B9) -> 0.52631579 | K9: =IF(OR($E9="",F9="",J9=""),"",MAX(0,$E9*(1-SUM(F9,J9)))) | L9: =IF(K9="","",COUNTIFS('building level site EUI'!$B:$B,$A9,'building level site EUI'!$E:$E,">"&K9)) | M9: =IF(OR(L9="",$B9="", $B9=0),"",L9/$B9) | N9: 0 | O9: =IF(OR($E9="",F9="",J9="",N9=""),"",MAX(0,$E9*(1-SUM(F9,J9,N9)))) | P9: =IF(O9="","",COUNTIFS('building level site EUI'!$B:$B,$A9,'building level site EUI'!$E:$E,">"&O9)) | Q9: =IF(OR(P9="",$B9="", $B9=0),"",P9/$B9) | S9: =IF(OR($E9="",F9="",J9="",N9="",R9=""),"",MAX(0,$E9*(1-SUM(F9,J9,N9,R9)))) | T9: =IF(S9="","",COUNTIFS('building level site EUI'!$B:$B,$A9,'building level site EUI'!$E:$E,">"&S9)) | U9: =IF(OR(T9="",$B9="", $B9=0),"",T9/$B9) | W9: =IF(OR($E9="",F9="",J9="",N9="",R9="",V9=""),"",MAX(0,$E9*(1-SUM(F9,J9,N9,R9,V9)))) | X9: =IF(W9="","",COUNTIFS('building level site EUI'!$B:$B,$A9,'building level site EUI'!$E:$E,">"&W9)) | Y9: =IF(OR(X9="",$B9="", $B9=0),"",X9/$B9) | Z9: =IF(OR($E9="",W9="", $E9=0),"",($E9-W9)/$E9)
